Workbook
Name ajuste: #REF!
Name ajuste: #REF!
Name ajustemora: #REF!
Name ajustemora: #REF!
Name AMT.SENIOR: OFFSET([2]Fluxo!$U$5,0,0,[2]Fluxo!$E$21)
Name AMT.SENIOR.CONS: OFFSET([2]Consolidado!$D$4,0,0,COUNTIF([2]Consolidado!$D:$D,">0"))
Name AMT.SUB: OFFSET([3]Fluxo!#REF!,0,0,[3]Fluxo!#REF!)
Name AMT.SUB.CONS: OFFSET([4]Consolidado!$H$4,0,0,COUNTIF([4]Consolidado!$H:$H,">0"))
Name ANO: OFFSET([2]Fluxo!$H$5,0,0,[2]Fluxo!$E$7)
Name ANO.CONS: OFFSET([2]Consolidado!$B$4,0,0,COUNTIF([2]Consolidado!$E:$E,">0"))
Name bbb: OFFSET([3]Fluxo!#REF!,0,0,[3]Fluxo!#REF!)
Name cahng: OFFSET([5]Fluxo!#REF!,0,0,[5]Fluxo!#REF!)
Name cccc: OFFSET([3]Fluxo!#REF!,0,0,[3]Fluxo!#REF!)
Name cccccc: OFFSET([3]Fluxo!#REF!,0,0,[3]Fluxo!#REF!)
Name CUSTO: OFFSET([2]Fluxo!$N$5,0,0,[2]Fluxo!$E$21-1)
Name CUSTO.CONS: OFFSET([2]Consolidado!$J$4,0,0,COUNTIF([2]Consolidado!$J:$J,">0"))
Name danalise: [6]PAINEL!$B$4
Name DATA: OFFSET([2]Fluxo!$I$5,0,0,[2]Fluxo!$E$7)
Name database: Template!$C$5
Name database: #REF!
Name datarecompra: #REF!
Name datarecompra: #REF!
Name datarecompraabril: #REF!
Name datarecompraabril: #REF!
Name dbase: [7]PAINEL!$B$5
Name e: OFFSET([5]Fluxo!#REF!,0,0,[5]Fluxo!#REF!)
Name f: OFFSET([3]Fluxo!#REF!,0,0,[3]Fluxo!#REF!)
Name Feriados: [2]Feriados!$A$2:$A$937
Name JUROS.SENIOR: OFFSET([2]Fluxo!$T$5,0,0,[2]Fluxo!$E$21)
Name JUROS.SENIOR.CONS: OFFSET([2]Consolidado!$C$4,0,0,COUNTIF([2]Consolidado!$C:$C,">0"))
Name JUROS.SUB: OFFSET([3]Fluxo!#REF!,0,0,[3]Fluxo!#REF!)
Name JUROS.SUB.CONS: OFFSET([4]Consolidado!$G$4,0,0,COUNTIF([4]Consolidado!$G:$G,">0"))
Name PERIODO: OFFSET([2]Fluxo!$G$5,0,0,[2]Fluxo!$E$7)
Name PMT.CARTEIRA: OFFSET([2]Fluxo!$K$5,0,0,[2]Fluxo!$E$7)
Name PMT.LIQUIDA: OFFSET([2]Fluxo!$P$5,0,0,[2]Fluxo!$E$7+1)
Name PMT.SENIOR: OFFSET([2]Fluxo!$V$5,0,0,[2]Fluxo!$E$21)
Name PMT.SENIOR.CONS: OFFSET([2]Consolidado!$E$4,0,0,COUNTIF([2]Consolidado!$E:$E,">0"))
Name PMT.SUB: OFFSET([3]Fluxo!#REF!,0,0,[3]Fluxo!#REF!)
Name PMT.SUB.CONS: OFFSET([4]Consolidado!$I$4,0,0,COUNTIF([4]Consolidado!$I:$I,">0"))
Name SD.RECEBIVEIS: OFFSET([2]Fluxo!$J$4,0,0,[2]Fluxo!$E$7+1)
Name SD.RESERVA: OFFSET([2]Fluxo!$O$5,0,0,[2]Fluxo!$E$21-1)
Name SD.SENIOR: OFFSET([2]Fluxo!$S$4,0,0,[2]Fluxo!$E$21)
Name SD.SUB: OFFSET([3]Fluxo!#REF!,0,0,[3]Fluxo!#REF!)
Name xvf: OFFSET(#REF!,0,0,#REF!-1)
Name zxcc: OFFSET(#REF!,0,0,#REF!)
Name zxcxz: OFFSET(#REF!,0,0,COUNTIF(#REF!,">0"))
Name zxcxzc: OFFSET(#REF!,0,0,#REF!+1)

Sheet Template
B2: COMPANHIA PROVÍNCIA DE SECURITIZAÇÃO
B3: Performance Mensal |CRI_94E01S_SWISS PARK
B5: Mês ano referencia | C5: 45777
B6: ID da Carteira | C6: CRI_94E01S_SWISS PARK
B7: Número de contratos ativos | C7: 95
B8: Total Empreendimento | C8: 502
B9: Esperado a receber no Mês de Juros | C9: 139427.24
B10: Esperado de receber no Mês de Amortização | C10: 396214.64
B11: Esperado a receber no Mês de Seguros | C11: 0
B12: Esperado a Receber no Mês Tx Administração | C12: 0
B13: Recebido no Mês de parcelas do Mês - Juros | C13: 127268.83
B14: Recebido no Mês de parcelas do Mês - Amortização | C14: 559526.48
B15: Recebido no Mês de parcelas do Mês - Seguros | C15: 0
B16: Recebido no Mês de parcelas do Mês - Tx Adm | C16: 0
B17: Recebido no Mês de Antecipação - Juros | C17: 14424.82
B18: Recebido no Mês de Antecipação - Amortização | C18: 77926.88
... B24: Recebido no mês de Inadimplência - Tx Adm | C24: 0
B25: Rebebido no mês de Inadimplência - Tx de Cobrança
B26: Recebido no Mês de Juros e Mora | C26: 873.1
B27: Saldo devedor da carteira Adimplente pré evento do mês | C27: 22934366
B28: Saldo devedor da carteira Inadimplente pré evento do mês | C28: 20651.95
B29: Saldo devedor da carteira Adimplente pós evento do mês | C29: 23904483
B30: Saldo devedor da carteira Inadimplente pós evento do mês | C30: 25783.32
B31: Saldo Inadimplência Mês | C31: 25783.32
B32: Saldo Inadimplência Geral | C32: 25783.32
B33: Vencidos E Não Pagos Até 30 Dias | C33: 25783.32
B34: Vencidos E Não Pagos De 31 A 60 Dias | C34: 0
B35: Vencidos E Não Pagos De 61 A 90 Dias | C35: 0
B36: Vencidos E Não Pagos De 91 A 120 Dias | C36: 0
B37: Vencidos E Não Pagos De 121 A 150 Dias | C37: 0
... B53: Créditos Vinculados Acima De 180 Dias | C53: 20851427
B54: Valor das garantias incorporadas ao PL do CRI
B55: Valor total de pré-pagamento no mês(Amort.+ juros)
B56: Saldo devedor Total | C56: 23930267
B57: Devedor (>= 20%) Nome 1
B58: Devedor (>= 20%) CPF/CNPJ 1
B59: Devedor (>= 20%) Saldo 1
B60: Devedor (>= 20%) Nome 2
B61: Devedor (>= 20%) CPF/CNPJ 2
B62: Devedor (>= 20%) Saldo 2
...

Sheet Planilha3
A1: Crédito | B1: Maior Valor | C1: Saldo devedor | D1: Saldo Devedor dos creditos em atraso | E1: Qtade parcelas Atraso | F1: Saldo Devedor dos creditos em atraso - Por Parcela | G1: Inadimplencia | H1: VP | R1: Saldo Devedor dos creditos em atraso - Por Parcela
A2: 6398 | B2: 20 | C2: =VLOOKUP(A2,FluxoFuturo!B:L,11,0) -> 314089.38 | D2: =IF(B2<0,"Adimplente",IF(B2<=30,"Vencidos e Não Pagos Até 30 Dias",IF(B2<=61,"Vencidos e Não Pagos De 31 A 60 Dias",IF(B2<=90,"Vencidos E Não Pagos De 61 A 90 Dias",IF(B2<=120,"Vencidos e Não Pagos De 91 A 120 Dias",IF(B2<=150,"Vencidos e Não Pagos De 121 A 150 Dias",IF(B2<=180,"Vencidos e Não Pagos De 151 A 180 Dias",IF(B2>180,"Vencidos E Não Pagos Acima de 180 Dias","")))))))) -> Vencidos e Não Pagos Até 30 Dias | E2: 1 | F2: =IF(E2=1,$R$2,IF(E2=2,$R$3,IF(E2=3,$R$4,IF(E2=4,$R$5,IF(E2=5,$R$6,IF(E2=6,$R$7,IF(E2>6,$R$8))))))) -> 01 - Uma Parcela | G2: =VLOOKUP(A2,FluxoFuturo!B:J,9,0) -> 3668.77 | H2: =VLOOKUP(A2,FluxoFuturo!B:K,10,0) -> 310420.61 | R2: 01 - Uma Parcela
A3: 6399 | B3: 20 | C3: =VLOOKUP(A3,FluxoFuturo!B:L,11,0) -> 329775.12 | D3: =IF(B3<0,"Adimplente",IF(B3<=30,"Vencidos e Não Pagos Até 30 Dias",IF(B3<=61,"Vencidos e Não Pagos De 31 A 60 Dias",IF(B3<=90,"Vencidos E Não Pagos De 61 A 90 Dias",IF(B3<=120,"Vencidos e Não Pagos De 91 A 120 Dias",IF(B3<=150,"Vencidos e Não Pagos De 121 A 150 Dias",IF(B3<=180,"Vencidos e Não Pagos De 151 A 180 Dias",IF(B3>180,"Vencidos E Não Pagos Acima de 180 Dias","")))))))) -> Vencidos e Não Pagos Até 30 Dias | E3: 1 | F3: =IF(E3=1,$R$2,IF(E3=2,$R$3,IF(E3=3,$R$4,IF(E3=4,$R$5,IF(E3=5,$R$6,IF(E3=6,$R$7,IF(E3>6,$R$8))))))) -> 01 - Uma Parcela | G3: =VLOOKUP(A3,FluxoFuturo!B:J,9,0) -> 3851.99 | H3: =VLOOKUP(A3,FluxoFuturo!B:K,10,0) -> 325923.13 | R3: 02 - Duas Parcelas
A4: 6400 | B4: 20 | C4: =VLOOKUP(A4,FluxoFuturo!B:L,11,0) -> 309148.82 | D4: =IF(B4<0,"Adimplente",IF(B4<=30,"Vencidos e Não Pagos Até 30 Dias",IF(B4<=61,"Vencidos e Não Pagos De 31 A 60 Dias",IF(B4<=90,"Vencidos E Não Pagos De 61 A 90 Dias",IF(B4<=120,"Vencidos e Não Pagos De 91 A 120 Dias",IF(B4<=150,"Vencidos e Não Pagos De 121 A 150 Dias",IF(B4<=180,"Vencidos e Não Pagos De 151 A 180 Dias",IF(B4>180,"Vencidos E Não Pagos Acima de 180 Dias","")))))))) -> Vencidos e Não Pagos Até 30 Dias | E4: 1 | F4: =IF(E4=1,$R$2,IF(E4=2,$R$3,IF(E4=3,$R$4,IF(E4=4,$R$5,IF(E4=5,$R$6,IF(E4=6,$R$7,IF(E4>6,$R$8))))))) -> 01 - Uma Parcela | G4: =VLOOKUP(A4,FluxoFuturo!B:J,9,0) -> 3611.07 | H4: =VLOOKUP(A4,FluxoFuturo!B:K,10,0) -> 305537.75 | R4: 03 - Três Parcelas
A5: 6388 | B5: 9 | C5: =VLOOKUP(A5,FluxoFuturo!B:L,11,0) -> 193527.85 | D5: =IF(B5<0,"Adimplente",IF(B5<=30,"Vencidos e Não Pagos Até 30 Dias",IF(B5<=61,"Vencidos e Não Pagos De 31 A 60 Dias",IF(B5<=90,"Vencidos E Não Pagos De 61 A 90 Dias",IF(B5<=120,"Vencidos e Não Pagos De 91 A 120 Dias",IF(B5<=150,"Vencidos e Não Pagos De 121 A 150 Dias",IF(B5<=180,"Vencidos e Não Pagos De 151 A 180 Dias",IF(B5>180,"Vencidos E Não Pagos Acima de 180 Dias","")))))))) -> Vencidos e Não Pagos Até 30 Dias | E5: 1 | F5: =IF(E5=1,$R$2,IF(E5=2,$R$3,IF(E5=3,$R$4,IF(E5=4,$R$5,IF(E5=5,$R$6,IF(E5=6,$R$7,IF(E5>6,$R$8))))))) -> 01 - Uma Parcela | G5: =VLOOKUP(A5,FluxoFuturo!B:J,9,0) -> 8241.23 | H5: =VLOOKUP(A5,FluxoFuturo!B:K,10,0) -> 185286.62 | R5: 04 - Quatro Parcelas
A6: 6409 | B6: 9 | C6: =VLOOKUP(A6,FluxoFuturo!B:L,11,0) -> 276316.39 | D6: =IF(B6<0,"Adimplente",IF(B6<=30,"Vencidos e Não Pagos Até 30 Dias",IF(B6<=61,"Vencidos e Não Pagos De 31 A 60 Dias",IF(B6<=90,"Vencidos E Não Pagos De 61 A 90 Dias",IF(B6<=120,"Vencidos e Não Pagos De 91 A 120 Dias",IF(B6<=150,"Vencidos e Não Pagos De 121 A 150 Dias",IF(B6<=180,"Vencidos e Não Pagos De 151 A 180 Dias",IF(B6>180,"Vencidos E Não Pagos Acima de 180 Dias","")))))))) -> Vencidos e Não Pagos Até 30 Dias | E6: 1 | F6: =IF(E6=1,$R$2,IF(E6=2,$R$3,IF(E6=3,$R$4,IF(E6=4,$R$5,IF(E6=5,$R$6,IF(E6=6,$R$7,IF(E6>6,$R$8))))))) -> 01 - Uma Parcela | G6: =VLOOKUP(A6,FluxoFuturo!B:J,9,0) -> 3205.13 | H6: =VLOOKUP(A6,FluxoFuturo!B:K,10,0) -> 273111.26 | R6: 05 - Cinco Parcelas
A7: 6410 | B7: 9 | C7: =VLOOKUP(A7,FluxoFuturo!B:L,11,0) -> 276316.39 | D7: =IF(B7<0,"Adimplente",IF(B7<=30,"Vencidos e Não Pagos Até 30 Dias",IF(B7<=61,"Vencidos e Não Pagos De 31 A 60 Dias",IF(B7<=90,"Vencidos E Não Pagos De 61 A 90 Dias",IF(B7<=120,"Vencidos e Não Pagos De 91 A 120 Dias",IF(B7<=150,"Vencidos e Não Pagos De 121 A 150 Dias",IF(B7<=180,"Vencidos e Não Pagos De 151 A 180 Dias",IF(B7>180,"Vencidos E Não Pagos Acima de 180 Dias","")))))))) -> Vencidos e Não Pagos Até 30 Dias | E7: 1 | F7: =IF(E7=1,$R$2,IF(E7=2,$R$3,IF(E7=3,$R$4,IF(E7=4,$R$5,IF(E7=5,$R$6,IF(E7=6,$R$7,IF(E7>6,$R$8))))))) -> 01 - Uma Parcela | G7: =VLOOKUP(A7,FluxoFuturo!B:J,9,0) -> 3205.13 | H7: =VLOOKUP(A7,FluxoFuturo!B:K,10,0) -> 273111.26 | R7: 06 - Seis parcelas
R8: Maior que seis parcelas

Sheet Resumo
E3: Relatório Consolidado
B6: Base do relatório Mensal | F6: Abril/2025
B7: Total de unidades ativas | F7: 95
B8: Total de clientes quitados | F8: 3
B9: Recebimentos
B10: A receber (mês) | F10: 536972.5
B11: Valor recebido total | F11: 800932.43
B12: Diferença Recebimento Total x Recebimento Mês
B13: Recebimento Regular | F13: 677654.45
B14: Antecipação | F14: 102243.45
B15: Recebimento em atraso | F15: 21034.53
B16: Inadimplência
B17: Inadimplência (mês) | F17: 50497.28
B18: Inadimplência total | F18: 50497.28

Sheet Recebimento
AA1: =SUBTOTAL(9,AA3:AA132) -> 649096.04 | AB1: =SUBTOTAL(9,AB3:AB132) -> 150496.41 | AG1: =SUBTOTAL(9,AG3:AG132) -> 683.85 | AH1: =SUBTOTAL(9,AH3:AH132) -> 189.25 | AJ1: =SUBTOTAL(9,AJ3:AJ132) -> 800465.55
A2: No Parcela | B2: No Contrato | C2: Nome do mutuário | D2: CPF/CNPJ | E2: Taxa de Juros | F2: Carteira | G2: Empreendimento | H2: No Parcela | I2: Data de Vencimento Original | J2: Data de Pagamento | K2: Data do Crédito | L2: Dif. de Dias | M2: Valor Original | N2: Valor Creditado | O2: Valor Parceiro | P2: Multa | Q2: Juros de Mora | R2: Seguro | S2: Dif de Parcela | T2: Dif Parcela Creditada | U2: Taxa de Gestão | V2: Tipo de Recebimento | W2: Mês | X2: OBS | Y2: MIP | Z2: DFI | AA2: Amortização Creditada | AB2: Juros Creditado | AC2: MIP Creditado | AD2: DFI Creditado | AE2: Diferença Parcela Creditada | AF2: Gestão Creditada | AG2: Multa Creditada | AH2: Mora Creditada | AI2: Resíduo Parcela | AJ2: Total | AK2: Check Recebimento | AL2: Status Venda
A3: 2411854 | B3: 6358 | C3: Alexandre Magno De Carvalho | D3: 037.957.411-06 | E3: 0 | F3: SWISS PARK ANAPOLIS | G3: Swiss Park Zurich - Anápolis | H3: 2411854 | I3: 45757 | J3: 45757 | K3: 45758 | L3: 1 | M3: 8251.57 | N3: 8251.57 | P3: 0 | Q3: 0 | R3: 0 | V3: Recebimento Regular | W3: Abr/2025 | AA3: 8251.57 | AB3: 0 | AE3: 0 | AG3: 0 | AH3: 0 | AJ3: 8251.57 | AK3: Adimplente | AL3: Parcelado
A4: 2415688 | B4: 6407 | C4: Alysson De Almeida Miclos | D4: 923.842.691-00 | E4: 0 | F4: SWISS PARK ANAPOLIS | G4: Swiss Park Zurich - Anápolis | H4: 2415688 | I4: 45768 | J4: 45761 | K4: 45762 | L4: -6 | M4: 8055.96 | N4: 8055.96 | P4: 0 | Q4: 0 | R4: 0 | V4: Recebimento Regular | W4: Abr/2025 | AA4: 8055.96 | AB4: 0 | AE4: 0 | AG4: 0 | AH4: 0 | AJ4: 8055.96 | AK4: Adimplente | AL4: Parcelado
A5: 2413845 | B5: 6388 | C5: Anderson Goncalves Moreira | D5: 731.599.561-72 | E5: 0 | F5: SWISS PARK ANAPOLIS | G5: Swiss Park Zurich - Anápolis | H5: 2413845 | I5: 45737 | J5: 45771 | K5: 45772 | L5: 35 | M5: 8055.94 | N5: 8321.77 | P5: 174.6 | Q5: 91.23 | R5: 0 | V5: Recebimento em atraso | W5: Abr/2025 | AA5: 8055.94 | AB5: 0 | AE5: 0 | AG5: 174.6 | AH5: 91.23 | AJ5: 8321.77 | AK5: De 31 A 60 Dias | AL5: Parcelado
A6: 2413444 | B6: 6382 | C6: Andreyve Vieira Melo | D6: 019.961.151-38 | E6: 0.1003 | F6: SWISS PARK ANAPOLIS | G6: Swiss Park Zurich - Anápolis | H6: 2413444 | I6: 45768 | J6: 45769 | K6: 45770 | L6: 2 | M6: 4222.49 | N6: 4222.49 | P6: 0 | Q6: 0 | R6: 0 | V6: Recebimento Regular | W6: Abr/2025 | AA6: 2041.64 | AB6: 2180.85 | AE6: 0 | AG6: 0 | AH6: 0 | AJ6: 4222.49 | AK6: Adimplente | AL6: Parcelado
A7: 2413521 | B7: 6382 | C7: Andreyve Vieira Melo | D7: 019.961.151-38 | E7: 0.1003 | F7: SWISS PARK ANAPOLIS | G7: Swiss Park Zurich - Anápolis | H7: 2413521 | I7: 48112 | J7: 45769 | K7: 45770 | L7: -2342 | M7: 2286.17 | N7: 2286.17 | P7: 0 | Q7: 0 | R7: 0 | V7: Antecipação | W7: Abr/2025 | AA7: 2073.48 | AB7: 212.69 | AE7: 0 | AG7: 0 | AH7: 0 | AJ7: 2286.17 | AK7: Pagos Antecipadamente Acima de 180 Dias | AL7: Parcelado
A8: 2412001 | B8: 6366 | C8: Anna Paula Vieira De Sousa Alves | D8: 034.186.701-21 | E8: 0 | F8: SWISS PARK ANAPOLIS | G8: Swiss Park Zurich - Anápolis | H8: 2412001 | I8: 45768 | J8: 45769 | K8: 45770 | L8: 2 | M8: 8188.87 | N8: 8188.87 | P8: 0 | Q8: 0 | R8: 0 | V8: Recebimento Regular | W8: Abr/2025 | AA8: 8188.87 | AB8: 0 | AE8: 0 | AG8: 0 | AH8: 0 | AJ8: 8188.87 | AK8: Adimplente | AL8: Parcelado
A9: 2413644 | B9: 6385 | C9: Christian Alexandre Pereira | D9: 797.173.571-53 | E9: 0 | F9: SWISS PARK ANAPOLIS | G9: Swiss Park Zurich - Anápolis | H9: 2413644 | I9: 45768 | J9: 45769 | K9: 45770 | L9: 2 | M9: 8055.96 | N9: 8055.96 | P9: 0 | Q9: 0 | R9: 0 | V9: Recebimento Regular | W9: Abr/2025 | AA9: 8055.96 | AB9: 0 | AE9: 0 | AG9: 0 | AH9: 0 | AJ9: 8055.96 | AK9: Adimplente | AL9: Parcelado
A10: 2414048 | B10: 6390 | C10: Clary Merces De Oliveira Machado | D10: 617.316.171-00 | E10: 0 | F10: SWISS PARK ANAPOLIS | G10: Swiss Park Zurich - Anápolis | H10: 2414048 | I10: 45757 | J10: 45755 | K10: 45756 | L10: -1 | M10: 8333.21 | N10: 8333.21 | P10: 0 | Q10: 0 | R10: 0 | V10: Recebimento Regular | W10: Abr/2025 | AA10: 8333.21 | AB10: 0 | AE10: 0 | AG10: 0 | AH10: 0 | AJ10: 8333.21 | AK10: Adimplente | AL10: Parcelado
A11: 2413681 | B11: 6387 | C11: Claudio Carvalho Machado | D11: 576.129.351-04 | E11: 0.1003 | F11: SWISS PARK ANAPOLIS | G11: Swiss Park Zurich - Anápolis | H11: 2413681 | I11: 45757 | J11: 45757 | K11: 45758 | L11: 1 | M11: 3472.2 | N11: 3472.2 | P11: 0 | Q11: 0 | R11: 0 | V11: Recebimento Regular | W11: Abr/2025 | AA11: 996.3 | AB11: 2475.9 | AE11: 0 | AG11: 0 | AH11: 0 | AJ11: 3472.2 | AK11: Adimplente | AL11: Parcelado
A12: 2417694 | B12: 6440 | C12: Cris Imoveis Ltda | D12: 15.796.093/0001-80 | E12: 0.1003 | F12: SWISS PARK ANAPOLIS | G12: Swiss Park Zurich - Anápolis | H12: 2417694 | I12: 45757 | J12: 45757 | K12: 45758 | L12: 1 | M12: 3454.18 | N12: 3454.18 | P12: 0 | Q12: 0 | R12: 0 | V12: Recebimento Regular | W12: Abr/2025 | AA12: 966.64 | AB12: 2487.54 | AE12: 0 | AG12: 0 | AH12: 0 | AJ12: 3454.18 | AK12: Adimplente | AL12: Parcelado
A13: 2415171 | B13: 6401 | C13: Daniel Silva Ferreira | D13: 985.431.721-87 | E13: 0.1003 | F13: SWISS PARK ANAPOLIS | G13: Swiss Park Zurich - Anápolis | H13: 2415171 | I13: 45768 | J13: 45769 | K13: 45770 | L13: 2 | M13: 4613.17 | N13: 4613.17 | P13: 0 | Q13: 0 | R13: 0 | V13: Recebimento Regular | W13: Abr/2025 | AA13: 2230.53 | AB13: 2382.64 | AE13: 0 | AG13: 0 | AH13: 0 | AJ13: 4613.17 | AK13: Adimplente | AL13: Parcelado
A14: 2417281 | B14: 6430 | C14: Danilo Lourenço Abrão De Alencar | D14: 702.141.861-21 | E14: 0 | F14: SWISS PARK ANAPOLIS | G14: Swiss Park Zurich - Anápolis | H14: 2417281 | I14: 45787 | J14: 45769 | K14: 45770 | L14: -17 | M14: 7782.62 | N14: 7782.62 | P14: 0 | Q14: 0 | R14: 0 | V14: Antecipação | W14: Abr/2025 | AA14: 7782.62 | AB14: 0 | AE14: 0 | AG14: 0 | AH14: 0 | AJ14: 7782.62 | AK14: Pagos Antecipadamente Até 30 Dias | AL14: Parcelado
... A132: 2418655 | B132: 6451 | C132: Thiago Da Costa Moreira | D132: 036.528.931-07 | E132: 0.1003 | F132: SWISS PARK ANAPOLIS | G132: Swiss Park Zurich - Anápolis | H132: 2418655 | I132: 45768 | J132: 45777 | K132: 45779 | L132: 11 | M132: 4069.58 | N132: 4162.64 | P132: 81.39 | Q132: 11.67 | R132: 0 | V132: Recebimento Regular | W132: Mai/2025 | AA132: 1137.89 | AB132: 2931.69 | AE132: 0 | AG132: 81.39 | AH132: 11.67 | AJ132: 4162.64 | AK132: Adimplente | AL132: Parcelado

Sheet Conciliação
A1: Data Crédito | B1: Fechamento | C1: Extrato | D1: Diferença | E1: Obs
A2: 02/04/2025 | B2: 24104.66 | C2: 24104.66 | D2: 0
A3: 03/04/2025 | B3: 19719.26 | C3: 19719.26 | D3: 0
A4: 04/04/2025 | B4: 27732.39 | C4: 27732.39 | D4: 0
A5: 05/04/2025 | B5: 0 | C5: 0 | D5: 0
A6: 06/04/2025 | B6: 0 | C6: 0 | D6: 0
A7: 07/04/2025 | B7: 9482.68 | C7: 9482.68 | D7: 0
A8: 08/04/2025 | B8: 8055.96 | C8: 8055.96 | D8: 0
A9: 09/04/2025 | B9: 47093.42 | C9: 47093.42 | D9: 0
A10: 10/04/2025 | B10: 27006.02 | C10: 27006.02 | D10: 0
A11: 11/04/2025 | B11: 207731.24 | C11: 215683.03 | D11: -7951.79 | E11: R$ 7.951,79 (LUCAS GALGANE FERREIRA RIBEIRO) - pgto em duplicidade, devolução em 14/04
A12: 12/04/2025 | B12: 0 | C12: 0 | D12: 0
A13: 13/04/2025 | B13: 0 | C13: 0 | D13: 0
A14: 14/04/2025 | B14: 19978.48 | C14: 19978.48 | D14: 0
A15: 15/04/2025 | B15: 40555.96 | C15: 40555.96 | D15: 0
A16: 16/04/2025 | B16: 29335.65 | C16: 29335.65 | D16: 0
A17: 17/04/2025 | B17: 24468.58 | C17: 24468.58 | D17: 0
A18: 18/04/2025 | B18: 0 | C18: 0 | D18: 0
A19: 19/04/2025 | B19: 0 | C19: 0 | D19: 0
A20: 20/04/2025 | B20: 0 | C20: 0 | D20: 0
A21: 21/04/2025 | B21: 0 | C21: 0 | D21: 0
A22: 22/04/2025 | B22: 6882.02 | C22: 6882.02 | D22: 0
A23: 23/04/2025 | B23: 274616.12 | C23: 274616.12 | D23: 0
... A31: 01/05/2025 | B31: 0 | C31: 0 | D31: 0
A32: 02/05/2025 | B32: 15740.06 | C32: 22149.85 | D32: -6409.79 | E32: 6.409,79 (TED 237.2373.OLIVEIRA T) - Transferência entre contas

Sheet Inadimplência
A1: No Contrato | B1: Nome do Mutuáriuo | C1: CPF | D1: Carteira | E1: Empreendimento | F1: No parcela | G1: Data de Vencimento Original | H1: Amortização Corrigida | I1: Juros Corrigido | J1: MIP | K1: DFI | L1: Valor de Gestão Corrigido | M1: Dif. de Parcela | N1: Multa | O1: Mora | P1: Resíduo Parcela | Q1: Total Corrigido | R1: Seguro | S1: Dias em aberto | T1: Id do Crédito | U1: Faixa de Atraso | V1: Status
A2: 6398 | B2: Ancor Construtora Ltda | C2: 28.241.797/0001-38 | D2: SWISS PARK ANAPOLIS | E2: Swiss Park Zurich - Anápolis | F2: 2414682 | G2: 10/04/2025 | H2: 1049.66 | I2: 2523.82 | N2: 71.47 | O2: 23.82 | Q2: 3668.77 | R2: 0 | S2: 20 | T2: 135615 | U2: Menor que 30 Dias | V2: Vencidos e Não Pagos Até 30 Dias
A3: 6399 | B3: Ancor Construtora Ltda | C3: 28.241.797/0001-38 | D3: SWISS PARK ANAPOLIS | E3: Swiss Park Zurich - Anápolis | F3: 2414845 | G3: 10/04/2025 | H3: 1102.08 | I3: 2649.86 | N3: 75.04 | O3: 25.01 | Q3: 3851.99 | R3: 0 | S3: 20 | T3: 135616 | U3: Menor que 30 Dias | V3: Vencidos e Não Pagos Até 30 Dias
A4: 6400 | B4: Ancor Construtora Ltda | C4: 28.241.797/0001-38 | D4: SWISS PARK ANAPOLIS | E4: Swiss Park Zurich - Anápolis | F4: 2415008 | G4: 10/04/2025 | H4: 1033.15 | I4: 2484.12 | N4: 70.35 | O4: 23.45 | Q4: 3611.07 | R4: 0 | S4: 20 | T4: 135617 | U4: Menor que 30 Dias | V4: Vencidos e Não Pagos Até 30 Dias
A5: 6388 | B5: Anderson Goncalves Moreira | C5: 731.599.561-72 | D5: SWISS PARK ANAPOLIS | E5: Swiss Park Zurich - Anápolis | F5: 2413846 | G5: 21/04/2025 | H5: 8055.94 | I5: 0 | N5: 161.12 | O5: 24.17 | Q5: 8241.23 | R5: 0 | S5: 9 | T5: 135618 | U5: Menor que 30 Dias | V5: Vencidos e Não Pagos Até 30 Dias
A6: 6409 | B6: Lucas Garcia Oliveira | C6: 253.190.908-70 | D6: SWISS PARK ANAPOLIS | E6: Swiss Park Zurich - Anápolis | F6: 2415738 | G6: 21/04/2025 | H6: 898.99 | I6: 2234.08 | N6: 62.66 | O6: 9.4 | Q6: 3205.13 | R6: 0 | S6: 9 | T6: 135661 | U6: Menor que 30 Dias | V6: Vencidos e Não Pagos Até 30 Dias
A7: 6410 | B7: Lucas Garcia Oliveira | C7: 253.190.908-70 | D7: SWISS PARK ANAPOLIS | E7: Swiss Park Zurich - Anápolis | F7: 2415902 | G7: 21/04/2025 | H7: 898.99 | I7: 2234.08 | N7: 62.66 | O7: 9.4 | Q7: 3205.13 | R7: 0 | S7: 9 | T7: 135662 | U7: Menor que 30 Dias | V7: Vencidos e Não Pagos Até 30 Dias
A8: 5406 | B8: Fábio Rodrigues Ribeiro | C8: 301.855.668-20 | D8: SWISS PARK ANAPOLIS | E8: Swiss Park Zurich - Anápolis | F8: 2472360 | G8: 21/04/2025 | H8: 7619.52 | I8: 122.4 | N8: 154.84 | O8: 23.23 | Q8: 7919.99 | R8: 0 | S8: 9 | T8: 135954 | U8: Menor que 30 Dias | V8: Vencidos e Não Pagos Até 30 Dias | W8: Proposta não considerado na inadimplência
A9: 5412 | B9: João Miguel Ridal Frutuoso | C9: 119.467.038-50 | D9: SWISS PARK ANAPOLIS | E9: Swiss Park Zurich - Anápolis | F9: 2503465 | G9: 10/04/2025 | H9: 2303.59 | I9: 18.43 | N9: 46.44 | O9: 15.48 | Q9: 2383.94 | R9: 0 | S9: 20 | T9: 136054 | U9: Menor que 30 Dias | V9: Vencidos e Não Pagos Até 30 Dias | W9: Proposta não considerado na inadimplência
A10: 5413 | B10: João Miguel Ridal Frutuoso | C10: 119.467.038-50 | D10: SWISS PARK ANAPOLIS | E10: Swiss Park Zurich - Anápolis | F10: 2503652 | G10: 10/04/2025 | H10: 2263.33 | I10: 18.11 | N10: 45.63 | O10: 15.21 | Q10: 2342.28 | R10: 0 | S10: 20 | T10: 136055 | U10: Menor que 30 Dias | V10: Vencidos e Não Pagos Até 30 Dias | W10: Proposta não considerado na inadimplência

Sheet FluxoFuturo
J1: =SUBTOTAL(9,J3:J97) -> 25783.32 | K1: =SUBTOTAL(9,K3:K97) -> 22445069 | L1: =SUBTOTAL(9,L3:L97)-J6-J7-J12-J37-J88 -> 22458206 | N1: =SUBTOTAL(9,N3:N97) -> 22470852 | O1: =SUBTOTAL(9,O3:O97) -> 20415663 | R1: =SUBTOTAL(9,R3:R97) -> 29884582
A2: Cod Chronos | B2: Contrato | C2: Nome do mutuário | D2: CPF | E2: Taxa | F2: Carteira | G2: Empreendimento | H2: Elegibilidade | I2: Meses Remanescentes | J2: Inadimplência | K2: VP Fluxo Futuro | L2: Saldo Devedor | M2: Classificação | N2: Saldo Devedor PDD | O2: Saldo Devedor Taxa Cessão | P2: Média R$ m² | Q2: Área M² | R2: Valor De Venda Atualizado | S2: LTV % | T2: 05/2025 | U2: 06/2025 | V2: 07/2025 | W2: 08/2025 | X2: 09/2025 | Y2: 10/2025 | Z2: 11/2025 | AA2: 12/2025 | AB2: 01/2026 | AC2: 02/2026 | AD2: 03/2026 | AE2: 04/2026 | AF2: 05/2026 | AG2: 06/2026 | AH2: 07/2026 | AI2: 08/2026 | AJ2: 09/2026 | AK2: 10/2026 | AL2: 11/2026 | AM2: 12/2026 | AN2: 01/2027 | AO2: 02/2027 | AP2: 03/2027 | AQ2: 04/2027 | AR2: 05/2027 | AS2: 06/2027 | AT2: 07/2027 | AU2: 08/2027 | AV2: 09/2027 | AW2: 10/2027 | AX2: 11/2027 | AY2: 12/2027 | AZ2: 01/2028 | BA2: 02/2028 | BB2: 03/2028 | BC2: 04/2028 | BD2: 05/2028 | BE2: 06/2028 | BF2: 07/2028 | BG2: 08/2028 | BH2: 09/2028 | BI2: 10/2028 | BJ2: 11/2028 | BK2: 12/2028 | BL2: 01/2029 | BM2: 02/2029 | BN2: 03/2029 | BO2: 04/2029 | BP2: 05/2029 | BQ2: 06/2029 | BR2: 07/2029 | BS2: 08/2029 | BT2: 09/2029 | BU2: 10/2029 | BV2: 11/2029 | BW2: 12/2029 | BX2: 01/2030 | BY2: 02/2030 | BZ2: 03/2030 | CA2: 04/2030 | CB2: 05/2030 | CC2: 06/2030 | CD2: 07/2030 | CE2: 08/2030 | CF2: 09/2030 | CG2: 10/2030 | CH2: 11/2030 | CI2: 12/2030 | CJ2: 01/2031 | CK2: 02/2031 | CL2: 03/2031 | CM2: 04/2031 | CN2: 05/2031 | CO2: 06/2031 | CP2: 07/2031 | CQ2: 08/2031 | CR2: 09/2031 | CS2: 10/2031 | CT2: 11/2031 | CU2: 12/2031 | CV2: 01/2032 | CW2: 02/2032 | CX2: 03/2032 | CY2: 04/2032 | CZ2: 05/2032 | DA2: 06/2032 | DB2: 07/2032 | DC2: 08/2032 | DD2: 09/2032 | DE2: 10/2032 | DF2: 11/2032 | DG2: 12/2032 | DH2: 01/2033 | DI2: 02/2033 | DJ2: 03/2033 | DK2: 04/2033 | DL2: 05/2033 | DM2: 06/2033 | DN2: 07/2033 | DO2: 08/2033 | DP2: 09/2033 | DQ2: 10/2033 | DR2: 11/2033 | DS2: 12/2033 | DT2: 01/2034 | DU2: 02/2034 | DV2: 03/2034 | DW2: 04/2034 | DX2: 05/2034 | DY2: 06/2034 | DZ2: 07/2034 | EA2: 08/2034 | EB2: 09/2034 | EC2: 10/2034 | ED2: 11/2034 | EE2: 12/2034 | EF2: 01/2035 | EG2: 02/2035 | EH2: 03/2035 | EI2: 04/2035 | EJ2: 05/2035 | EK2: 06/2035 | EL2: 07/2035 | EM2: 08/2035 | EN2: 09/2035 | EO2: 10/2035 | EP2: 11/2035 | EQ2: 12/2035 | ER2: 01/2036 | ES2: 02/2036 | ET2: 03/2036 | EU2: 04/2036 | EV2: 05/2036 | EW2: 06/2036 | EX2: 07/2036 | EY2: 08/2036 | EZ2: 09/2036 | FA2: 10/2036 | FB2: 11/2036 | FC2: 12/2036 | FD2: 01/2037 | FE2: 02/2037 | FF2: 03/2037 | FG2: 04/2037 | FH2: 05/2037 | FI2: 06/2037 | FJ2: 07/2037 | FK2: 08/2037 | FL2: 09/2037 | FM2: 10/2037 | FN2: 11/2037 | FO2: 12/2037 | FP2: 01/2038 | FQ2: 02/2038 | FR2: 03/2038 | FS2: 04/2038 | FT2: 05/2038 | FU2: 06/2038 | FV2: 07/2038 | FW2: 08/2038 | FX2: 09/2038 | FY2: 10/2038 | FZ2: 11/2038 | GA2: 12/2038 | GB2: 01/2039 | GC2: 02/2039 | GD2: 03/2039 | GE2: 04/2039 | GF2: 05/2039 | GG2: 06/2039 | GH2: 07/2039 | GI2: Id do Crédito
A3: 135922 | B3: 6494 | C3: Filipe Junio De Oliveira | D3: 020.314.361-20 | E3: 0.100339 | F3: SWISS PARK ANAPOLIS | G3: Swiss Park Zurich - Anápolis | H3: =VLOOKUP(B3,Elegibilidade!A:I,9,0) -> Elegível | I3: 161 | J3: 0 | K3: =NPV(0.8%,T3:GH3) -> 365935.67 | L3: =J3+K3 -> 365935.67 | M3: Adimplente | N3: 365935.67 | O3: =NPV((1+12%)^(1/12)-1,T3:GH3) -> 333880.11 | P3: =Vendas!$J$1 -> 885.1292 | Q3: 413.88 | R3: =P3*Q3 -> 366337.27 | S3: =O3/R3 -> 0.91140087 | T3: 4504.17 | U3: 2872.2 | V3: 2872.2 | W3: 2872.2 | X3: 2872.2 | Y3: 2872.2 | Z3: 2872.2 | AA3: 2872.2 | AB3: 2872.2 | AC3: 18038.93 | AD3: 2872.2 | AE3: 2872.2 | AF3: 2872.2 | AG3: 2872.2 | AH3: 2872.2 | AI3: 2872.2 | AJ3: 2872.2 | AK3: 2872.2 | AL3: 2872.2 | AM3: 2872.2 | AN3: 2872.2 | AO3: 18038.93 | AP3: 2872.2 | AQ3: 2872.2 | AR3: 2872.2 | AS3: 2872.2 | AT3: 2872.2 | AU3: 2872.2 | AV3: 2872.2 | AW3: 2872.2 | AX3: 2872.2 | AY3: 2872.2 | AZ3: 2872.2 | BA3: 18038.93 | BB3: 2872.2 | BC3: 2872.2 | BD3: 2872.2 | BE3: 2872.2 | BF3: 2872.2 | BG3: 2872.2 | BH3: 2872.2 | BI3: 2872.2 | BJ3: 2872.2 | BK3: 2872.2 | BL3: 2872.2 | BM3: 18038.93 | BN3: 2872.2 | BO3: 2872.2 | BP3: 2872.2 | BQ3: 2872.2 | BR3: 2872.2 | BS3: 2872.2 | BT3: 2872.2 | BU3: 2872.2 | BV3: 2872.2 | BW3: 2872.2 | BX3: 2872.2 | BY3: 18038.93 | BZ3: 2872.2 | CA3: 2872.2 | CB3: 2872.2 | CC3: 2872.2 | CD3: 2872.2 | CE3: 2872.2 | CF3: 2872.2 | CG3: 2872.2 | CH3: 2872.2 | CI3: 2872.2 | CJ3: 2872.2 | CK3: 18038.93 | CL3: 2872.2 | CM3: 2872.2 | CN3: 2872.2 | CO3: 2872.2 | CP3: 2872.2 | CQ3: 2872.2 | CR3: 2872.2 | CS3: 2872.2 | CT3: 2872.2 | CU3: 2872.2 | CV3: 2872.2 | CW3: 18038.93 | CX3: 2872.2 | CY3: 2872.2 | CZ3: 2872.2 | DA3: 2872.2 | DB3: 2872.2 | DC3: 2872.2 | DD3: 2872.2 | DE3: 2872.2 | DF3: 2872.2 | DG3: 2872.2 | DH3: 2872.2 | DI3: 18038.93 | DJ3: 2872.2 | DK3: 2872.2 | DL3: 2872.2 | DM3: 2872.2 | DN3: 2872.2 | DO3: 2872.2 | DP3: 2872.2 | DQ3: 2872.2 | DR3: 2872.2 | DS3: 2872.2 | DT3: 2872.2 | DU3: 18038.93 | DV3: 2872.2 | DW3: 2872.2 | DX3: 2872.2 | DY3: 2872.2 | DZ3: 2872.2 | EA3: 2872.2 | EB3: 2872.2 | EC3: 2872.2 | ED3: 2872.2 | EE3: 2872.2 | EF3: 2872.2 | EG3: 18038.93 | EH3: 2872.2 | EI3: 2872.2 | EJ3: 2872.2 | EK3: 2872.2 | EL3: 2872.2 | EM3: 2872.2 | EN3: 2872.2 | EO3: 2872.2 | EP3: 2872.2 | EQ3: 2872.2 | ER3: 2872.2 | ES3: 18038.93 | ET3: 2872.2 | EU3: 2872.2 | EV3: 2872.2 | EW3: 2872.2 | EX3: 2872.2 | EY3: 2872.2 | EZ3: 2872.2 | FA3: 2872.2 | FB3: 2872.2 | FC3: 2872.2 | FD3: 2872.2 | FE3: 18038.92 | FF3: 2872.2 | FG3: 2872.2 | FH3: 2872.2 | FI3: 2872.2 | FJ3: 2872.2 | FK3: 2872.2 | FL3: 2872.2 | FM3: 2872.2 | FN3: 2872.2 | FO3: 2872.2 | FP3: 2872.2 | FQ3: 2872.2 | FR3: 2872.2 | FS3: 2872.2 | FT3: 2872.2 | FU3: 2872.2 | FV3: 2872.2 | FW3: 2872.2 | FX3: 2871.74 | FY3: 0 | FZ3: 0 | GA3: 0 | GB3: 0 | GC3: 0 | GD3: 0 | GE3: 0 | GF3: 0 | GG3: 0 | GH3: 0 | GI3: 135922
A4: 135688 | B4: 6451 | C4: Thiago Da Costa Moreira | D4: 036.528.931-07 | E4: 0.1003 | F4: SWISS PARK ANAPOLIS | G4: Swiss Park Zurich - Anápolis | H4: =VLOOKUP(B4,Elegibilidade!A:I,9,0) -> Elegível | I4: 155 | J4: 0 | K4: =NPV(0.8%,T4:GH4) -> 360759.48 | L4: =J4+K4 -> 360759.48 | M4: Adimplente | N4: 360759.48 | O4: =NPV((1+12%)^(1/12)-1,T4:GH4) -> 329660.45 | P4: =Vendas!$J$1 -> 885.1292 | Q4: 408.49 | R4: =P4*Q4 -> 361566.43 | S4: =O4/R4 -> 0.91175626 | T4: 4069.57 | U4: 4069.57 | V4: 4069.57 | W4: 4069.57 | X4: 4069.57 | Y4: 4069.57 | Z4: 4069.57 | AA4: 4069.57 | AB4: 4069.57 | AC4: 4069.57 | AD4: 4069.57 | AE4: 4069.57 | AF4: 4069.57 | AG4: 4069.57 | AH4: 4069.57 | AI4: 4069.57 | AJ4: 4069.57 | AK4: 4069.57 | AL4: 4069.57 | AM4: 4069.57 | AN4: 4069.57 | AO4: 4069.57 | AP4: 4069.57 | AQ4: 4069.57 | AR4: 4069.57 | AS4: 4069.57 | AT4: 4069.57 | AU4: 4069.57 | AV4: 4069.57 | AW4: 4069.57 | AX4: 4069.57 | AY4: 4069.57 | AZ4: 4069.57 | BA4: 4069.57 | BB4: 4069.57 | BC4: 4069.57 | BD4: 4069.57 | BE4: 4069.57 | BF4: 4069.57 | BG4: 4069.57 | BH4: 4069.57 | BI4: 4069.57 | BJ4: 4069.57 | BK4: 4069.57 | BL4: 4069.57 | BM4: 4069.57 | BN4: 4069.57 | BO4: 4069.57 | BP4: 4069.57 | BQ4: 4069.57 | BR4: 4069.57 | BS4: 4069.57 | BT4: 4069.57 | BU4: 4069.57 | BV4: 4069.57 | BW4: 4069.57 | BX4: 4069.57 | BY4: 4069.57 | BZ4: 4069.57 | CA4: 4069.57 | CB4: 4069.57 | CC4: 4069.57 | CD4: 4069.57 | CE4: 4069.57 | CF4: 4069.57 | CG4: 4069.57 | CH4: 4069.57 | CI4: 4069.57 | CJ4: 4069.57 | CK4: 4069.57 | CL4: 4069.57 | CM4: 4069.57 | CN4: 4069.57 | CO4: 4069.57 | CP4: 4069.57 | CQ4: 4069.57 | CR4: 4069.57 | CS4: 4069.57 | CT4: 4069.57 | CU4: 4069.57 | CV4: 4069.57 | CW4: 4069.57 | CX4: 4069.57 | CY4: 4069.57 | CZ4: 4069.57 | DA4: 4069.57 | DB4: 4069.57 | DC4: 4069.57 | DD4: 4069.57 | DE4: 4069.57 | DF4: 4069.57 | DG4: 4069.57 | DH4: 4069.57 | DI4: 4069.57 | DJ4: 4069.57 | DK4: 4069.57 | DL4: 4069.57 | DM4: 4069.57 | DN4: 4069.57 | DO4: 4069.57 | DP4: 4069.57 | DQ4: 4069.57 | DR4: 4069.57 | DS4: 4069.57 | DT4: 4069.57 | DU4: 4069.57 | DV4: 4069.57 | DW4: 4069.57 | DX4: 4069.57 | DY4: 4069.57 | DZ4: 4069.57 | EA4: 4069.57 | EB4: 4069.57 | EC4: 4069.57 | ED4: 4069.57 | EE4: 4069.57 | EF4: 4069.57 | EG4: 4069.57 | EH4: 4069.57 | EI4: 4069.57 | EJ4: 4069.57 | EK4: 4069.57 | EL4: 4069.57 | EM4: 4069.57 | EN4: 4069.57 | EO4: 4069.57 | EP4: 4069.57 | EQ4: 4069.57 | ER4: 4069.57 | ES4: 4069.57 | ET4: 4069.57 | EU4: 4069.57 | EV4: 4069.57 | EW4: 4069.57 | EX4: 4069.57 | EY4: 4069.57 | EZ4: 4069.57 | FA4: 4069.57 | FB4: 4069.57 | FC4: 4069.57 | FD4: 4069.57 | FE4: 4069.57 | FF4: 4069.57 | FG4: 4069.57 | FH4: 4069.57 | FI4: 4069.57 | FJ4: 4069.57 | FK4: 4069.57 | FL4: 4069.57 | FM4: 4069.57 | FN4: 4069.57 | FO4: 4069.57 | FP4: 4069.57 | FQ4: 4069.57 | FR4: 4069.48 | FS4: 0 | FT4: 0 | FU4: 0 | FV4: 0 | FW4: 0 | FX4: 0 | FY4: 0 | FZ4: 0 | GA4: 0 | GB4: 0 | GC4: 0 | GD4: 0 | GE4: 0 | GF4: 0 | GG4: 0 | GH4: 0 | GI4: 135688
A5: 135667 | B5: 6402 | C5: Michael Molina | D5: 222.832.808-18 | E5: 0.1003 | F5: SWISS PARK ANAPOLIS | G5: Swiss Park Zurich - Anápolis | H5: =VLOOKUP(B5,Elegibilidade!A:I,9,0) -> Elegível | I5: 150 | J5: 0 | K5: =NPV(0.8%,T5:GH5) -> 349726.42 | L5: =J5+K5 -> 349726.42 | M5: Adimplente | N5: 349726.42 | O5: =NPV((1+12%)^(1/12)-1,T5:GH5) -> 320265.56 | P5: =Vendas!$J$1 -> 885.1292 | Q5: 460.99 | R5: =P5*Q5 -> 408035.71 | S5: =O5/R5 -> 0.78489592 | T5: 4011.98 | U5: 4011.98 | V5: 4011.98 | W5: 4011.98 | X5: 4011.98 | Y5: 4011.98 | Z5: 4011.98 | AA5: 4011.98 | AB5: 4011.98 | AC5: 4011.98 | AD5: 4011.98 | AE5: 4011.98 | AF5: 4011.98 | AG5: 4011.98 | AH5: 4011.98 | AI5: 4011.98 | AJ5: 4011.98 | AK5: 4011.98 | AL5: 4011.98 | AM5: 4011.98 | AN5: 4011.98 | AO5: 4011.98 | AP5: 4011.98 | AQ5: 4011.98 | AR5: 4011.98 | AS5: 4011.98 | AT5: 4011.98 | AU5: 4011.98 | AV5: 4011.98 | AW5: 4011.98 | AX5: 4011.98 | AY5: 4011.98 | AZ5: 4011.98 | BA5: 4011.98 | BB5: 4011.98 | BC5: 4011.98 | BD5: 4011.98 | BE5: 4011.98 | BF5: 4011.98 | BG5: 4011.98 | BH5: 4011.98 | BI5: 4011.98 | BJ5: 4011.98 | BK5: 4011.98 | BL5: 4011.98 | BM5: 4011.98 | BN5: 4011.98 | BO5: 4011.98 | BP5: 4011.98 | BQ5: 4011.98 | BR5: 4011.98 | BS5: 4011.98 | BT5: 4011.98 | BU5: 4011.98 | BV5: 4011.98 | BW5: 4011.98 | BX5: 4011.98 | BY5: 4011.98 | BZ5: 4011.98 | CA5: 4011.98 | CB5: 4011.98 | CC5: 4011.98 | CD5: 4011.98 | CE5: 4011.98 | CF5: 4011.98 | CG5: 4011.98 | CH5: 4011.98 | CI5: 4011.98 | CJ5: 4011.98 | CK5: 4011.98 | CL5: 4011.98 | CM5: 4011.98 | CN5: 4011.98 | CO5: 4011.98 | CP5: 4011.98 | CQ5: 4011.98 | CR5: 4011.98 | CS5: 4011.98 | CT5: 4011.98 | CU5: 4011.98 | CV5: 4011.98 | CW5: 4011.98 | CX5: 4011.98 | CY5: 4011.98 | CZ5: 4011.98 | DA5: 4011.98 | DB5: 4011.98 | DC5: 4011.98 | DD5: 4011.98 | DE5: 4011.98 | DF5: 4011.98 | DG5: 4011.98 | DH5: 4011.98 | DI5: 4011.98 | DJ5: 4011.98 | DK5: 4011.98 | DL5: 4011.98 | DM5: 4011.98 | DN5: 4011.98 | DO5: 4011.98 | DP5: 4011.98 | DQ5: 4011.98 | DR5: 4011.98 | DS5: 4011.98 | DT5: 4011.98 | DU5: 4011.98 | DV5: 4011.98 | DW5: 4011.98 | DX5: 4011.98 | DY5: 4011.98 | DZ5: 4011.98 | EA5: 4011.98 | EB5: 4011.98 | EC5: 4011.98 | ED5: 4011.98 | EE5: 4011.98 | EF5: 4011.98 | EG5: 4011.98 | EH5: 4011.98 | EI5: 4011.98 | EJ5: 4011.98 | EK5: 4011.98 | EL5: 4011.98 | EM5: 4011.98 | EN5: 4011.98 | EO5: 4011.98 | EP5: 4011.98 | EQ5: 4011.98 | ER5: 4011.98 | ES5: 4011.98 | ET5: 4011.98 | EU5: 4011.98 | EV5: 4011.98 | EW5: 4011.98 | EX5: 4011.98 | EY5: 4011.98 | EZ5: 4011.98 | FA5: 4011.98 | FB5: 4011.98 | FC5: 4011.98 | FD5: 4011.98 | FE5: 4011.98 | FF5: 4011.98 | FG5: 4011.98 | FH5: 4011.98 | FI5: 4011.98 | FJ5: 4011.98 | FK5: 4011.98 | FL5: 4011.98 | FM5: 4011.91 | FN5: 0 | FO5: 0 | FP5: 0 | FQ5: 0 | FR5: 0 | FS5: 0 | FT5: 0 | FU5: 0 | FV5: 0 | FW5: 0 | FX5: 0 | FY5: 0 | FZ5: 0 | GA5: 0 | GB5: 0 | GC5: 0 | GD5: 0 | GE5: 0 | GF5: 0 | GG5: 0 | GH5: 0 | GI5: 135667
A6: 136054 | B6: 5412 | C6: João Miguel Ridal Frutuoso | D6: 119.467.038-50 | E6: 0.100339 | F6: SWISS PARK ANAPOLIS | G6: Swiss Park Zurich - Anápolis | H6: =VLOOKUP(B6,Elegibilidade!A:I,9,0) -> Inelegível | I6: 171 | J6: 2383.94 | K6: =NPV(0.8%,T6:GH6) -> 341349.56 | L6: =J6+K6 -> 343733.5 | M6: Menor que 30 Dias | N6: 343733.5 | O6: =NPV((1+12%)^(1/12)-1,T6:GH6) -> 311715.92 | P6: =Vendas!$J$1 -> 885.1292 | Q6: 360 | R6: =P6*Q6 -> 318646.51 | S6: =O6/R6 -> 0.97824989 | T6: 9088.74 | U6: 9088.74 | V6: 16491.05 | W6: 2323.2 | X6: 2323.2 | Y6: 2323.2 | Z6: 2323.2 | AA6: 2323.2 | AB6: 2323.2 | AC6: 2323.2 | AD6: 2323.2 | AE6: 2323.2 | AF6: 2323.2 | AG6: 2323.2 | AH6: 16491.05 | AI6: 2323.2 | AJ6: 2323.2 | AK6: 2323.2 | AL6: 2323.2 | AM6: 2323.2 | AN6: 2323.2 | AO6: 2323.2 | AP6: 2323.2 | AQ6: 2323.2 | AR6: 2323.2 | AS6: 2323.2 | AT6: 16491.05 | AU6: 2323.2 | AV6: 2323.2 | AW6: 2323.2 | AX6: 2323.2 | AY6: 2323.2 | AZ6: 2323.2 | BA6: 2323.2 | BB6: 2323.2 | BC6: 2323.2 | BD6: 2323.2 | BE6: 2323.2 | BF6: 16491.05 | BG6: 2323.2 | BH6: 2323.2 | BI6: 2323.2 | BJ6: 2323.2 | BK6: 2323.2 | BL6: 2323.2 | BM6: 2323.2 | BN6: 2323.2 | BO6: 2323.2 | BP6: 2323.2 | BQ6: 2323.2 | BR6: 16491.05 | BS6: 2323.2 | BT6: 2323.2 | BU6: 2323.2 | BV6: 2323.2 | BW6: 2323.2 | BX6: 2323.2 | BY6: 2323.2 | BZ6: 2323.2 | CA6: 2323.2 | CB6: 2323.2 | CC6: 2323.2 | CD6: 16491.05 | CE6: 2323.2 | CF6: 2323.2 | CG6: 2323.2 | CH6: 2323.2 | CI6: 2323.2 | CJ6: 2323.2 | CK6: 2323.2 | CL6: 2323.2 | CM6: 2323.2 | CN6: 2323.2 | CO6: 2323.2 | CP6: 16491.05 | CQ6: 2323.2 | CR6: 2323.2 | CS6: 2323.2 | CT6: 2323.2 | CU6: 2323.2 | CV6: 2323.2 | CW6: 2323.2 | CX6: 2323.2 | CY6: 2323.2 | CZ6: 2323.2 | DA6: 2323.2 | DB6: 16491.05 | DC6: 2323.2 | DD6: 2323.2 | DE6: 2323.2 | DF6: 2323.2 | DG6: 2323.2 | DH6: 2323.2 | DI6: 2323.2 | DJ6: 2323.2 | DK6: 2323.2 | DL6: 2323.2 | DM6: 2323.2 | DN6: 16491.05 | DO6: 2323.2 | DP6: 2323.2 | DQ6: 2323.2 | DR6: 2323.2 | DS6: 2323.2 | DT6: 2323.2 | DU6: 2323.2 | DV6: 2323.2 | DW6: 2323.2 | DX6: 2323.2 | DY6: 2323.2 | DZ6: 16491.05 | EA6: 2323.2 | EB6: 2323.2 | EC6: 2323.2 | ED6: 2323.2 | EE6: 2323.2 | EF6: 2323.2 | EG6: 2323.2 | EH6: 2323.2 | EI6: 2323.2 | EJ6: 2323.2 | EK6: 2323.2 | EL6: 16491.05 | EM6: 2323.2 | EN6: 2323.2 | EO6: 2323.2 | EP6: 2323.2 | EQ6: 2323.2 | ER6: 2323.2 | ES6: 2323.2 | ET6: 2323.2 | EU6: 2323.2 | EV6: 2323.2 | EW6: 2323.2 | EX6: 16491.05 | EY6: 2323.2 | EZ6: 2323.2 | FA6: 2323.2 | FB6: 2323.2 | FC6: 2323.2 | FD6: 2323.2 | FE6: 2323.2 | FF6: 2323.2 | FG6: 2323.2 | FH6: 2323.2 | FI6: 2323.2 | FJ6: 16491.05 | FK6: 2323.2 | FL6: 2323.2 | FM6: 2323.2 | FN6: 2323.2 | FO6: 2323.2 | FP6: 2323.2 | FQ6: 2323.2 | FR6: 2323.2 | FS6: 2323.2 | FT6: 2323.2 | FU6: 2323.2 | FV6: 16491.05 | FW6: 2323.2 | FX6: 2323.2 | FY6: 2323.2 | FZ6: 2323.2 | GA6: 2323.2 | GB6: 2323.2 | GC6: 2323.2 | GD6: 2323.2 | GE6: 2323.2 | GF6: 2323.2 | GG6: 2323.2 | GH6: 2323.2 | GI6: 136054
A7: 136055 | B7: 5413 | C7: João Miguel Ridal Frutuoso | D7: 119.467.038-50 | E7: 0.100339 | F7: SWISS PARK ANAPOLIS | G7: Swiss Park Zurich - Anápolis | H7: =VLOOKUP(B7,Elegibilidade!A:I,9,0) -> Inelegível | I7: 171 | J7: 2342.28 | K7: =NPV(0.8%,T7:GH7) -> 335382.67 | L7: =J7+K7 -> 337724.95 | M7: Menor que 30 Dias | N7: 337724.95 | O7: =NPV((1+12%)^(1/12)-1,T7:GH7) -> 306267.02 | P7: =Vendas!$J$1 -> 885.1292 | Q7: 413.88 | R7: =P7*Q7 -> 366337.27 | S7: =O7/R7 -> 0.83602474 | T7: 8929.86 | U7: 8929.86 | V7: 16202.78 | W7: 2282.59 | X7: 2282.59 | Y7: 2282.59 | Z7: 2282.59 | AA7: 2282.59 | AB7: 2282.59 | AC7: 2282.59 | AD7: 2282.59 | AE7: 2282.59 | AF7: 2282.59 | AG7: 2282.59 | AH7: 16202.78 | AI7: 2282.59 | AJ7: 2282.59 | AK7: 2282.59 | AL7: 2282.59 | AM7: 2282.59 | AN7: 2282.59 | AO7: 2282.59 | AP7: 2282.59 | AQ7: 2282.59 | AR7: 2282.59 | AS7: 2282.59 | AT7: 16202.78 | AU7: 2282.59 | AV7: 2282.59 | AW7: 2282.59 | AX7: 2282.59 | AY7: 2282.59 | AZ7: 2282.59 | BA7: 2282.59 | BB7: 2282.59 | BC7: 2282.59 | BD7: 2282.59 | BE7: 2282.59 | BF7: 16202.78 | BG7: 2282.59 | BH7: 2282.59 | BI7: 2282.59 | BJ7: 2282.59 | BK7: 2282.59 | BL7: 2282.59 | BM7: 2282.59 | BN7: 2282.59 | BO7: 2282.59 | BP7: 2282.59 | BQ7: 2282.59 | BR7: 16202.78 | BS7: 2282.59 | BT7: 2282.59 | BU7: 2282.59 | BV7: 2282.59 | BW7: 2282.59 | BX7: 2282.59 | BY7: 2282.59 | BZ7: 2282.59 | CA7: 2282.59 | CB7: 2282.59 | CC7: 2282.59 | CD7: 16202.78 | CE7: 2282.59 | CF7: 2282.59 | CG7: 2282.59 | CH7: 2282.59 | CI7: 2282.59 | CJ7: 2282.59 | CK7: 2282.59 | CL7: 2282.59 | CM7: 2282.59 | CN7: 2282.59 | CO7: 2282.59 | CP7: 16202.78 | CQ7: 2282.59 | CR7: 2282.59 | CS7: 2282.59 | CT7: 2282.59 | CU7: 2282.59 | CV7: 2282.59 | CW7: 2282.59 | CX7: 2282.59 | CY7: 2282.59 | CZ7: 2282.59 | DA7: 2282.59 | DB7: 16202.78 | DC7: 2282.59 | DD7: 2282.59 | DE7: 2282.59 | DF7: 2282.59 | DG7: 2282.59 | DH7: 2282.59 | DI7: 2282.59 | DJ7: 2282.59 | DK7: 2282.59 | DL7: 2282.59 | DM7: 2282.59 | DN7: 16202.78 | DO7: 2282.59 | DP7: 2282.59 | DQ7: 2282.59 | DR7: 2282.59 | DS7: 2282.59 | DT7: 2282.59 | DU7: 2282.59 | DV7: 2282.59 | DW7: 2282.59 | DX7: 2282.59 | DY7: 2282.59 | DZ7: 16202.78 | EA7: 2282.59 | EB7: 2282.59 | EC7: 2282.59 | ED7: 2282.59 | EE7: 2282.59 | EF7: 2282.59 | EG7: 2282.59 | EH7: 2282.59 | EI7: 2282.59 | EJ7: 2282.59 | EK7: 2282.59 | EL7: 16202.78 | EM7: 2282.59 | EN7: 2282.59 | EO7: 2282.59 | EP7: 2282.59 | EQ7: 2282.59 | ER7: 2282.59 | ES7: 2282.59 | ET7: 2282.59 | EU7: 2282.59 | EV7: 2282.59 | EW7: 2282.59 | EX7: 16202.78 | EY7: 2282.59 | EZ7: 2282.59 | FA7: 2282.59 | FB7: 2282.59 | FC7: 2282.59 | FD7: 2282.59 | FE7: 2282.59 | FF7: 2282.59 | FG7: 2282.59 | FH7: 2282.59 | FI7: 2282.59 | FJ7: 16202.78 | FK7: 2282.59 | FL7: 2282.59 | FM7: 2282.59 | FN7: 2282.59 | FO7: 2282.59 | FP7: 2282.59 | FQ7: 2282.59 | FR7: 2282.59 | FS7: 2282.59 | FT7: 2282.59 | FU7: 2282.59 | FV7: 16202.78 | FW7: 2282.59 | FX7: 2282.59 | FY7: 2282.59 | FZ7: 2282.59 | GA7: 2282.59 | GB7: 2282.59 | GC7: 2282.59 | GD7: 2282.59 | GE7: 2282.59 | GF7: 2282.59 | GG7: 2282.59 | GH7: 2282.59 | GI7: 136055
A8: 135924 | B8: 6498 | C8: Camila Moreira De Queiroz Alencar | D8: 054.505.581-47 | E8: 0.100339 | F8: SWISS PARK ANAPOLIS | G8: Swiss Park Zurich - Anápolis | H8: =VLOOKUP(B8,Elegibilidade!A:I,9,0) -> Elegível | I8: 161 | J8: 0 | K8: =NPV(0.8%,T8:GH8) -> 335412.07 | L8: =J8+K8 -> 335412.07 | M8: Adimplente | N8: 335412.07 | O8: =NPV((1+12%)^(1/12)-1,T8:GH8) -> 306030.33 | P8: =Vendas!$J$1 -> 885.1292 | Q8: 360.39 | R8: =P8*Q8 -> 318991.71 | S8: =O8/R8 -> 0.95936765 | T8: 4128.46 | U8: 2632.62 | V8: 2632.62 | W8: 2632.62 | X8: 2632.62 | Y8: 2632.62 | Z8: 2632.62 | AA8: 2632.62 | AB8: 2632.62 | AC8: 16534.28 | AD8: 2632.62 | AE8: 2632.62 | AF8: 2632.62 | AG8: 2632.62 | AH8: 2632.62 | AI8: 2632.62 | AJ8: 2632.62 | AK8: 2632.62 | AL8: 2632.62 | AM8: 2632.62 | AN8: 2632.62 | AO8: 16534.28 | AP8: 2632.62 | AQ8: 2632.62 | AR8: 2632.62 | AS8: 2632.62 | AT8: 2632.62 | AU8: 2632.62 | AV8: 2632.62 | AW8: 2632.62 | AX8: 2632.62 | AY8: 2632.62 | AZ8: 2632.62 | BA8: 16534.28 | BB8: 2632.62 | BC8: 2632.62 | BD8: 2632.62 | BE8: 2632.62 | BF8: 2632.62 | BG8: 2632.62 | BH8: 2632.62 | BI8: 2632.62 | BJ8: 2632.62 | BK8: 2632.62 | BL8: 2632.62 | BM8: 16534.28 | BN8: 2632.62 | BO8: 2632.62 | BP8: 2632.62 | BQ8: 2632.62 | BR8: 2632.62 | BS8: 2632.62 | BT8: 2632.62 | BU8: 2632.62 | BV8: 2632.62 | BW8: 2632.62 | BX8: 2632.62 | BY8: 16534.28 | BZ8: 2632.62 | CA8: 2632.62 | CB8: 2632.62 | CC8: 2632.62 | CD8: 2632.62 | CE8: 2632.62 | CF8: 2632.62 | CG8: 2632.62 | CH8: 2632.62 | CI8: 2632.62 | CJ8: 2632.62 | CK8: 16534.28 | CL8: 2632.62 | CM8: 2632.62 | CN8: 2632.62 | CO8: 2632.62 | CP8: 2632.62 | CQ8: 2632.62 | CR8: 2632.62 | CS8: 2632.62 | CT8: 2632.62 | CU8: 2632.62 | CV8: 2632.62 | CW8: 16534.28 | CX8: 2632.62 | CY8: 2632.62 | CZ8: 2632.62 | DA8: 2632.62 | DB8: 2632.62 | DC8: 2632.62 | DD8: 2632.62 | DE8: 2632.62 | DF8: 2632.62 | DG8: 2632.62 | DH8: 2632.62 | DI8: 16534.28 | DJ8: 2632.62 | DK8: 2632.62 | DL8: 2632.62 | DM8: 2632.62 | DN8: 2632.62 | DO8: 2632.62 | DP8: 2632.62 | DQ8: 2632.62 | DR8: 2632.62 | DS8: 2632.62 | DT8: 2632.62 | DU8: 16534.28 | DV8: 2632.62 | DW8: 2632.62 | DX8: 2632.62 | DY8: 2632.62 | DZ8: 2632.62 | EA8: 2632.62 | EB8: 2632.62 | EC8: 2632.62 | ED8: 2632.62 | EE8: 2632.62 | EF8: 2632.62 | EG8: 16534.28 | EH8: 2632.62 | EI8: 2632.62 | EJ8: 2632.62 | EK8: 2632.62 | EL8: 2632.62 | EM8: 2632.62 | EN8: 2632.62 | EO8: 2632.62 | EP8: 2632.62 | EQ8: 2632.62 | ER8: 2632.62 | ES8: 16534.28 | ET8: 2632.62 | EU8: 2632.62 | EV8: 2632.62 | EW8: 2632.62 | EX8: 2632.62 | EY8: 2632.62 | EZ8: 2632.62 | FA8: 2632.62 | FB8: 2632.62 | FC8: 2632.62 | FD8: 2632.62 | FE8: 16534.24 | FF8: 2632.62 | FG8: 2632.62 | FH8: 2632.62 | FI8: 2632.62 | FJ8: 2632.62 | FK8: 2632.62 | FL8: 2632.62 | FM8: 2632.62 | FN8: 2632.62 | FO8: 2632.62 | FP8: 2632.62 | FQ8: 2632.62 | FR8: 2632.62 | FS8: 2632.62 | FT8: 2632.62 | FU8: 2632.62 | FV8: 2632.62 | FW8: 2632.62 | FX8: 2632.49 | FY8: 0 | FZ8: 0 | GA8: 0 | GB8: 0 | GC8: 0 | GD8: 0 | GE8: 0 | GF8: 0 | GG8: 0 | GH8: 0 | GI8: 135924
A9: 135654 | B9: 6379 | C9: Jorge Miguel Gonzales Dutra | D9: 011.205.931-74 | E9: 0.1003 | F9: SWISS PARK ANAPOLIS | G9: Swiss Park Zurich - Anápolis | H9: =VLOOKUP(B9,Elegibilidade!A:I,9,0) -> Elegível | I9: 145 | J9: 0 | K9: =NPV(0.8%,T9:GH9) -> 335341.21 | L9: =J9+K9 -> 335341.21 | M9: Adimplente | N9: 335341.21 | O9: =NPV((1+12%)^(1/12)-1,T9:GH9) -> 307766.29 | P9: =Vendas!$J$1 -> 885.1292 | Q9: 453.7 | R9: =P9*Q9 -> 401583.12 | S9: =O9/R9 -> 0.76638255 | T9: 3916.03 | U9: 3916.03 | V9: 3916.03 | W9: 3916.03 | X9: 3916.03 | Y9: 3916.03 | Z9: 3916.03 | AA9: 3916.03 | AB9: 3916.03 | AC9: 3916.03 | AD9: 3916.03 | AE9: 3916.03 | AF9: 3916.03 | AG9: 3916.03 | AH9: 3916.03 | AI9: 3916.03 | AJ9: 3916.03 | AK9: 3916.03 | AL9: 3916.03 | AM9: 3916.03 | AN9: 3916.03 | AO9: 3916.03 | AP9: 3916.03 | AQ9: 3916.03 | AR9: 3916.03 | AS9: 3916.03 | AT9: 3916.03 | AU9: 3916.03 | AV9: 3916.03 | AW9: 3916.03 | AX9: 3916.03 | AY9: 3916.03 | AZ9: 3916.03 | BA9: 3916.03 | BB9: 3916.03 | BC9: 3916.03 | BD9: 3916.03 | BE9: 3916.03 | BF9: 3916.03 | BG9: 3916.03 | BH9: 3916.03 | BI9: 3916.03 | BJ9: 3916.03 | BK9: 3916.03 | BL9: 3916.03 | BM9: 3916.03 | BN9: 3916.03 | BO9: 3916.03 | BP9: 3916.03 | BQ9: 3916.03 | BR9: 3916.03 | BS9: 3916.03 | BT9: 3916.03 | BU9: 3916.03 | BV9: 3916.03 | BW9: 3916.03 | BX9: 3916.03 | BY9: 3916.03 | BZ9: 3916.03 | CA9: 3916.03 | CB9: 3916.03 | CC9: 3916.03 | CD9: 3916.03 | CE9: 3916.03 | CF9: 3916.03 | CG9: 3916.03 | CH9: 3916.03 | CI9: 3916.03 | CJ9: 3916.03 | CK9: 3916.03 | CL9: 3916.03 | CM9: 3916.03 | CN9: 3916.03 | CO9: 3916.03 | CP9: 3916.03 | CQ9: 3916.03 | CR9: 3916.03 | CS9: 3916.03 | CT9: 3916.03 | CU9: 3916.03 | CV9: 3916.03 | CW9: 3916.03 | CX9: 3916.03 | CY9: 3916.03 | CZ9: 3916.03 | DA9: 3916.03 | DB9: 3916.03 | DC9: 3916.03 | DD9: 3916.03 | DE9: 3916.03 | DF9: 3916.03 | DG9: 3916.03 | DH9: 3916.03 | DI9: 3916.03 | DJ9: 3916.03 | DK9: 3916.03 | DL9: 3916.03 | DM9: 3916.03 | DN9: 3916.03 | DO9: 3916.03 | DP9: 3916.03 | DQ9: 3916.03 | DR9: 3916.03 | DS9: 3916.03 | DT9: 3916.03 | DU9: 3916.03 | DV9: 3916.03 | DW9: 3916.03 | DX9: 3916.03 | DY9: 3916.03 | DZ9: 3916.03 | EA9: 3916.03 | EB9: 3916.03 | EC9: 3916.03 | ED9: 3916.03 | EE9: 3916.03 | EF9: 3916.03 | EG9: 3916.03 | EH9: 3916.03 | EI9: 3916.03 | EJ9: 3916.03 | EK9: 3916.03 | EL9: 3916.03 | EM9: 3916.03 | EN9: 3916.03 | EO9: 3916.03 | EP9: 3916.03 | EQ9: 3916.03 | ER9: 3916.03 | ES9: 3916.03 | ET9: 3916.03 | EU9: 3916.03 | EV9: 3916.03 | EW9: 3916.03 | EX9: 3916.03 | EY9: 3916.03 | EZ9: 3916.03 | FA9: 3916.03 | FB9: 3916.03 | FC9: 3916.03 | FD9: 3916.03 | FE9: 3916.03 | FF9: 3916.03 | FG9: 3916.03 | FH9: 3916.03 | FI9: 0 | FJ9: 0 | FK9: 0 | FL9: 0 | FM9: 0 | FN9: 0 | FO9: 0 | FP9: 0 | FQ9: 0 | FR9: 0 | FS9: 0 | FT9: 0 | FU9: 0 | FV9: 0 | FW9: 0 | FX9: 0 | FY9: 0 | FZ9: 0 | GA9: 0 | GB9: 0 | GC9: 0 | GD9: 0 | GE9: 0 | GF9: 0 | GG9: 0 | GH9: 0 | GI9: 135654
A10: 135652 | B10: 6414 | C10: Joao Vitor Florian | D10: 753.943.751-00 | E10: 0.1003 | F10: SWISS PARK ANAPOLIS | G10: Swiss Park Zurich - Anápolis | H10: =VLOOKUP(B10,Elegibilidade!A:I,9,0) -> Elegível | I10: 153 | J10: 0 | K10: =NPV(0.8%,T10:GH10) -> 332988.89 | L10: =J10+K10 -> 332988.89 | M10: Adimplente | N10: 332988.89 | O10: =NPV((1+12%)^(1/12)-1,T10:GH10) -> 304543.67 | P10: =Vendas!$J$1 -> 885.1292 | Q10: 385.77 | R10: =P10*Q10 -> 341456.29 | S10: =O10/R10 -> 0.89189649 | T10: 3781.21 | U10: 3781.21 | V10: 3781.21 | W10: 3781.21 | X10: 3781.21 | Y10: 3781.21 | Z10: 3781.21 | AA10: 3781.21 | AB10: 3781.21 | AC10: 3781.21 | AD10: 3781.21 | AE10: 3781.21 | AF10: 3781.21 | AG10: 3781.21 | AH10: 3781.21 | AI10: 3781.21 | AJ10: 3781.21 | AK10: 3781.21 | AL10: 3781.21 | AM10: 3781.21 | AN10: 3781.21 | AO10: 3781.21 | AP10: 3781.21 | AQ10: 3781.21 | AR10: 3781.21 | AS10: 3781.21 | AT10: 3781.21 | AU10: 3781.21 | AV10: 3781.21 | AW10: 3781.21 | AX10: 3781.21 | AY10: 3781.21 | AZ10: 3781.21 | BA10: 3781.21 | BB10: 3781.21 | BC10: 3781.21 | BD10: 3781.21 | BE10: 3781.21 | BF10: 3781.21 | BG10: 3781.21 | BH10: 3781.21 | BI10: 3781.21 | BJ10: 3781.21 | BK10: 3781.21 | BL10: 3781.21 | BM10: 3781.21 | BN10: 3781.21 | BO10: 3781.21 | BP10: 3781.21 | BQ10: 3781.21 | BR10: 3781.21 | BS10: 3781.21 | BT10: 3781.21 | BU10: 3781.21 | BV10: 3781.21 | BW10: 3781.21 | BX10: 3781.21 | BY10: 3781.21 | BZ10: 3781.21 | CA10: 3781.21 | CB10: 3781.21 | CC10: 3781.21 | CD10: 3781.21 | CE10: 3781.21 | CF10: 3781.21 | CG10: 3781.21 | CH10: 3781.21 | CI10: 3781.21 | CJ10: 3781.21 | CK10: 3781.21 | CL10: 3781.21 | CM10: 3781.21 | CN10: 3781.21 | CO10: 3781.21 | CP10: 3781.21 | CQ10: 3781.21 | CR10: 3781.21 | CS10: 3781.21 | CT10: 3781.21 | CU10: 3781.21 | CV10: 3781.21 | CW10: 3781.21 | CX10: 3781.21 | CY10: 3781.21 | CZ10: 3781.21 | DA10: 3781.21 | DB10: 3781.21 | DC10: 3781.21 | DD10: 3781.21 | DE10: 3781.21 | DF10: 3781.21 | DG10: 3781.21 | DH10: 3781.21 | DI10: 3781.21 | DJ10: 3781.21 | DK10: 3781.21 | DL10: 3781.21 | DM10: 3781.21 | DN10: 3781.21 | DO10: 3781.21 | DP10: 3781.21 | DQ10: 3781.21 | DR10: 3781.21 | DS10: 3781.21 | DT10: 3781.21 | DU10: 3781.21 | DV10: 3781.21 | DW10: 3781.21 | DX10: 3781.21 | DY10: 3781.21 | DZ10: 3781.21 | EA10: 3781.21 | EB10: 3781.21 | EC10: 3781.21 | ED10: 3781.21 | EE10: 3781.21 | EF10: 3781.21 | EG10: 3781.21 | EH10: 3781.21 | EI10: 3781.21 | EJ10: 3781.21 | EK10: 3781.21 | EL10: 3781.21 | EM10: 3781.21 | EN10: 3781.21 | EO10: 3781.21 | EP10: 3781.21 | EQ10: 3781.21 | ER10: 3781.21 | ES10: 3781.21 | ET10: 3781.21 | EU10: 3781.21 | EV10: 3781.21 | EW10: 3781.21 | EX10: 3781.21 | EY10: 3781.21 | EZ10: 3781.21 | FA10: 3781.21 | FB10: 3781.21 | FC10: 3781.21 | FD10: 3781.21 | FE10: 3781.21 | FF10: 3781.21 | FG10: 3781.21 | FH10: 3781.21 | FI10: 3781.21 | FJ10: 3781.21 | FK10: 3781.21 | FL10: 3781.21 | FM10: 3781.21 | FN10: 3781.21 | FO10: 3781.21 | FP10: 3781.24 | FQ10: 0 | FR10: 0 | FS10: 0 | FT10: 0 | FU10: 0 | FV10: 0 | FW10: 0 | FX10: 0 | FY10: 0 | FZ10: 0 | GA10: 0 | GB10: 0 | GC10: 0 | GD10: 0 | GE10: 0 | GF10: 0 | GG10: 0 | GH10: 0 | GI10: 135652
A11: 135923 | B11: 6497 | C11: Moises Elias De Souza Alves | D11: 042.851.991-14 | E11: 0.100339 | F11: SWISS PARK ANAPOLIS | G11: Swiss Park Zurich - Anápolis | H11: =VLOOKUP(B11,Elegibilidade!A:I,9,0) -> Elegível | I11: 160 | J11: 0 | K11: =NPV(0.8%,T11:GH11) -> 332426.53 | L11: =J11+K11 -> 332426.53 | M11: Adimplente | N11: 332426.53 | O11: =NPV((1+12%)^(1/12)-1,T11:GH11) -> 303396.13 | P11: =Vendas!$J$1 -> 885.1292 | Q11: 376.8 | R11: =P11*Q11 -> 333516.68 | S11: =O11/R11 -> 0.90968803 | T11: 4100.63 | U11: 2614.88 | V11: 2614.88 | W11: 2614.88 | X11: 2614.88 | Y11: 2614.88 | Z11: 2614.88 | AA11: 2614.88 | AB11: 2614.88 | AC11: 16422.8 | AD11: 2614.88 | AE11: 2614.88 | AF11: 2614.88 | AG11: 2614.88 | AH11: 2614.88 | AI11: 2614.88 | AJ11: 2614.88 | AK11: 2614.88 | AL11: 2614.88 | AM11: 2614.88 | AN11: 2614.88 | AO11: 16422.8 | AP11: 2614.88 | AQ11: 2614.88 | AR11: 2614.88 | AS11: 2614.88 | AT11: 2614.88 | AU11: 2614.88 | AV11: 2614.88 | AW11: 2614.88 | AX11: 2614.88 | AY11: 2614.88 | AZ11: 2614.88 | BA11: 16422.8 | BB11: 2614.88 | BC11: 2614.88 | BD11: 2614.88 | BE11: 2614.88 | BF11: 2614.88 | BG11: 2614.88 | BH11: 2614.88 | BI11: 2614.88 | BJ11: 2614.88 | BK11: 2614.88 | BL11: 2614.88 | BM11: 16422.8 | BN11: 2614.88 | BO11: 2614.88 | BP11: 2614.88 | BQ11: 2614.88 | BR11: 2614.88 | BS11: 2614.88 | BT11: 2614.88 | BU11: 2614.88 | BV11: 2614.88 | BW11: 2614.88 | BX11: 2614.88 | BY11: 16422.8 | BZ11: 2614.88 | CA11: 2614.88 | CB11: 2614.88 | CC11: 2614.88 | CD11: 2614.88 | CE11: 2614.88 | CF11: 2614.88 | CG11: 2614.88 | CH11: 2614.88 | CI11: 2614.88 | CJ11: 2614.88 | CK11: 16422.8 | CL11: 2614.88 | CM11: 2614.88 | CN11: 2614.88 | CO11: 2614.88 | CP11: 2614.88 | CQ11: 2614.88 | CR11: 2614.88 | CS11: 2614.88 | CT11: 2614.88 | CU11: 2614.88 | CV11: 2614.88 | CW11: 16422.8 | CX11: 2614.88 | CY11: 2614.88 | CZ11: 2614.88 | DA11: 2614.88 | DB11: 2614.88 | DC11: 2614.88 | DD11: 2614.88 | DE11: 2614.88 | DF11: 2614.88 | DG11: 2614.88 | DH11: 2614.88 | DI11: 16422.8 | DJ11: 2614.88 | DK11: 2614.88 | DL11: 2614.88 | DM11: 2614.88 | DN11: 2614.88 | DO11: 2614.88 | DP11: 2614.88 | DQ11: 2614.88 | DR11: 2614.88 | DS11: 2614.88 | DT11: 2614.88 | DU11: 16422.8 | DV11: 2614.88 | DW11: 2614.88 | DX11: 2614.88 | DY11: 2614.88 | DZ11: 2614.88 | EA11: 2614.88 | EB11: 2614.88 | EC11: 2614.88 | ED11: 2614.88 | EE11: 2614.88 | EF11: 2614.88 | EG11: 16422.8 | EH11: 2614.88 | EI11: 2614.88 | EJ11: 2614.88 | EK11: 2614.88 | EL11: 2614.88 | EM11: 2614.88 | EN11: 2614.88 | EO11: 2614.88 | EP11: 2614.88 | EQ11: 2614.88 | ER11: 2614.88 | ES11: 16422.8 | ET11: 2614.88 | EU11: 2614.88 | EV11: 2614.88 | EW11: 2614.88 | EX11: 2614.88 | EY11: 2614.88 | EZ11: 2614.88 | FA11: 2614.88 | FB11: 2614.88 | FC11: 2614.88 | FD11: 2614.88 | FE11: 16422.77 | FF11: 2614.88 | FG11: 2614.88 | FH11: 2614.88 | FI11: 2614.88 | FJ11: 2614.88 | FK11: 2614.88 | FL11: 2614.88 | FM11: 2614.88 | FN11: 2614.88 | FO11: 2614.88 | FP11: 2614.88 | FQ11: 2614.88 | FR11: 2614.88 | FS11: 2614.88 | FT11: 2614.88 | FU11: 2614.88 | FV11: 2614.88 | FW11: 2614.88 | FX11: 0 | FY11: 0 | FZ11: 0 | GA11: 0 | GB11: 0 | GC11: 0 | GD11: 0 | GE11: 0 | GF11: 0 | GG11: 0 | GH11: 0 | GI11: 135923
A12: 136100 | B12: 5420 | C12: Vagner Ricardo de Souza Godoi | D12: 040.227.541-17 | E12: 0.100339 | F12: SWISS PARK ANAPOLIS | G12: Swiss Park Zurich - Anápolis | H12: =VLOOKUP(B12,Elegibilidade!A:I,9,0) -> Inelegível | I12: 170 | J12: 0 | K12: =NPV(0.8%,T12:GH12) -> 331477.97 | L12: =J12+K12 -> 331477.97 | M12: Adimplente | N12: 331477.97 | O12: =NPV((1+12%)^(1/12)-1,T12:GH12) -> 301937.18 | P12: =Vendas!$J$1 -> 885.1292 | Q12: 375.43 | R12: =P12*Q12 -> 332304.06 | S12: =O12/R12 -> 0.9086172 | T12: 11290.22 | U12: 11290.22 | V12: 2266.62 | W12: 2266.62 | X12: 2266.62 | Y12: 2266.62 | Z12: 2266.62 | AA12: 2266.62 | AB12: 2266.62 | AC12: 2266.62 | AD12: 2266.62 | AE12: 16332.94 | AF12: 2266.62 | AG12: 2266.62 | AH12: 2266.62 | AI12: 2266.62 | AJ12: 2266.62 | AK12: 2266.62 | AL12: 2266.62 | AM12: 2266.62 | AN12: 2266.62 | AO12: 2266.62 | AP12: 2266.62 | AQ12: 16332.94 | AR12: 2266.62 | AS12: 2266.62 | AT12: 2266.62 | AU12: 2266.62 | AV12: 2266.62 | AW12: 2266.62 | AX12: 2266.62 | AY12: 2266.62 | AZ12: 2266.62 | BA12: 2266.62 | BB12: 2266.62 | BC12: 16332.94 | BD12: 2266.62 | BE12: 2266.62 | BF12: 2266.62 | BG12: 2266.62 | BH12: 2266.62 | BI12: 2266.62 | BJ12: 2266.62 | BK12: 2266.62 | BL12: 2266.62 | BM12: 2266.62 | BN12: 2266.62 | BO12: 16332.94 | BP12: 2266.62 | BQ12: 2266.62 | BR12: 2266.62 | BS12: 2266.62 | BT12: 2266.62 | BU12: 2266.62 | BV12: 2266.62 | BW12: 2266.62 | BX12: 2266.62 | BY12: 2266.62 | BZ12: 2266.62 | CA12: 16332.94 | CB12: 2266.62 | CC12: 2266.62 | CD12: 2266.62 | CE12: 2266.62 | CF12: 2266.62 | CG12: 2266.62 | CH12: 2266.62 | CI12: 2266.62 | CJ12: 2266.62 | CK12: 2266.62 | CL12: 2266.62 | CM12: 16332.94 | CN12: 2266.62 | CO12: 2266.62 | CP12: 2266.62 | CQ12: 2266.62 | CR12: 2266.62 | CS12: 2266.62 | CT12: 2266.62 | CU12: 2266.62 | CV12: 2266.62 | CW12: 2266.62 | CX12: 2266.62 | CY12: 16332.94 | CZ12: 2266.62 | DA12: 2266.62 | DB12: 2266.62 | DC12: 2266.62 | DD12: 2266.62 | DE12: 2266.62 | DF12: 2266.62 | DG12: 2266.62 | DH12: 2266.62 | DI12: 2266.62 | DJ12: 2266.62 | DK12: 16332.94 | DL12: 2266.62 | DM12: 2266.62 | DN12: 2266.62 | DO12: 2266.62 | DP12: 2266.62 | DQ12: 2266.62 | DR12: 2266.62 | DS12: 2266.62 | DT12: 2266.62 | DU12: 2266.62 | DV12: 2266.62 | DW12: 16332.94 | DX12: 2266.62 | DY12: 2266.62 | DZ12: 2266.62 | EA12: 2266.62 | EB12: 2266.62 | EC12: 2266.62 | ED12: 2266.62 | EE12: 2266.62 | EF12: 2266.62 | EG12: 2266.62 | EH12: 2266.62 | EI12: 16332.94 | EJ12: 2266.62 | EK12: 2266.62 | EL12: 2266.62 | EM12: 2266.62 | EN12: 2266.62 | EO12: 2266.62 | EP12: 2266.62 | EQ12: 2266.62 | ER12: 2266.62 | ES12: 2266.62 | ET12: 2266.62 | EU12: 16332.94 | EV12: 2266.62 | EW12: 2266.62 | EX12: 2266.62 | EY12: 2266.62 | EZ12: 2266.62 | FA12: 2266.62 | FB12: 2266.62 | FC12: 2266.62 | FD12: 2266.62 | FE12: 2266.62 | FF12: 2266.62 | FG12: 16332.94 | FH12: 2266.62 | FI12: 2266.62 | FJ12: 2266.62 | FK12: 2266.62 | FL12: 2266.62 | FM12: 2266.62 | FN12: 2266.62 | FO12: 2266.62 | FP12: 2266.62 | FQ12: 2266.62 | FR12: 2266.62 | FS12: 16332.94 | FT12: 2266.62 | FU12: 2266.62 | FV12: 2266.62 | FW12: 2266.62 | FX12: 2266.62 | FY12: 2266.62 | FZ12: 2266.62 | GA12: 2266.62 | GB12: 2266.62 | GC12: 2266.62 | GD12: 2266.62 | GE12: 16332.94 | GF12: 2266.62 | GG12: 2266.62 | GH12: 0 | GI12: 136100
A13: 135616 | B13: 6399 | C13: Ancor Construtora Ltda | D13: 28.241.797/0001-38 | E13: 0.1003 | F13: SWISS PARK ANAPOLIS | G13: Swiss Park Zurich - Anápolis | H13: =VLOOKUP(B13,Elegibilidade!A:I,9,0) -> Elegível | I13: 149 | J13: 3851.99 | K13: =NPV(0.8%,T13:GH13) -> 325923.13 | L13: =J13+K13 -> 329775.12 | M13: Menor que 30 Dias | N13: 329775.12 | O13: =NPV((1+12%)^(1/12)-1,T13:GH13) -> 298597.3 | P13: =Vendas!$J$1 -> 885.1292 | Q13: 434.56 | R13: =P13*Q13 -> 384641.74 | S13: =O13/R13 -> 0.77629977 | T13: 3751.94 | U13: 3751.94 | V13: 3751.94 | W13: 3751.94 | X13: 3751.94 | Y13: 3751.94 | Z13: 3751.94 | AA13: 3751.94 | AB13: 3751.94 | AC13: 3751.94 | AD13: 3751.94 | AE13: 3751.94 | AF13: 3751.94 | AG13: 3751.94 | AH13: 3751.94 | AI13: 3751.94 | AJ13: 3751.94 | AK13: 3751.94 | AL13: 3751.94 | AM13: 3751.94 | AN13: 3751.94 | AO13: 3751.94 | AP13: 3751.94 | AQ13: 3751.94 | AR13: 3751.94 | AS13: 3751.94 | AT13: 3751.94 | AU13: 3751.94 | AV13: 3751.94 | AW13: 3751.94 | AX13: 3751.94 | AY13: 3751.94 | AZ13: 3751.94 | BA13: 3751.94 | BB13: 3751.94 | BC13: 3751.94 | BD13: 3751.94 | BE13: 3751.94 | BF13: 3751.94 | BG13: 3751.94 | BH13: 3751.94 | BI13: 3751.94 | BJ13: 3751.94 | BK13: 3751.94 | BL13: 3751.94 | BM13: 3751.94 | BN13: 3751.94 | BO13: 3751.94 | BP13: 3751.94 | BQ13: 3751.94 | BR13: 3751.94 | BS13: 3751.94 | BT13: 3751.94 | BU13: 3751.94 | BV13: 3751.94 | BW13: 3751.94 | BX13: 3751.94 | BY13: 3751.94 | BZ13: 3751.94 | CA13: 3751.94 | CB13: 3751.94 | CC13: 3751.94 | CD13: 3751.94 | CE13: 3751.94 | CF13: 3751.94 | CG13: 3751.94 | CH13: 3751.94 | CI13: 3751.94 | CJ13: 3751.94 | CK13: 3751.94 | CL13: 3751.94 | CM13: 3751.94 | CN13: 3751.94 | CO13: 3751.94 | CP13: 3751.94 | CQ13: 3751.94 | CR13: 3751.94 | CS13: 3751.94 | CT13: 3751.94 | CU13: 3751.94 | CV13: 3751.94 | CW13: 3751.94 | CX13: 3751.94 | CY13: 3751.94 | CZ13: 3751.94 | DA13: 3751.94 | DB13: 3751.94 | DC13: 3751.94 | DD13: 3751.94 | DE13: 3751.94 | DF13: 3751.94 | DG13: 3751.94 | DH13: 3751.94 | DI13: 3751.94 | DJ13: 3751.94 | DK13: 3751.94 | DL13: 3751.94 | DM13: 3751.94 | DN13: 3751.94 | DO13: 3751.94 | DP13: 3751.94 | DQ13: 3751.94 | DR13: 3751.94 | DS13: 3751.94 | DT13: 3751.94 | DU13: 3751.94 | DV13: 3751.94 | DW13: 3751.94 | DX13: 3751.94 | DY13: 3751.94 | DZ13: 3751.94 | EA13: 3751.94 | EB13: 3751.94 | EC13: 3751.94 | ED13: 3751.94 | EE13: 3751.94 | EF13: 3751.94 | EG13: 3751.94 | EH13: 3751.94 | EI13: 3751.94 | EJ13: 3751.94 | EK13: 3751.94 | EL13: 3751.94 | EM13: 3751.94 | EN13: 3751.94 | EO13: 3751.94 | EP13: 3751.94 | EQ13: 3751.94 | ER13: 3751.94 | ES13: 3751.94 | ET13: 3751.94 | EU13: 3751.94 | EV13: 3751.94 | EW13: 3751.94 | EX13: 3751.94 | EY13: 3751.94 | EZ13: 3751.94 | FA13: 3751.94 | FB13: 3751.94 | FC13: 3751.94 | FD13: 3751.94 | FE13: 3751.94 | FF13: 3751.94 | FG13: 3751.94 | FH13: 3751.94 | FI13: 3751.94 | FJ13: 3751.94 | FK13: 3751.94 | FL13: 3751.9 | FM13: 0 | FN13: 0 | FO13: 0 | FP13: 0 | FQ13: 0 | FR13: 0 | FS13: 0 | FT13: 0 | FU13: 0 | FV13: 0 | FW13: 0 | FX13: 0 | FY13: 0 | FZ13: 0 | GA13: 0 | GB13: 0 | GC13: 0 | GD13: 0 | GE13: 0 | GF13: 0 | GG13: 0 | GH13: 0 | GI13: 135616
