Workbook
Name bancario: 'Extratos Bancários'!$A$1:OFFSET('Extratos Bancários'!$A$1,COUNTA('Extratos Bancários'!$A:$A)-1,COUNTA('Extratos Bancários'!$1:$1)-1)
Name BDados: #REF!:OFFSET(#REF!,COUNTA(#REF!)-3,COUNTA(#REF!)-1)
Name BDados: Bdados!$A$3:OFFSET(Bdados!$A$3,COUNTA(Bdados!$A:$A)-3,COUNTA(Bdados!$3:$3)-1)
Name BDados: #REF!:OFFSET(#REF!,COUNTA(#REF!)-3,COUNTA(#REF!)-1)
Name BDadosAnt: #REF!:OFFSET(#REF!,COUNTA(#REF!)-3,COUNTA(#REF!)-1)
Name BDadosAnt: #REF!:OFFSET(#REF!,COUNTA(#REF!)-3,COUNTA(#REF!)-1)
Name CarteiraAtiva: #REF!:OFFSET(#REF!,COUNTA(#REF!)-2,COUNTA(#REF!)-1)
Name CarteiraAtiva: #REF!:OFFSET(#REF!,COUNTA(#REF!)-2,COUNTA(#REF!)-1)
Name CarteiraDistrato: #REF!:OFFSET(#REF!,COUNTA(#REF!)-2,COUNTA(#REF!)-1)
Name CarteiraDistrato: #REF!:OFFSET(#REF!,COUNTA(#REF!)-2,COUNTA(#REF!)-1)
Name contas: 'Lista de Contas'!$B$2:$B$4
Name Cronograma: #REF!:OFFSET(#REF!,COUNTA(#REF!)-1,COUNTA(#REF!)-1)
Name Cronograma: #REF!:OFFSET(#REF!,COUNTA(#REF!)-1,COUNTA(#REF!)-1)
Name DadosEmp: #REF!:OFFSET(#REF!,COUNTA(#REF!)-1,COUNTA(#REF!)-1)
Name DadosEmp: #REF!:OFFSET(#REF!,COUNTA(#REF!)-1,COUNTA(#REF!)-1)
Name Ext_Bancarios: #REF!:OFFSET(#REF!,COUNTA(#REF!)-1,COUNTA(#REF!)-1)
Name Ext_Bancarios: #REF!:OFFSET(#REF!,COUNTA(#REF!)-1,COUNTA(#REF!)-1)
Name Ext_Bancarios: #REF!:OFFSET(#REF!,COUNTA(#REF!)-1,COUNTA(#REF!)-1)
Name Ext_Clientes: #REF!:OFFSET(#REF!,COUNTA(#REF!)-2,COUNTA(#REF!)-1)
Name Ext_Clientes: #REF!:OFFSET(#REF!,COUNTA(#REF!)-2,COUNTA(#REF!)-1)
Name Ext_Clientes: #REF!:OFFSET(#REF!,COUNTA(#REF!)-2,COUNTA(#REF!)-1)
Name incorrido: 'Fluxo Incorrido'!$A$1:OFFSET('Fluxo Incorrido'!$A$1,COUNTA('Fluxo Incorrido'!$A:$A)-1,COUNTA('Fluxo Incorrido'!$1:$1)-1)
Name Juros: #REF!:OFFSET(#REF!,COUNTA(#REF!)-4,COUNTA(#REF!)-1)
Name Juros: #REF!:OFFSET(#REF!,COUNTA(#REF!)-4,COUNTA(#REF!)-1)
Name Lista_Contas: #REF!:OFFSET(#REF!,COUNTA(#REF!)-1,0)
Name Lista_Contas: #REF!:OFFSET(#REF!,COUNTA(#REF!)-1,0)
Name Lista_Contas: #REF!:OFFSET(#REF!,COUNTA(#REF!)-1,0)
Name ListaEmp: #REF!:OFFSET(#REF!,COUNTA(#REF!)-1,0)
Name ListaEmp: #REF!:OFFSET(#REF!,COUNTA(#REF!)-1,0)
Name PosicaoBanco: #REF!:OFFSET(#REF!,COUNTA(#REF!)-1,COUNTA(#REF!)-1)
Name PosicaoBanco: #REF!:OFFSET(#REF!,COUNTA(#REF!)-1,COUNTA(#REF!)-1)
Name Reembolsos: 'Reembolsos Solicidados'!$A$2:OFFSET('Reembolsos Solicidados'!$A$2,COUNTA('Reembolsos Solicidados'!$A:$A)-1,COUNTA('Reembolsos Solicidados'!$2:$2)-1)
Name Reembolsos: 'Reembolsos Solicidados'!$A$2:OFFSET('Reembolsos Solicidados'!$A$2,COUNTA('Reembolsos Solicidados'!$A:$A)-1,COUNTA('Reembolsos Solicidados'!$2:$2)-1)
Name Reembolsos: 'Reembolsos Solicidados'!$A$2:OFFSET('Reembolsos Solicidados'!$A$2,COUNTA('Reembolsos Solicidados'!$A:$A)-1,COUNTA('Reembolsos Solicidados'!$2:$2)-1)

Sheet Extratos Bancários
A1: Empreendimento Ajustado | B1: Empresa Ajustada | C1: Banco | D1: Agência | E1: Conta | F1: Data | G1: Descrição | H1: Complemento | I1: Documento | J1: Créditos | K1: Débitos | L1: Valor | M1: Aux Abs | N1: Aux | O1: Mês | P1: Classificação
A2: Jardins | B2: Consolação | C2: Itaú | D2: 7307 | E2: 51562-2 | F2: 45366 | G2: SISPAG PAG TIT 15008360 | K2: -750 | L2: -750 | M2: 750 | N2: 0 | O2: 45352
A3: Jardins | B3: Consolação | C3: Itaú | D3: 7307 | E3: 51562-2 | F3: 45366 | G3: SISPAG PAG TIT 16008360 | K3: -330 | L3: -330 | M3: 330 | N3: 0 | O3: 45352
A4: Jardins | B4: Consolação | C4: Itaú | D4: 7307 | E4: 51562-2 | F4: 45366 | G4: SISPAG FORNECEDORES | K4: -98542.5 | L4: -98542.5 | M4: 98542.5 | N4: 0 | O4: 45352
A5: Jardins | B5: Consolação | C5: Itaú | D5: 7307 | E5: 51562-2 | F5: 45366 | G5: TED 237.3396.NC H E E P | J5: 130000 | L5: 130000 | M5: 130000 | N5: 0 | O5: 45352
A6: Jardins | B6: Consolação | C6: Itaú | D6: 7307 | E6: 51562-2 | F6: 45369 | G6: SISPAG PAG TIT 67714651 | K6: -22379.74 | L6: -22379.74 | M6: 22379.74 | N6: 0 | O6: 45352
A7: Jardins | B7: Consolação | C7: Itaú | D7: 7307 | E7: 51562-2 | F7: 45369 | G7: REND PAGO APLIC AUT MAIS | J7: 0.01 | L7: 0.01 | M7: 0.01 | N7: 0 | O7: 45352
A8: Jardins | B8: Consolação | C8: Itaú | D8: 7307 | E8: 51562-2 | F8: 45370 | G8: SISPAG PAG TIT BANCO 00 | K8: -2627.8 | L8: -2627.8 | M8: 2627.8 | N8: 0 | O8: 45352
A9: Jardins | B9: Consolação | C9: Itaú | D9: 7307 | E9: 51562-2 | F9: 45370 | G9: REND PAGO APLIC AUT MAIS | J9: 0.01 | L9: 0.01 | M9: 0.01 | N9: 0 | O9: 45352
A10: Jardins | B10: Consolação | C10: Itaú | D10: 7307 | E10: 51562-2 | F10: 45371 | G10: SISPAG PAG TIT BANCO 00 | K10: -774.84 | L10: -774.84 | M10: 774.84 | N10: 0 | O10: 45352
A11: Jardins | B11: Consolação | C11: Itaú | D11: 7307 | E11: 51562-2 | F11: 45371 | G11: SISPAG PAG TIT BANCO 23 | K11: -44.41 | L11: -44.41 | M11: 44.41 | N11: 0 | O11: 45352
A12: Jardins | B12: Consolação | C12: Itaú | D12: 7307 | E12: 51562-2 | F12: 45371 | G12: SISPAG PAG TIT BANCO 23 | K12: -44.41 | L12: -44.41 | M12: 44.41 | N12: 0 | O12: 45352
A13: Jardins | B13: Consolação | C13: Itaú | D13: 7307 | E13: 51562-2 | F13: 45371 | G13: SISPAG PAG TIT BANCO 23 | K13: -44.41 | L13: -44.41 | M13: 44.41 | N13: 0 | O13: 45352
A14: Jardins | B14: Consolação | C14: Itaú | D14: 7307 | E14: 51562-2 | F14: 45371 | G14: SISPAG PAG TIT BANCO 23 | K14: -44.41 | L14: -44.41 | M14: 44.41 | N14: 0 | O14: 45352
A15: Jardins | B15: Consolação | C15: Itaú | D15: 7307 | E15: 51562-2 | F15: 45371 | G15: SISPAG PAG TIT BANCO 23 | K15: -44.41 | L15: -44.41 | M15: 44.41 | N15: 0 | O15: 45352
A16: Jardins | B16: Consolação | C16: Itaú | D16: 7307 | E16: 51562-2 | F16: 45371 | G16: SISPAG PAG TIT BANCO 23 | K16: -44.41 | L16: -44.41 | M16: 44.41 | N16: 0 | O16: 45352
A17: Jardins | B17: Consolação | C17: Itaú | D17: 7307 | E17: 51562-2 | F17: 45371 | G17: SISPAG TRIBUTOS | K17: -15502.62 | L17: -15502.62 | M17: 15502.62 | N17: 0 | O17: 45352
A18: Jardins | B18: Consolação | C18: Itaú | D18: 7307 | E18: 51562-2 | F18: 45371 | G18: SISPAG FORNECEDORES | K18: -10451 | L18: -10451 | M18: 10451 | N18: 0 | O18: 45352
A19: Jardins | B19: Consolação | C19: Itaú | D19: 7307 | E19: 51562-2 | F19: 45371 | G19: SISPAG FORNECEDORES TED | K19: -9500 | L19: -9500 | M19: 9500 | N19: 0 | O19: 45352
A20: Jardins | B20: Consolação | C20: Itaú | D20: 7307 | E20: 51562-2 | F20: 45371 | G20: PIX TRANSF NC HOLD20/03 | J20: 60000 | L20: 60000 | M20: 60000 | N20: 0 | O20: 45352
A21: Jardins | B21: Consolação | C21: Itaú | D21: 7307 | E21: 51562-2 | F21: 45372 | G21: SISPAG PAG TIT BANCO 23 | K21: -44.41 | L21: -44.41 | M21: 44.41 | N21: 0 | O21: 45352
A22: Jardins | B22: Consolação | C22: Itaú | D22: 7307 | E22: 51562-2 | F22: 45372 | G22: SISPAG PAG TIT BANCO 23 | K22: -44.41 | L22: -44.41 | M22: 44.41 | N22: 0 | O22: 45352
A23: Jardins | B23: Consolação | C23: Itaú | D23: 7307 | E23: 51562-2 | F23: 45372 | G23: SISPAG PAG TIT BANCO 23 | K23: -44.41 | L23: -44.41 | M23: 44.41 | N23: 0 | O23: 45352
A24: Jardins | B24: Consolação | C24: Itaú | D24: 7307 | E24: 51562-2 | F24: 45372 | G24: SISPAG PAG TIT BANCO 23 | K24: -44.41 | L24: -44.41 | M24: 44.41 | N24: 0 | O24: 45352
A25: Jardins | B25: Consolação | C25: Itaú | D25: 7307 | E25: 51562-2 | F25: 45372 | G25: SISPAG FORNECEDORES | K25: -1666.66 | L25: -1666.66 | M25: 1666.66 | N25: 0 | O25: 45352
A26: Jardins | B26: Consolação | C26: Itaú | D26: 7307 | E26: 51562-2 | F26: 45372 | G26: SISPAG FORNECEDORES TED | K26: -15451 | L26: -15451 | M26: 15451 | N26: 0 | O26: 45352
A27: Jardins | B27: Consolação | C27: Itaú | D27: 7307 | E27: 51562-2 | F27: 45372 | G27: SISPAG FORNECEDORES TED | K27: -4999.98 | L27: -4999.98 | M27: 4999.98 | N27: 0 | O27: 45352
A28: Jardins | B28: Consolação | C28: Itaú | D28: 7307 | E28: 51562-2 | F28: 45372 | G28: REND PAGO APLIC AUT MAIS | J28: 0.04 | L28: 0.04 | M28: 0.04 | N28: 0 | O28: 45352
A29: Jardins | B29: Consolação | C29: Itaú | D29: 7307 | E29: 51562-2 | F29: 45373 | G29: SISPAG PAG TIT BANCO 23 | K29: -44.41 | L29: -44.41 | M29: 44.41 | N29: 0 | O29: 45352
A30: Jardins | B30: Consolação | C30: Itaú | D30: 7307 | E30: 51562-2 | F30: 45373 | G30: SISPAG PAG TIT BANCO 23 | K30: -130.43 | L30: -130.43 | M30: 130.43 | N30: 0 | O30: 45352
A31: Jardins | B31: Consolação | C31: Itaú | D31: 7307 | E31: 51562-2 | F31: 45373 | G31: SISPAG PAG TIT BANCO 23 | K31: -44.41 | L31: -44.41 | M31: 44.41 | N31: 0 | O31: 45352
A32: Jardins | B32: Consolação | C32: Itaú | D32: 7307 | E32: 51562-2 | F32: 45373 | G32: SISPAG PAG TIT BANCO 23 | K32: -44.41 | L32: -44.41 | M32: 44.41 | N32: 0 | O32: 45352
A33: Jardins | B33: Consolação | C33: Itaú | D33: 7307 | E33: 51562-2 | F33: 45376 | G33: SISPAG PAG TIT BANCO 23 | K33: -44.41 | L33: -44.41 | M33: 44.41 | N33: 0 | O33: 45352
A34: Jardins | B34: Consolação | C34: Itaú | D34: 7307 | E34: 51562-2 | F34: 45377 | G34: SISPAG PAG TIT BANCO 23 | K34: -22.91 | L34: -22.91 | M34: 22.91 | N34: 0 | O34: 45352
A35: Jardins | B35: Consolação | C35: Itaú | D35: 7307 | E35: 51562-2 | F35: 45377 | G35: SISPAG PAG TIT BANCO 23 | K35: -65.93 | L35: -65.93 | M35: 65.93 | N35: 0 | O35: 45352
A36: Jardins | B36: Consolação | C36: Itaú | D36: 7307 | E36: 51562-2 | F36: 45379 | G36: SISPAG PAG TIT BANCO 23 | K36: -22.91 | L36: -22.91 | M36: 22.91 | N36: 0 | O36: 45352
A37: Jardins | B37: Consolação | C37: Itaú | D37: 7307 | E37: 51562-2 | F37: 45379 | G37: SISPAG PAG TIT BANCO 23 | K37: -65.93 | L37: -65.93 | M37: 65.93 | N37: 0 | O37: 45352
A38: Jardins | B38: Consolação | C38: Itaú | D38: 7307 | E38: 51562-2 | F38: 45379 | G38: SISPAG PAG TIT 67714651 | K38: -11189.87 | L38: -11189.87 | M38: 11189.87 | N38: 0 | O38: 45352
A39: Jardins | B39: Consolação | C39: Itaú | D39: 7307 | E39: 51562-2 | F39: 45379 | G39: SISPAG FORNECEDORES | K39: -35000 | L39: -35000 | M39: 35000 | N39: 0 | O39: 45352
A40: Jardins | B40: Consolação | C40: Itaú | D40: 7307 | E40: 51562-2 | F40: 45379 | G40: SISPAG FORNECEDORES | K40: -3750 | L40: -3750 | M40: 3750 | N40: 0 | O40: 45352
...

Sheet Planilha1
A3: Data Ajustada | B3: Conciliação Reembolso | C3: Documento | D3: Desc | E3: Soma de Valor Total | F3: cpvt | G3: doc
A4: 45384 | B4: 7 | C4: FAT.63044824 | D4: 13 OFICIAL DE REGISTRO DE IMOVEIS DA CAPITAL | E4: -1109.54 | F4: ok | I4: =D4&" - "&C4 -> 13 OFICIAL DE REGISTRO DE IMOVEIS DA CAPITAL - FAT.63044824
B5: 94 | C5: FAT.11169857 | D5: ASSOCIACAO DOS REGISTRADORES IMOBILIARIOS DE SAO PAULO | E5: -22.91 | F5: ok | I5: =D5&" - "&C5 -> ASSOCIACAO DOS REGISTRADORES IMOBILIARIOS DE SAO PAULO - FAT.11169857
A6: 45386 | B6: 92 | C6: FAT.510720240214000 | D6: LIBERTY SEGUROS S/A | E6: -14876.75 | F6: ok | I6: =D6&" - "&C6 -> LIBERTY SEGUROS S/A - FAT.510720240214000
A7: 45387 | B7: 26 | C7: NFSE.00456 | D7: M.C SILVA SOCIEDADE INDIVIDUAL DE ADVOCACIA. | E7: -20000 | F7: ok | I7: =D7&" - "&C7 -> M.C SILVA SOCIEDADE INDIVIDUAL DE ADVOCACIA. - NFSE.00456
B8: 27 | C8: FAT.14602 | D8: 20 TABELIAO DE NOTAS DA CAPITAL | E8: -23668.13 | F8: ok | I8: =D8&" - "&C8 -> 20 TABELIAO DE NOTAS DA CAPITAL - FAT.14602
B9: 28 | C9: FAT.14606 | D9: 20 TABELIAO DE NOTAS DA CAPITAL | E9: -18521.91 | F9: ok | I9: =D9&" - "&C9 -> 20 TABELIAO DE NOTAS DA CAPITAL - FAT.14606
B10: 29 | C10: FAT.14089 | D10: 20 TABELIAO DE NOTAS DA CAPITAL | E10: -10060.74 | F10: ok | I10: =D10&" - "&C10 -> 20 TABELIAO DE NOTAS DA CAPITAL - FAT.14089
B11: 30 | C11: FAT.14637 | D11: 20 TABELIAO DE NOTAS DA CAPITAL | E11: -9509.55 | F11: ok | I11: =D11&" - "&C11 -> 20 TABELIAO DE NOTAS DA CAPITAL - FAT.14637
B12: 31 | C12: FAT.14608 | D12: 20 TABELIAO DE NOTAS DA CAPITAL | E12: -16140.79 | F12: ok | I12: =D12&" - "&C12 -> 20 TABELIAO DE NOTAS DA CAPITAL - FAT.14608
B13: 32 | C13: FAT.14604 | D13: 20 TABELIAO DE NOTAS DA CAPITAL | E13: -6150.49 | F13: ok | I13: =D13&" - "&C13 -> 20 TABELIAO DE NOTAS DA CAPITAL - FAT.14604
B14: 33 | C14: FAT.14641 | D14: 20 TABELIAO DE NOTAS DA CAPITAL | E14: -16211.23 | F14: ok | I14: =D14&" - "&C14 -> 20 TABELIAO DE NOTAS DA CAPITAL - FAT.14641
B15: 34 | C15: FAT.14741 | D15: 20 TABELIAO DE NOTAS DA CAPITAL | E15: -15172.99 | F15: ok | I15: =D15&" - "&C15 -> 20 TABELIAO DE NOTAS DA CAPITAL - FAT.14741
A16: 45390 | B16: 1 | C16: NFSE.000460 | D16: M.C SILVA SOCIEDADE INDIVIDUAL DE ADVOCACIA. | E16: -21354 | F16: ok | I16: =D16&" - "&C16 -> M.C SILVA SOCIEDADE INDIVIDUAL DE ADVOCACIA. - NFSE.000460
B17: 35 | C17: FAT.497163 | D17: CRISTINA PACHECO RIBEIRO | E17: -245.22 | F17: ok | I17: =D17&" - "&C17 -> CRISTINA PACHECO RIBEIRO - FAT.497163
B18: 89 | C18: FAT.54846 | D18: NATHALIA MARTINS ASSESSORIA LTDA | E18: -107.83 | F18: ok | I18: =D18&" - "&C18 -> NATHALIA MARTINS ASSESSORIA LTDA - FAT.54846
B19: 90 | C19: NFSE.000204 | D19: PLANET APP DESENVOLVIMENTO E SERVICOS S/S LTDA. | E19: -10000 | F19: ok | I19: =D19&" - "&C19 -> PLANET APP DESENVOLVIMENTO E SERVICOS S/S LTDA. - NFSE.000204
A20: 45391 | B20: 88 | C20: NFSE.000175 | D20: CSRF / LASTRO SERVICOS E NEGOCIOS IMOBILIARIOS LTDA | E20: 6441.13 | F20: ok | I20: =D20&" - "&C20 -> CSRF / LASTRO SERVICOS E NEGOCIOS IMOBILIARIOS LTDA - NFSE.000175
C21: NFSE.000175 | D21: IR 1708 / LASTRO SERVICOS E NEGOCIOS IMOBILIARIOS LTDA | E21: 2077.78 | F21: ok | I21: =D21&" - "&C21 -> IR 1708 / LASTRO SERVICOS E NEGOCIOS IMOBILIARIOS LTDA - NFSE.000175
C22: NFSE.000175 | D22: LASTRO SERVICOS E NEGOCIOS IMOBILIARIOS LTDA | E22: -138518.91 | F22: ok | I22: =D22&" - "&C22 -> LASTRO SERVICOS E NEGOCIOS IMOBILIARIOS LTDA - NFSE.000175
A23: 45394 | B23: 36 | C23: NFSE.000005 | D23: BNS AGENCIAMENTO E INTERMEDIACAO DE SERVICOS E IMOVEIS LTDA | E23: -357750 | F23: ok | I23: =D23&" - "&C23 -> BNS AGENCIAMENTO E INTERMEDIACAO DE SERVICOS E IMOVEIS LTDA - NFSE.000005
B24: 37 | C24: NFSE.000723 | D24: IRRINVEST GESTAO E ADMINISTRACAO IMOBILIARIA LTDA | E24: -357750 | F24: ok | I24: =D24&" - "&C24 -> IRRINVEST GESTAO E ADMINISTRACAO IMOBILIARIA LTDA - NFSE.000723
B25: 38 | C25: NFSE.000008 | D25: JOAQUIM GUTIERREZ ANTONIO | E25: -357750 | F25: ok | I25: =D25&" - "&C25 -> JOAQUIM GUTIERREZ ANTONIO - NFSE.000008
B26: 39 | C26: NFSE.001226 | D26: ESTUDIO FAVO ARQUITETURA LTDA | E26: -3750 | F26: ok | I26: =D26&" - "&C26 -> ESTUDIO FAVO ARQUITETURA LTDA - NFSE.001226
B27: 40 | C27: REC.100424 | D27: ANGELO MONTALBANO | E27: -503.74 | F27: ok | I27: =D27&" - "&C27 -> ANGELO MONTALBANO - REC.100424
B28: 41 | C28: NFSE.000028 | D28: FRANQUE DELMO ELOIA 02360154435 | E28: -2050 | F28: ok | I28: =D28&" - "&C28 -> FRANQUE DELMO ELOIA 02360154435 - NFSE.000028
B29: 85 | C29: NFSE.00005 | D29: AVANTE CONSULTORIA DE NEGOCIOS LTDA | E29: -107325 | F29: ok | I29: =D29&" - "&C29 -> AVANTE CONSULTORIA DE NEGOCIOS LTDA - NFSE.00005
B30: 86 | E30: -250425 | F30: ok | I30: =D30&" - "&C30 -> -
A31: 45397 | B31: 82 | C31: ADT.000441 | D31: CAMPO SAO BENTO GESTAO DE PROJETOS AMBIENTAIS EIRELI | E31: -40000 | F31: ok | I31: =D31&" - "&C31 -> CAMPO SAO BENTO GESTAO DE PROJETOS AMBIENTAIS EIRELI - ADT.000441
A32: 45398 | B32: 79 | C32: NFSE.000027 | D32: FRANQUE DELMO ELOIA 02360154435 | E32: -800 | F32: ok | I32: =D32&" - "&C32 -> FRANQUE DELMO ELOIA 02360154435 - NFSE.000027
B33: 80 | C33: NFSE.000028 | D33: FRANQUE DELMO ELOIA 02360154435 | E33: -2050 | F33: ok | I33: =D33&" - "&C33 -> FRANQUE DELMO ELOIA 02360154435 - NFSE.000028
B34: 81 | C34: NF.000316 | D34: CSRF / NG ENGENHARIA S/C LTDA | E34: 544.05 | F34: ok | I34: =D34&" - "&C34 -> CSRF / NG ENGENHARIA S/C LTDA - NF.000316
C35: NF.000316 | D35: IR 1708 / NG ENGENHARIA S/C LTDA | E35: 175.5 | F35: ok | I35: =D35&" - "&C35 -> IR 1708 / NG ENGENHARIA S/C LTDA - NF.000316
C36: NF.000316 | D36: NG ENGENHARIA S/C LTDA | E36: -11700 | F36: ver | H36: RENATA LAPASTINA | I36: =D36&" - "&C36 -> NG ENGENHARIA S/C LTDA - NF.000316
A37: 45399 | B37: 42 | C37: NFSE.000018 | D37: NORSK EMPREENDIMENTOS E PARTICIPACOES LTDA. | E37: -100000 | F37: ok | I37: =D37&" - "&C37 -> NORSK EMPREENDIMENTOS E PARTICIPACOES LTDA. - NFSE.000018
B38: 83 | C38: NFSE.002164 | D38: CERTENGE LAUDOS AVALIACOES E PERICIAS LTDA | E38: -2100 | F38: ok | I38: =D38&" - "&C38 -> CERTENGE LAUDOS AVALIACOES E PERICIAS LTDA - NFSE.002164
C39: NFSE.002164 | D39: CSRF / CERTENGE LAUDOS AVALIACOES E PERICIAS LTDA | E39: 97.65 | F39: ok | I39: =D39&" - "&C39 -> CSRF / CERTENGE LAUDOS AVALIACOES E PERICIAS LTDA - NFSE.002164
C40: NFSE.002164 | D40: IR 1708 / CERTENGE LAUDOS AVALIACOES E PERICIAS LTDA | E40: 31.5 | F40: ok | G40: ok | I40: =D40&" - "&C40 -> IR 1708 / CERTENGE LAUDOS AVALIACOES E PERICIAS LTDA - NFSE.002164
A41: 45401 | B41: 43 | C41: NFSE.001873 | D41: AROEIRA MEIO AMBIENTE LTDA | E41: -10000 | F41: ok | G41: ok | I41: =D41&" - "&C41 -> AROEIRA MEIO AMBIENTE LTDA - NFSE.001873
C42: NFSE.001873 | D42: CSRF / AROEIRA MEIO AMBIENTE LTDA | E42: 465 | F42: ok | G42: ok | I42: =D42&" - "&C42 -> CSRF / AROEIRA MEIO AMBIENTE LTDA - NFSE.001873
...

Sheet Planilha1 (2)
A1: Tipo | B1: (Vários itens)
A3: Desc Ajustada | B3: Documento
B4: ajuste | D4: =A4&"-"&B4 -> -ajuste | E4: =IF(OFFSET(B4,1,0)="","verificar",C4) -> 0
B5: REAP.040424 | D5: =A5&"-"&B5 -> -REAP.040424 | E5: =IF(OFFSET(B5,1,0)="","verificar",C5) -> 0
B6: REAP.090424 | D6: =A6&"-"&B6 -> -REAP.090424 | E6: =IF(OFFSET(B6,1,0)="","verificar",C6) -> 0
B7: REAP.100424 | D7: =A7&"-"&B7 -> -REAP.100424 | E7: =IF(OFFSET(B7,1,0)="","verificar",C7) -> 0
B8: REAP.120424 | D8: =A8&"-"&B8 -> -REAP.120424 | E8: =IF(OFFSET(B8,1,0)="","verificar",C8) -> 0
B9: REAP.1504 | D9: =A9&"-"&B9 -> -REAP.1504 | E9: =IF(OFFSET(B9,1,0)="","verificar",C9) -> 0
B10: REAP.160424 | D10: =A10&"-"&B10 -> -REAP.160424 | E10: =IF(OFFSET(B10,1,0)="","verificar",C10) -> 0
B11: REAP.1704 | D11: =A11&"-"&B11 -> -REAP.1704 | E11: =IF(OFFSET(B11,1,0)="","verificar",C11) -> 0
B12: REAP.2604 | D12: =A12&"-"&B12 -> -REAP.2604 | E12: =IF(OFFSET(B12,1,0)="","verificar",C12) -> 0
B13: TAR.09112023 | D13: =A13&"-"&B13 -> -TAR.09112023 | E13: =IF(OFFSET(B13,1,0)="","verificar",C13) -> 0
B14: TAR.14122023 | D14: =A14&"-"&B14 -> -TAR.14122023 | E14: =IF(OFFSET(B14,1,0)="","verificar",C14) -> 0
B15: TAR.23112023 | D15: =A15&"-"&B15 -> -TAR.23112023 | E15: =IF(OFFSET(B15,1,0)="","verificar",C15) -> 0
B16: TAR.231123 | D16: =A16&"-"&B16 -> -TAR.231123 | E16: =IF(OFFSET(B16,1,0)="","verificar",C16) -> 0
A17: 13 CARTORIO DE REGISTRO CIVIL DO BUTANTA | B17: FAT.280324. | D17: =A17&"-"&B17 -> 13 CARTORIO DE REGISTRO CIVIL DO BUTANTA-FAT.280324. | E17: =IF(OFFSET(B17,1,0)="","verificar",C17) -> 0
A18: 13 OFICIAL DE REGISTRO DE IMOVEIS DA CAPITAL | B18: FAT.63044824 | D18: =A18&"-"&B18 -> 13 OFICIAL DE REGISTRO DE IMOVEIS DA CAPITAL-FAT.63044824 | E18: =IF(OFFSET(B18,1,0)="","verificar",C18) -> 0
A19: 13 OFICIAL DE REGISTRO DE IMOVEIS DA CAPITAL | B19: REC.041223 | D19: =A19&"-"&B19 -> 13 OFICIAL DE REGISTRO DE IMOVEIS DA CAPITAL-REC.041223 | E19: =IF(OFFSET(B19,1,0)="","verificar",C19) -> 0
A20: 20 TABELIAO DE NOTAS DA CAPITAL | B20: FAT.14089 | D20: =A20&"-"&B20 -> 20 TABELIAO DE NOTAS DA CAPITAL-FAT.14089 | E20: =IF(OFFSET(B20,1,0)="","verificar",C20) -> 0
A21: 20 TABELIAO DE NOTAS DA CAPITAL | B21: FAT.14602 | D21: =A21&"-"&B21 -> 20 TABELIAO DE NOTAS DA CAPITAL-FAT.14602 | E21: =IF(OFFSET(B21,1,0)="","verificar",C21) -> 0
A22: 20 TABELIAO DE NOTAS DA CAPITAL | B22: FAT.14604 | D22: =A22&"-"&B22 -> 20 TABELIAO DE NOTAS DA CAPITAL-FAT.14604 | E22: =IF(OFFSET(B22,1,0)="","verificar",C22) -> 0
A23: 20 TABELIAO DE NOTAS DA CAPITAL | B23: FAT.14606 | D23: =A23&"-"&B23 -> 20 TABELIAO DE NOTAS DA CAPITAL-FAT.14606 | E23: =IF(OFFSET(B23,1,0)="","verificar",C23) -> 0
A24: 20 TABELIAO DE NOTAS DA CAPITAL | B24: FAT.14608 | D24: =A24&"-"&B24 -> 20 TABELIAO DE NOTAS DA CAPITAL-FAT.14608 | E24: =IF(OFFSET(B24,1,0)="","verificar",C24) -> 0
A25: 20 TABELIAO DE NOTAS DA CAPITAL | B25: FAT.14637 | D25: =A25&"-"&B25 -> 20 TABELIAO DE NOTAS DA CAPITAL-FAT.14637 | E25: =IF(OFFSET(B25,1,0)="","verificar",C25) -> 0
A26: 20 TABELIAO DE NOTAS DA CAPITAL | B26: FAT.14641 | D26: =A26&"-"&B26 -> 20 TABELIAO DE NOTAS DA CAPITAL-FAT.14641 | E26: =IF(OFFSET(B26,1,0)="","verificar",C26) -> 0
A27: 20 TABELIAO DE NOTAS DA CAPITAL | B27: FAT.14741 | D27: =A27&"-"&B27 -> 20 TABELIAO DE NOTAS DA CAPITAL-FAT.14741 | E27: =IF(OFFSET(B27,1,0)="","verificar",C27) -> 0
A28: ACUSTICA ENGENHARIA S/S | B28: NFSE.005020 | D28: =A28&"-"&B28 -> ACUSTICA ENGENHARIA S/S-NFSE.005020 | E28: =IF(OFFSET(B28,1,0)="","verificar",C28) -> 0
... A100: COMPANHIA PROVINCIA DE SECURITIZACAO | B100: REC.042024 | D100: =A100&"-"&B100 -> COMPANHIA PROVINCIA DE SECURITIZACAO-REC.042024 | E100: =IF(OFFSET(B100,1,0)="","verificar",C100) -> 0
A101: CONTA DE LUZ INTERNET --ENEL DISTRIBUICAO/SP | B101: 5971186 | D101: =A101&"-"&B101 -> CONTA DE LUZ INTERNET --ENEL DISTRIBUICAO/SP-5971186 | E101: =IF(OFFSET(B101,1,0)="","verificar",C101) -> 0
A102: COOPERA CERTIFICADORA LTDA | B102: FAT.10585 | D102: =A102&"-"&B102 -> COOPERA CERTIFICADORA LTDA-FAT.10585 | E102: =IF(OFFSET(B102,1,0)="","verificar",C102) -> 0
A103: CRISTINA PACHECO RIBEIRO | B103: FAT.497163 | D103: =A103&"-"&B103 -> CRISTINA PACHECO RIBEIRO-FAT.497163 | E103: =IF(OFFSET(B103,1,0)="","verificar",C103) -> 0
A104: DAVINCI BUREAU DE IMPRESSOES LTDA | B104: NFSE.0089199 | D104: =A104&"-"&B104 -> DAVINCI BUREAU DE IMPRESSOES LTDA-NFSE.0089199 | E104: =IF(OFFSET(B104,1,0)="","verificar",C104) -> 0
A105: DECIMO QUARTO TABELIONATO DE NOTAS | B105: FAT.280324 | D105: =A105&"-"&B105 -> DECIMO QUARTO TABELIONATO DE NOTAS-FAT.280324 | E105: =IF(OFFSET(B105,1,0)="","verificar",C105) -> 0
A106: ELIANE MALUF ALVES DE LOZIER | B106: CT.ALUGUEL2 | D106: =A106&"-"&B106 -> ELIANE MALUF ALVES DE LOZIER-CT.ALUGUEL2 | E106: =IF(OFFSET(B106,1,0)="","verificar",C106) -> 0
A107: EMERGENCY DOCUMENTACAO IMOBILIARIA EIRELI | B107: NFSE.030047 | D107: =A107&"-"&B107 -> EMERGENCY DOCUMENTACAO IMOBILIARIA EIRELI-NFSE.030047 | E107: =IF(OFFSET(B107,1,0)="","verificar",C107) -> 0
A108: EMERGENCY DOCUMENTACAO IMOBILIARIA EIRELI | B108: NFSE.REC | D108: =A108&"-"&B108 -> EMERGENCY DOCUMENTACAO IMOBILIARIA EIRELI-NFSE.REC | E108: =IF(OFFSET(B108,1,0)="","verificar",C108) -> 0
A109: ESTUDIO FAVO ARQUITETURA LTDA | B109: NFSE.001172 | D109: =A109&"-"&B109 -> ESTUDIO FAVO ARQUITETURA LTDA-NFSE.001172 | E109: =IF(OFFSET(B109,1,0)="","verificar",C109) -> 0
A110: ESTUDIO FAVO ARQUITETURA LTDA | B110: NFSE.001213 | D110: =A110&"-"&B110 -> ESTUDIO FAVO ARQUITETURA LTDA-NFSE.001213 | E110: =IF(OFFSET(B110,1,0)="","verificar",C110) -> 0
A111: ESTUDIO FAVO ARQUITETURA LTDA | B111: NFSE.001226 | D111: =A111&"-"&B111 -> ESTUDIO FAVO ARQUITETURA LTDA-NFSE.001226 | E111: =IF(OFFSET(B111,1,0)="","verificar",C111) -> 0
A112: FARDIZ EMPREENDIMENTOS E PARTICIPACOES LTDA | B112: CT.CONSOLACAO 2847 FARD | D112: =A112&"-"&B112 -> FARDIZ EMPREENDIMENTOS E PARTICIPACOES LTDA-CT.CONSOLACAO 2847 FARD | E112: =IF(OFFSET(B112,1,0)="","verificar",C112) -> 0
...

Sheet Planilha2
A3: temp | B3: Data Ajustada | C3: Conciliação Reembolso | D3: Soma de Valor Total | E3: documento?
A4: - ajuste | B4: 45372 | C4: (vazio) | D4: 0.04
B5: 45401 | C5: (vazio) | D5: 5.49
A6: - REAP.040424 | B6: 45386 | C6: (vazio) | D6: 0.01
A7: - REAP.090424 | B7: 45391 | C7: (vazio) | D7: 0.98
A8: - REAP.100424 | B8: 45392 | C8: (vazio) | D8: 0.01
A9: - REAP.120424 | B9: 45394 | C9: (vazio) | D9: 24.81
A10: - REAP.1504 | B10: 45397 | C10: (vazio) | D10: 0.99
A11: - REAP.160424 | B11: 45398 | C11: (vazio) | D11: 0.41
A12: - REAP.1704 | B12: 45399 | C12: (vazio) | D12: 3.49
A13: - REAP.2604 | B13: 45408 | C13: (vazio) | D13: 46.36
A14: - TAR.09112023 | B14: 45239 | C14: (vazio) | D14: -69.95
A15: - TAR.14122023 | B15: 45274 | C15: (vazio) | D15: -9
A16: - TAR.23112023 | B16: 45253 | C16: (vazio) | D16: -36
A17: - TAR.231123 | B17: 45253 | C17: (vazio) | D17: -18
A18: 13 CARTORIO DE REGISTRO CIVIL DO BUTANTA - FAT.280324. | B18: 45379 | C18: (vazio) | D18: -86.08
A19: 13 OFICIAL DE REGISTRO DE IMOVEIS DA CAPITAL - FAT.63044824 | B19: 45384 | C19: 7 | D19: -1109.54
A20: 13 OFICIAL DE REGISTRO DE IMOVEIS DA CAPITAL - REC.041223 | B20: 45264 | C20: (vazio) | D20: -2252.25
A21: 20 TABELIAO DE NOTAS DA CAPITAL - FAT.14089 | B21: 45387 | C21: 29 | D21: -10060.74
A22: 20 TABELIAO DE NOTAS DA CAPITAL - FAT.14602 | B22: 45387 | C22: 27 | D22: -23668.13
A23: 20 TABELIAO DE NOTAS DA CAPITAL - FAT.14604 | B23: 45387 | C23: 32 | D23: -6150.49
A24: 20 TABELIAO DE NOTAS DA CAPITAL - FAT.14606 | B24: 45387 | C24: 28 | D24: -18521.91
A25: 20 TABELIAO DE NOTAS DA CAPITAL - FAT.14608 | B25: 45387 | C25: 31 | D25: -16140.79
A26: 20 TABELIAO DE NOTAS DA CAPITAL - FAT.14637 | B26: 45387 | C26: 30 | D26: -9509.55
A27: 20 TABELIAO DE NOTAS DA CAPITAL - FAT.14641 | B27: 45387 | C27: 33 | D27: -16211.23
A28: 20 TABELIAO DE NOTAS DA CAPITAL - FAT.14741 | B28: 45387 | C28: 34 | D28: -15172.99
A29: ACUSTICA ENGENHARIA S/S - NFSE.005020 | B29: 45310 | C29: (vazio) | D29: -11628.01
A30: AMILCAR SOUROPIRES FERREIRA - CT.CONSOLACAO 2837 | B30: 45141 | C30: (vazio) | D30: -100000
A31: ANGELO MONTALBANO - REC.100424 | B31: 45394 | C31: 40 | D31: -503.74
A32: AR C/C SISPAG - TAR.20240402003 | B32: 45384 | C32: (vazio) | D32: -2.7
A33: AR TED SISPAG - TAR.20240402004 | B33: 45384 | C33: (vazio) | D33: -49.92
A34: AROEIRA MEIO AMBIENTE LTDA - NFSE.001873 | B34: 45401 | C34: 43 | D34: -9385
A35: ASSIMPI- ASSOCIACAO N DOS S S DA MICRO E PEQUENA INDUSTRIA - REC.012835 | B35: 45098 | C35: (vazio) | D35: -211.38
A36: ASSIMPI- ASSOCIACAO N DOS S S DA MICRO E PEQUENA INDUSTRIA - REC.137334 | B36: 45300 | C36: (vazio) | D36: -218.17
A37: ASSIMPI- ASSOCIACAO N DOS S S DA MICRO E PEQUENA INDUSTRIA - REC.141086 | B37: 45358 | C37: (vazio) | D37: -436.34
A38: ASSIMPI- ASSOCIACAO N DOS S S DA MICRO E PEQUENA INDUSTRIA - REC.141087 | B38: 45358 | C38: (vazio) | D38: -218.17
A39: ASSIMPI- ASSOCIACAO N DOS S S DA MICRO E PEQUENA INDUSTRIA - REC.240590039725672 | B39: 45358 | C39: (vazio) | D39: -150.99
A40: ASSIMPI- ASSOCIACAO N DOS S S DA MICRO E PEQUENA INDUSTRIA - REC.240590039743861 | B40: 45358 | C40: (vazio) | D40: -251.76
A41: ASSIMPI- ASSOCIACAO N DOS S S DA MICRO E PEQUENA INDUSTRIA - REC.240590039748456 | B41: 45358 | C41: (vazio) | D41: -251.76
A42: ASSOCIACAO DOS REGISTRADORES IMOBILIARIOS DE SAO PAULO - FAT.011079668 | B42: 45373 | C42: (vazio) | D42: -130.43
...

Sheet Fluxo Incorrido
A1: Empreendimento Ajustado | B1: Data Ajustada | C1: Banco | D1: Conta | E1: Relatório Sistema? | F1: Classe Ajustada | G1: Data | H1: Or | I1: Tipo | J1: Desc | K1: Documento | L1: Desc Ajustada | M1: Valor Total | N1: Valor ABS | O1: Mês | P1: Conciliação | Q1: Conciliação Reembolso | R1: Reembolso solicitado? | S1: Classe Ajustada | T1: Classificação Analítica | U1: Classificação Sintética
A2: Jardins | B2: 44952 | C2: Holding | D2: Holding | E2: sim | F2: 2.02.03.04 - Assessoria e Consultoria Contábil | G2: 44952 | H2: CP | I2: Adiantamento | J2: NOVA PLANO - SUPORTE ADMINISTRATIVO LTDA | K2: NFSE.005088 | L2: NOVA PLANO - SUPORTE ADMINISTRATIVO LTDA | M2: -400 | N2: 400 | O2: 44927 | R2: não | S2: 2.02.03.04 - Assessoria e Consultoria Contábil | T2: Desp Adm - Assessorias | U2: Desp Adm
A3: Jardins | B3: 44957 | C3: Holding | D3: Holding | E3: sim | F3: 2.06.02.07 - TFE- Taxa de Fiscalização de Estabelecimento | G3: 44957 | H3: CP | I3: Adiantamento | J3: PREFEITURA DE SAO PAULO - TFE | K3: DAM.100010445305 | L3: PREFEITURA DE SAO PAULO - TFE | M3: -195.38 | N3: 195.38 | O3: 44927 | R3: não | S3: 2.06.02.07 - TFE- Taxa de Fiscalização de Estabelecimento | T3: Incorporação - Desp Legais, Tributos, Emolumentos | U3: Incorporação
A4: Jardins | B4: 44957 | C4: Holding | D4: Holding | E4: sim | F4: 2.05.01.07 - Multas, Juros e Correções por Atraso no Pagamento | G4: 44957 | H4: CP | I4: Pagto juros | J4: PREFEITURA DE SAO PAULO - TFE | K4: DAM.100010445305 | L4: PREFEITURA DE SAO PAULO - TFE | M4: -53.13 | N4: 53.13 | O4: 44927 | R4: não | S4: 2.05.01.07 - Multas, Juros e Correções por Atraso no Pagamento | T4: Desp Financeiras | U4: Desp Financeiras
A5: Jardins | B5: 44957 | C5: Holding | D5: Holding | E5: sim | F5: 2.09.02.01 - Recolhimento de IRRF - Terceiros | G5: 44957 | H5: CP | I5: Adiantamento | J5: Secretaria de Fazenda Federal | K5: DARF.1365 | L5: Secretaria de Fazenda Federal | M5: -67.5 | N5: 67.5 | O5: 44927 | R5: não | S5: 2.09.02.01 - Recolhimento de IRRF - Terceiros | T5: Tributos | U5: Tributos
A6: Jardins | B6: 44957 | C6: Holding | D6: Holding | E6: sim | F6: 2.05.01.07 - Multas, Juros e Correções por Atraso no Pagamento | G6: 44957 | H6: CP | I6: Pagto juros | J6: Secretaria de Fazenda Federal | K6: DARF.1365 | L6: Secretaria de Fazenda Federal | M6: -19.2 | N6: 19.2 | O6: 44927 | R6: não | S6: 2.05.01.07 - Multas, Juros e Correções por Atraso no Pagamento | T6: Desp Financeiras | U6: Desp Financeiras
A7: Jardins | B7: 44957 | C7: Holding | D7: Holding | E7: sim | F7: 2.09.02.04 - Recolhimento de PIS/Cofins/CSLL - Terceiros | G7: 44957 | H7: CP | I7: Adiantamento | J7: Secretaria de Fazenda Federal | K7: DARF.1365 | L7: Secretaria de Fazenda Federal | M7: -209.25 | N7: 209.25 | O7: 44927 | R7: não | S7: 2.09.02.04 - Recolhimento de PIS/Cofins/CSLL - Terceiros | T7: Tributos | U7: Tributos
A8: Jardins | B8: 44957 | C8: Holding | D8: Holding | E8: sim | F8: 2.05.01.07 - Multas, Juros e Correções por Atraso no Pagamento | G8: 44957 | H8: CP | I8: Pagto juros | J8: Secretaria de Fazenda Federal | K8: DARF.1365 | L8: Secretaria de Fazenda Federal | M8: -61.6 | N8: 61.6 | O8: 44927 | R8: não | S8: 2.05.01.07 - Multas, Juros e Correções por Atraso no Pagamento | T8: Desp Financeiras | U8: Desp Financeiras
A9: Jardins | B9: 44957 | C9: Holding | D9: Holding | E9: sim | F9: 2.09.02.01 - Recolhimento de IRRF - Terceiros | G9: 44957 | H9: CP | I9: Adiantamento | J9: Secretaria de Fazenda Federal | K9: DARF.1376 | L9: Secretaria de Fazenda Federal | M9: -67.5 | N9: 67.5 | O9: 44927 | R9: não | S9: 2.09.02.01 - Recolhimento de IRRF - Terceiros | T9: Tributos | U9: Tributos
A10: Jardins | B10: 44957 | C10: Holding | D10: Holding | E10: sim | F10: 2.05.01.07 - Multas, Juros e Correções por Atraso no Pagamento | G10: 44957 | H10: CP | I10: Pagto juros | J10: Secretaria de Fazenda Federal | K10: DARF.1376 | L10: Secretaria de Fazenda Federal | M10: -19.89 | N10: 19.89 | O10: 44927 | R10: não | S10: 2.05.01.07 - Multas, Juros e Correções por Atraso no Pagamento | T10: Desp Financeiras | U10: Desp Financeiras
A11: Jardins | B11: 44957 | C11: Holding | D11: Holding | E11: sim | F11: 2.09.02.04 - Recolhimento de PIS/Cofins/CSLL - Terceiros | G11: 44957 | H11: CP | I11: Adiantamento | J11: Secretaria de Fazenda Federal | K11: DARF.1376 | L11: Secretaria de Fazenda Federal | M11: -209.25 | N11: 209.25 | O11: 44927 | R11: não | S11: 2.09.02.04 - Recolhimento de PIS/Cofins/CSLL - Terceiros | T11: Tributos | U11: Tributos
A12: Jardins | B12: 44957 | C12: Holding | D12: Holding | E12: sim | F12: 2.05.01.07 - Multas, Juros e Correções por Atraso no Pagamento | G12: 44957 | H12: CP | I12: Pagto juros | J12: Secretaria de Fazenda Federal | K12: DARF.1376 | L12: Secretaria de Fazenda Federal | M12: -59.53 | N12: 59.53 | O12: 44927 | R12: não | S12: 2.05.01.07 - Multas, Juros e Correções por Atraso no Pagamento | T12: Desp Financeiras | U12: Desp Financeiras
A13: Jardins | B13: 44987 | C13: Holding | D13: Holding | E13: sim | F13: 2.02.03.04 - Assessoria e Consultoria Contábil | G13: 44987 | H13: CP | I13: Adiantamento | J13: NOVA PLANO - SUPORTE ADMINISTRATIVO LTDA | K13: NFSE.005166 | L13: NOVA PLANO - SUPORTE ADMINISTRATIVO LTDA | M13: -400 | N13: 400 | O13: 44986 | R13: não | S13: 2.02.03.04 - Assessoria e Consultoria Contábil | T13: Desp Adm - Assessorias | U13: Desp Adm
... A95: Jardins | B95: 45233 | C95: Bradesco | D95: 6222-7 | E95: sim | F95: 2.02.03.04 - Assessoria e Consultoria Contábil | G95: 45233 | H95: CP | I95: Pagamento | J95: NOVA CROP - SUPORTE ADMINISTRATIVO LTDA | K95: NFSE.005260 | L95: NOVA CROP - SUPORTE ADMINISTRATIVO LTDA | M95: -415.96 | N95: 415.96 | O95: 45231 | R95: não | S95: 2.02.03.04 - Assessoria e Consultoria Contábil | T95: Desp Adm - Assessorias | U95: Desp Adm
A96: Jardins | B96: 45239 | C96: Bradesco | D96: 6222-7 | E96: sim | F96: 2.20.01.07 - Tarifas Bancarias | G96: 45239 | H96: BC | I96: Pag. tarifa conta | K96: TAR.09112023 | M96: -69.95 | N96: 69.95 | O96: 45231 | R96: não | S96: 2.20.01.07 - Tarifas Bancarias | T96: Tarifas / Taxas | U96: Desp Financeiras
A97: Jardins | B97: 45247 | C97: Bradesco | D97: 6222-7 | E97: sim | F97: 2.09.02.04 - Recolhimento de PIS/Cofins/CSLL - Terceiros | G97: 45247 | H97: CP | I97: Pagamento | J97: Secretaria de Fazenda Federal | K97: DARF.011194 | L97: Secretaria de Fazenda Federal | M97: -368.75 | N97: 368.75 | O97: 45231 | R97: não | S97: 2.09.02.04 - Recolhimento de PIS/Cofins/CSLL - Terceiros | T97: Tributos | U97: Tributos
A98: Jardins | B98: 45247 | C98: Bradesco | D98: 6222-7 | E98: sim | F98: 2.09.02.01 - Recolhimento de IRRF - Terceiros | G98: 45247 | H98: CP | I98: Pagamento | J98: Secretaria de Fazenda Federal | K98: DARF.011194 | L98: Secretaria de Fazenda Federal | M98: -118.95 | N98: 118.95 | O98: 45231 | R98: não | S98: 2.09.02.01 - Recolhimento de IRRF - Terceiros | T98: Tributos | U98: Tributos
A99: Jardins | B99: 45251 | C99: Bradesco | D99: 6222-7 | E99: sim | F99: 2.11.01.04 - Aluguel | G99: 45251 | H99: CP | I99: Pagamento | J99: CLEYDE MALUF ALVES | K99: CT.ALUGUEL 1 | L99: CLEYDE MALUF ALVES | M99: -10000 | N99: 10000 | O99: 45231 | R99: não | S99: 2.11.01.04 - Aluguel | T99: Terreno - Despesas | U99: Terreno
A100: Jardins | B100: 45251 | C100: Bradesco | D100: 6222-7 | E100: sim | F100: 2.11.01.04 - Aluguel | G100: 45251 | H100: CP | I100: Pagamento | J100: ELIANE MALUF ALVES DE LOZIER | K100: CT.ALUGUEL2 | L100: ELIANE MALUF ALVES DE LOZIER | M100: -10000 | N100: 10000 | O100: 45231 | R100: não | S100: 2.11.01.04 - Aluguel | T100: Terreno - Despesas | U100: Terreno
A101: Jardins | B101: 45251 | C101: Bradesco | D101: 6222-7 | E101: sim | F101: 2.11.01.01 - Terrenista | G101: 45251 | H101: CP | I101: Pagamento | J101: MIRNA MARIA PEDRO | K101: CT.ITU 1478 | L101: MIRNA MARIA PEDRO | M101: -2500 | N101: 2500 | O101: 45231 | R101: não | S101: 2.11.01.01 - Terrenista | T101: Terreno - Aquisição | U101: Terreno
A102: Jardins | B102: 45251 | C102: Bradesco | D102: 6222-7 | E102: sim | F102: 2.11.01.01 - Terrenista | G102: 45251 | H102: CP | I102: Pagamento | J102: MIRNA MARIA PEDRO | K102: CT.ITU 1478 | L102: MIRNA MARIA PEDRO | M102: -2500 | N102: 2500 | O102: 45231 | R102: não | S102: 2.11.01.01 - Terrenista | T102: Terreno - Aquisição | U102: Terreno
A103: Jardins | B103: 45251 | C103: Bradesco | D103: 6222-7 | E103: sim | F103: 2.11.01.01 - Terrenista | G103: 45251 | H103: CP | I103: Pagamento | J103: MIRNA MARIA PEDRO | K103: CT.ITU 1478 | L103: MIRNA MARIA PEDRO | M103: -2500 | N103: 2500 | O103: 45231 | R103: não | S103: 2.11.01.01 - Terrenista | T103: Terreno - Aquisição | U103: Terreno
A104: Jardins | B104: 45251 | C104: Bradesco | D104: 6222-7 | E104: sim | F104: 2.11.01.01 - Terrenista | G104: 45251 | H104: CP | I104: Pagamento | J104: MIRNA MARIA PEDRO | K104: CT.ITU 1478 | L104: MIRNA MARIA PEDRO | M104: -2500 | N104: 2500 | O104: 45231 | R104: não | S104: 2.11.01.01 - Terrenista | T104: Terreno - Aquisição | U104: Terreno
A105: Jardins | B105: 45252 | C105: Bradesco | D105: 6222-7 | E105: sim | F105: 2.01.03.04 - Alvarás, Emolumentos, Taxas e Custos Legais | G105: 45252 | H105: CP | I105: Pagamento | J105: PREFEITURA DA CIDADE DE SÃO PAULO - DAMSP | K105: DAM.482872023 | L105: PREFEITURA DA CIDADE DE SÃO PAULO - DAMSP | M105: -203.34 | N105: 203.34 | O105: 45231 | R105: não | S105: 2.01.03.04 - Alvarás, Emolumentos, Taxas e Custos Legais | T105: Terreno - Taxas e Emolumentos | U105: Terreno
A106: Jardins | B106: 45253 | C106: Bradesco | D106: 6222-7 | E106: sim | F106: 2.20.01.07 - Tarifas Bancarias | G106: 45253 | H106: BC | I106: Pag. tarifa conta | K106: TAR.23112023 | M106: -9 | N106: 9 | O106: 45231 | R106: não | S106: 2.20.01.07 - Tarifas Bancarias | T106: Tarifas / Taxas | U106: Desp Financeiras
A107: Jardins | B107: 45253 | C107: Bradesco | D107: 6222-7 | E107: sim | F107: 2.20.01.07 - Tarifas Bancarias | G107: 45253 | H107: BC | I107: Pag. tarifa conta | K107: TAR.23112023 | M107: -9 | N107: 9 | O107: 45231 | R107: não | S107: 2.20.01.07 - Tarifas Bancarias | T107: Tarifas / Taxas | U107: Desp Financeiras
A108: Jardins | B108: 45253 | C108: Bradesco | D108: 6222-7 | E108: sim | F108: 2.20.01.07 - Tarifas Bancarias | G108: 45253 | H108: BC | I108: Pag. tarifa conta | K108: TAR.23112023 | M108: -9 | N108: 9 | O108: 45231 | R108: não | S108: 2.20.01.07 - Tarifas Bancarias | T108: Tarifas / Taxas | U108: Desp Financeiras
A109: Jardins | B109: 45253 | C109: Bradesco | D109: 6222-7 | E109: sim | F109: 2.20.01.07 - Tarifas Bancarias | G109: 45253 | H109: BC | I109: Pag. tarifa conta | K109: TAR.23112023 | M109: -9 | N109: 9 | O109: 45231 | R109: não | S109: 2.20.01.07 - Tarifas Bancarias | T109: Tarifas / Taxas | U109: Desp Financeiras
A110: Jardins | B110: 45253 | C110: Bradesco | D110: 6222-7 | E110: sim | F110: 2.20.01.07 - Tarifas Bancarias | G110: 45253 | H110: BC | I110: Pag. tarifa conta | K110: TAR.231123 | M110: -9 | N110: 9 | O110: 45231 | R110: não | S110: 2.20.01.07 - Tarifas Bancarias | T110: Tarifas / Taxas | U110: Desp Financeiras
A111: Jardins | B111: 45253 | C111: Bradesco | D111: 6222-7 | E111: sim | F111: 2.20.01.07 - Tarifas Bancarias | G111: 45253 | H111: BC | I111: Pag. tarifa conta | K111: TAR.231123 | M111: -9 | N111: 9 | O111: 45231 | R111: não | S111: 2.20.01.07 - Tarifas Bancarias | T111: Tarifas / Taxas | U111: Desp Financeiras
A112: Jardins | B112: 45257 | C112: Bradesco | D112: 6222-7 | E112: sim | F112: 2.13.01.02 - Avaliação Ambiental | G112: 45257 | H112: CP | I112: Pagamento | J112: BACHEMA SERVICOS ANALITICOS AMBIENTAIS LTDA | K112: NFSE.011194 | L112: BACHEMA SERVICOS ANALITICOS AMBIENTAIS LTDA | M112: -7930 | N112: 7930 | O112: 45231 | R112: não | S112: 2.13.01.02 - Avaliação Ambiental | T112: Incorporação - Projetos | U112: Incorporação
A113: Jardins | B113: 45257 | C113: Bradesco | D113: 6222-7 | E113: sim | F113: 2.09.01.01 - (-) Retenção de IR - Terceiros | G113: 45257 | H113: CP | I113: Retenção impostos | J113: IR 1708 / BACHEMA SERVICOS ANALITICOS AMBIENTAIS LTDA | K113: NFSE.011194 | L113: BACHEMA SERVICOS ANALITICOS AMBIENTAIS LTDA | M113: 118.95 | N113: 118.95 | O113: 45231 | R113: não | S113: 2.09.01.01 - (-) Retenção de IR - Terceiros | T113: Incorporação - Projetos | U113: Incorporação
A114: Jardins | B114: 45257 | C114: Bradesco | D114: 6222-7 | E114: sim | F114: 2.09.01.04 - (-) Retenção de PIS/Cofins/CSLL - Terceiros | G114: 45257 | H114: CP | I114: Retenção impostos | J114: CSRF / BACHEMA SERVICOS ANALITICOS AMBIENTAIS LTDA | K114: NFSE.011194 | L114: BACHEMA SERVICOS ANALITICOS AMBIENTAIS LTDA | M114: 368.75 | N114: 368.75 | O114: 45231 | R114: não | S114: 2.09.01.04 - (-) Retenção de PIS/Cofins/CSLL - Terceiros | T114: Incorporação - Projetos | U114: Incorporação
A115: Jardins | B115: 45257 | C115: Bradesco | D115: 6222-7 | E115: sim | F115: 2.14.01.10 - Produção de material Comunicação Visual Terreno/PD | G115: 45257 | H115: CP | I115: Pagamento | J115: FRANQUE DELMO ELOIA 02360154435 | K115: NFSE.000016 | L115: FRANQUE DELMO ELOIA 02360154435 | M115: -900 | N115: 900 | O115: 45231 | R115: não | S115: 2.14.01.10 - Produção de material Comunicação Visual Terreno/PD | T115: Marketing - Promoção e Propaganda | U115: Marketing
A116: Jardins | B116: 45257 | C116: Bradesco | D116: 6222-7 | E116: sim | F116: 2.13.01.02 - Avaliação Ambiental | G116: 45257 | H116: CP | I116: Pagamento | J116: LABORATORIO VAPOR SOLUTIONS LTDA | K116: NFSE.004112 | L116: LABORATORIO VAPOR SOLUTIONS LTDA | M116: -9264 | N116: 9264 | O116: 45231 | R116: não | S116: 2.13.01.02 - Avaliação Ambiental | T116: Incorporação - Projetos | U116: Incorporação
A117: Jardins | B117: 45257 | C117: Bradesco | D117: 6222-7 | E117: sim | F117: 2.09.01.01 - (-) Retenção de IR - Terceiros | G117: 45257 | H117: CP | I117: Retenção impostos | J117: IR 1708 / LABORATORIO VAPOR SOLUTIONS LTDA | K117: NFSE.004112 | L117: LABORATORIO VAPOR SOLUTIONS LTDA | M117: 138.96 | N117: 138.96 | O117: 45231 | R117: não | S117: 2.09.01.01 - (-) Retenção de IR - Terceiros | T117: Incorporação - Projetos | U117: Incorporação
A118: Jardins | B118: 45257 | C118: Bradesco | D118: 6222-7 | E118: sim | F118: 2.09.01.04 - (-) Retenção de PIS/Cofins/CSLL - Terceiros | G118: 45257 | H118: CP | I118: Retenção impostos | J118: CSRF / LABORATORIO VAPOR SOLUTIONS LTDA | K118: NFSE.004112 | L118: LABORATORIO VAPOR SOLUTIONS LTDA | M118: 430.78 | N118: 430.78 | O118: 45231 | R118: não | S118: 2.09.01.04 - (-) Retenção de PIS/Cofins/CSLL - Terceiros | T118: Incorporação - Projetos | U118: Incorporação
A119: Jardins | B119: 45257 | C119: Bradesco | D119: 6222-7 | E119: sim | F119: 2.16.01.03 - Despesas Diversas | G119: 45257 | H119: CP | I119: Pagamento | J119: MERCADOPAGO.COM REPRESENTACOES LTDA. | K119: FAT.10305601916 | L119: MERCADOPAGO.COM REPRESENTACOES LTDA. | M119: -269.9 | N119: 269.9 | O119: 45231 | R119: não | S119: 2.16.01.03 - Despesas Diversas | T119: Desp Adm - Outras | U119: Desp Adm
A120: Jardins | B120: 45257 | C120: Bradesco | D120: 6222-7 | E120: sim | F120: 2.16.01.03 - Despesas Diversas | G120: 45257 | H120: CP | I120: Pagamento | J120: MERCADOPAGO.COM REPRESENTACOES LTDA. | K120: FAT.10305604870 | L120: MERCADOPAGO.COM REPRESENTACOES LTDA. | M120: -219.3 | N120: 219.3 | O120: 45231 | R120: não | S120: 2.16.01.03 - Despesas Diversas | T120: Desp Adm - Outras | U120: Desp Adm
A121: Jardins | B121: 45257 | C121: Bradesco | D121: 6222-7 | E121: sim | F121: 2.16.01.03 - Despesas Diversas | G121: 45257 | H121: CP | I121: Pagamento | J121: MERCADOPAGO.COM REPRESENTACOES LTDA. | K121: FAT.10305605412 | L121: MERCADOPAGO.COM REPRESENTACOES LTDA. | M121: -156.52 | N121: 156.52 | O121: 45231 | R121: não | S121: 2.16.01.03 - Despesas Diversas | T121: Desp Adm - Outras | U121: Desp Adm
...

Sheet Carteira
A1: Aux | B1: Empreendimento | C1: Fase / Bloco / Torre | D1: Cod Torre | E1: Unidade | F1: Contrato | G1: Cliente Parcela | H1: CPF Parcela | I1: Data Venda | J1: Valor Venda | K1: VENCIMENTO | L1: DATA DA BAIXA | M1: Data Distrato | N1: PARCELA | O1: Valor Baixa | P1: Valor Pago | Q1: Valor A Pagar | R1: MÊS_VENDA | S1: MÊS_VENC | T1: MÊS_PGTO | U1: Status_Parcela | V1: Dias atraso parcela | W1: Dias atraso unidade | X1: Faixa_Atraso_Parcelas | Y1: Faixa_Atraso_Unidades | Z1: Parcela CH / Pós-CH? | AA1: Pós-CH Antecipada? | AB1: Pago Pré-Ch | AC1: Antecipação Ch / Pós-Ch | AD1: Pago Ch / Pós-Ch | AE1: A Pagar Pré-Chaves | AF1: A Pagar Chaves | AG1: A Pagar Pós-Chaves | AH1: Valor Carteira Descontado
A2: JOYA-01-2001 | B2: Joya Jardins | C2: 1 | D2: 1 | E2: 2001 | F2: 1468 | G2: André Marino Gregori | H2: 105.510.388-02 | I2: 45587 | J2: 2182150 | K2: 45593 | L2: 45595 | N2: Ato | O2: 285150 | P2: 285150 | Q2: 0 | R2: 45566 | S2: 45566 | T2: 45566 | U2: Pago | V2: 0 | W2: 0 | X2: 0 - 30 | Y2: 0 - 30 | Z2: não | AA2: não | AB2: 285150 | AC2: 0 | AD2: 0 | AE2: 0 | AF2: 0 | AG2: 0 | AH2: 0
A3: JOYA-01-2001 | B3: Joya Jardins | C3: 1 | D3: 1 | E3: 2001 | F3: 1468 | G3: André Marino Gregori | H3: 105.510.388-02 | I3: 45587 | J3: 2182150 | K3: 45736 | N3: Parcela Única | O3: 0 | P3: 0 | Q3: 251450 | R3: 45566 | S3: 45717 | U3: A Vencer | V3: 0 | W3: 0 | X3: 0 - 30 | Y3: 0 - 30 | Z3: não | AA3: não | AB3: 0 | AC3: 0 | AD3: 0 | AE3: 251450 | AF3: 0 | AG3: 0 | AH3: 240750.43
A4: JOYA-01-2001 | B4: Joya Jardins | C4: 1 | D4: 1 | E4: 2001 | F4: 1468 | G4: André Marino Gregori | H4: 105.510.388-02 | I4: 45587 | J4: 2182150 | K4: 45950 | N4: Parcela Única | O4: 0 | P4: 0 | Q4: 251450 | R4: 45566 | S4: 45931 | U4: A Vencer | V4: 0 | W4: 0 | X4: 0 - 30 | Y4: 0 - 30 | Z4: não | AA4: não | AB4: 0 | AC4: 0 | AD4: 0 | AE4: 251450 | AF4: 0 | AG4: 0 | AH4: 226531.53
A5: JOYA-01-2001 | B5: Joya Jardins | C5: 1 | D5: 1 | E5: 2001 | F5: 1468 | G5: André Marino Gregori | H5: 105.510.388-02 | I5: 45587 | J5: 2182150 | K5: 46101 | N5: Parcela Única | O5: 0 | P5: 0 | Q5: 150870 | R5: 45566 | S5: 46082 | U5: A Vencer | V5: 0 | W5: 0 | X5: 0 - 30 | Y5: 0 - 30 | Z5: não | AA5: não | AB5: 0 | AC5: 0 | AD5: 0 | AE5: 150870 | AF5: 0 | AG5: 0 | AH5: 130135.37
A6: JOYA-01-2001 | B6: Joya Jardins | C6: 1 | D6: 1 | E6: 2001 | F6: 1468 | G6: André Marino Gregori | H6: 105.510.388-02 | I6: 45587 | J6: 2182150 | K6: 46315 | N6: Parcela Única | O6: 0 | P6: 0 | Q6: 100580 | R6: 45566 | S6: 46296 | U6: A Vencer | V6: 0 | W6: 0 | X6: 0 - 30 | Y6: 0 - 30 | Z6: não | AA6: não | AB6: 0 | AC6: 0 | AD6: 0 | AE6: 100580 | AF6: 0 | AG6: 0 | AH6: 81632.984
A7: JOYA-01-2001 | B7: Joya Jardins | C7: 1 | D7: 1 | E7: 2001 | F7: 1468 | G7: André Marino Gregori | H7: 105.510.388-02 | I7: 45587 | J7: 2182150 | K7: 46558 | N7: Parcela Única | O7: 0 | P7: 0 | Q7: 1152646.8 | R7: 45566 | S7: 46539 | U7: A Vencer | V7: 0 | W7: 0 | X7: 0 - 30 | Y7: 0 - 30 | Z7: sim | AA7: não | AB7: 0 | AC7: 0 | AD7: 0 | AE7: 0 | AF7: 0 | AG7: 1152646.8 | AH7: 872639.71
A8: JOYA-01-2001 | B8: Joya Jardins | C8: 1 | D8: 1 | E8: 2001 | F8: 1468 | G8: André Marino Gregori | H8: 105.510.388-02 | I8: 45587 | J8: 2182150 | K8: 46680 | N8: Periodicidade | O8: 0 | P8: 0 | Q8: 1005.8 | R8: 45566 | S8: 46661 | U8: A Vencer | V8: 0 | W8: 0 | X8: 0 - 30 | Y8: 0 - 30 | Z8: sim | AA8: não | AB8: 0 | AC8: 0 | AD8: 0 | AE8: 0 | AF8: 0 | AG8: 1005.8 | AH8: 735.43229
A9: JOYA-01-0902 | B9: Joya Jardins | C9: 1 | D9: 1 | E9: 902 | F9: 1457 | G9: Bruna Bertolani Grilo | H9: 283.463.228-60 | I9: 45565 | J9: 1500000 | K9: 45565 | L9: 45568 | N9: Ato | O9: 1250000 | P9: 1250000 | Q9: 0 | R9: 45536 | S9: 45536 | T9: 45566 | U9: Pago | V9: 0 | W9: 0 | X9: 0 - 30 | Y9: 0 - 30 | Z9: não | AA9: não | AB9: 1250000 | AC9: 0 | AD9: 0 | AE9: 0 | AF9: 0 | AG9: 0 | AH9: 0
A10: JOYA-01-0902 | B10: Joya Jardins | C10: 1 | D10: 1 | E10: 902 | F10: 1457 | G10: Bruna Bertolani Grilo | H10: 283.463.228-60 | I10: 45565 | J10: 1500000 | K10: 45687 | N10: Parcela Única | O10: 0 | P10: 0 | Q10: 250000 | R10: 45536 | S10: 45658 | U10: A Vencer | V10: 0 | W10: 0 | X10: 0 - 30 | Y10: 0 - 30 | Z10: não | AA10: não | AB10: 0 | AC10: 0 | AD10: 0 | AE10: 250000 | AF10: 0 | AG10: 0 | AH10: 243561.85
A11: JOYA-01-0302 | B11: Joya Jardins | C11: 1 | D11: 1 | E11: 302 | F11: 1464 | G11: Carlotta Holding E Participacoes Ltda | H11: 48.211.772/0001-07 | I11: 45581 | J11: 4200000 | K11: 45582 | L11: 45581 | M11: distratado | N11: Ato | O11: 115000 | P11: 115000 | Q11: 0 | R11: 45566 | S11: 45566 | T11: 45566 | U11: Pago | V11: 0 | W11: 0 | X11: 0 - 30 | Y11: 0 - 30 | Z11: não | AA11: não | AB11: 115000 | AC11: 0 | AD11: 0 | AE11: 0 | AF11: 0 | AG11: 0 | AH11: 0
A12: JOYA-01-0302 | B12: Joya Jardins | C12: 1 | D12: 1 | E12: 302 | F12: 1464 | G12: Carlotta Holding E Participacoes Ltda | H12: 48.211.772/0001-07 | I12: 45581 | J12: 4200000 | K12: 45612 | L12: 45586 | M12: distratado | N12: Parcelas Mensais | O12: 10000 | P12: 10000 | Q12: 0 | R12: 45566 | S12: 45597 | T12: 45566 | U12: Pago | V12: 0 | W12: 0 | X12: 0 - 30 | Y12: 0 - 30 | Z12: não | AA12: não | AB12: 10000 | AC12: 0 | AD12: 0 | AE12: 0 | AF12: 0 | AG12: 0 | AH12: 0
A13: JOYA-01-0302 | B13: Joya Jardins | C13: 1 | D13: 1 | E13: 302 | F13: 1464 | G13: Carlotta Holding E Participacoes Ltda | H13: 48.211.772/0001-07 | I13: 45581 | J13: 4200000 | K13: 45612 | L13: 45586 | M13: distratado | N13: Parcelas Mensais | O13: 20000 | P13: 20000 | Q13: 0 | R13: 45566 | S13: 45597 | T13: 45566 | U13: Pago | V13: 0 | W13: 0 | X13: 0 - 30 | Y13: 0 - 30 | Z13: não | AA13: não | AB13: 20000 | AC13: 0 | AD13: 0 | AE13: 0 | AF13: 0 | AG13: 0 | AH13: 0
A14: JOYA-01-0302 | B14: Joya Jardins | C14: 1 | D14: 1 | E14: 302 | F14: 1464 | G14: Carlotta Holding E Participacoes Ltda | H14: 48.211.772/0001-07 | I14: 45581 | J14: 4200000 | K14: 45612 | L14: 45588 | M14: distratado | N14: Parcelas Mensais | O14: 97656.25 | P14: 97656.25 | Q14: 0 | R14: 45566 | S14: 45597 | T14: 45566 | U14: Pago | V14: 0 | W14: 0 | X14: 0 - 30 | Y14: 0 - 30 | Z14: não | AA14: não | AB14: 97656.25 | AC14: 0 | AD14: 0 | AE14: 0 | AF14: 0 | AG14: 0 | AH14: 0
A15: JOYA-01-0302 | B15: Joya Jardins | C15: 1 | D15: 1 | E15: 302 | F15: 1464 | G15: Carlotta Holding E Participacoes Ltda | H15: 48.211.772/0001-07 | I15: 45581 | J15: 4200000 | K15: 45642 | L15: 45588 | M15: distratado | N15: Parcelas Mensais | O15: 127656.25 | P15: 127656.25 | Q15: 0 | R15: 45566 | S15: 45627 | T15: 45566 | U15: Pago | V15: 0 | W15: 0 | X15: 0 - 30 | Y15: 0 - 30 | Z15: não | AA15: não | AB15: 127656.25 | AC15: 0 | AD15: 0 | AE15: 0 | AF15: 0 | AG15: 0 | AH15: 0
A16: JOYA-01-0302 | B16: Joya Jardins | C16: 1 | D16: 1 | E16: 302 | F16: 1464 | G16: Carlotta Holding E Participacoes Ltda | H16: 48.211.772/0001-07 | I16: 45581 | J16: 4200000 | K16: 45673 | L16: 45588 | M16: distratado | N16: Parcelas Mensais | O16: 114687.5 | P16: 114687.5 | Q16: 0 | R16: 45566 | S16: 45658 | T16: 45566 | U16: Pago | V16: 0 | W16: 0 | X16: 0 - 30 | Y16: 0 - 30 | Z16: não | AA16: não | AB16: 114687.5 | AC16: 0 | AD16: 0 | AE16: 0 | AF16: 0 | AG16: 0 | AH16: 0
A17: JOYA-01-0302 | B17: Joya Jardins | C17: 1 | D17: 1 | E17: 302 | F17: 1464 | G17: Carlotta Holding E Participacoes Ltda | H17: 48.211.772/0001-07 | I17: 45581 | J17: 4200000 | K17: 45673 | L17: 45590 | M17: distratado | N17: Parcelas Mensais | O17: 12968.75 | P17: 12968.75 | Q17: 0 | R17: 45566 | S17: 45658 | T17: 45566 | U17: Pago | V17: 0 | W17: 0 | X17: 0 - 30 | Y17: 0 - 30 | Z17: não | AA17: não | AB17: 12968.75 | AC17: 0 | AD17: 0 | AE17: 0 | AF17: 0 | AG17: 0 | AH17: 0
A18: JOYA-01-0302 | B18: Joya Jardins | C18: 1 | D18: 1 | E18: 302 | F18: 1464 | G18: Carlotta Holding E Participacoes Ltda | H18: 48.211.772/0001-07 | I18: 45581 | J18: 4200000 | K18: 45704 | L18: 45590 | M18: distratado | N18: Parcelas Mensais | O18: 37031.25 | P18: 37031.25 | Q18: 0 | R18: 45566 | S18: 45689 | T18: 45566 | U18: Pago | V18: 0 | W18: 0 | X18: 0 - 30 | Y18: 0 - 30 | Z18: não | AA18: não | AB18: 37031.25 | AC18: 0 | AD18: 0 | AE18: 0 | AF18: 0 | AG18: 0 | AH18: 0
A19: JOYA-01-0302 | B19: Joya Jardins | C19: 1 | D19: 1 | E19: 302 | F19: 1464 | G19: Carlotta Holding E Participacoes Ltda | H19: 48.211.772/0001-07 | I19: 45581 | J19: 4200000 | K19: 45732 | L19: 45596 | M19: distratado | N19: Parcelas Mensais | O19: 0 | P19: 0 | Q19: 0 | R19: 45566 | S19: 45717 | T19: 45566 | U19: Pago | V19: 0 | W19: 0 | X19: 0 - 30 | Y19: 0 - 30 | Z19: não | AA19: não | AB19: 0 | AC19: 0 | AD19: 0 | AE19: 0 | AF19: 0 | AG19: 0 | AH19: 0
A20: JOYA-01-0302 | B20: Joya Jardins | C20: 1 | D20: 1 | E20: 302 | F20: 1464 | G20: Carlotta Holding E Participacoes Ltda | H20: 48.211.772/0001-07 | I20: 45581 | J20: 4200000 | K20: 45763 | L20: 45596 | M20: distratado | N20: Parcelas Mensais | O20: 0 | P20: 0 | Q20: 0 | R20: 45566 | S20: 45748 | T20: 45566 | U20: Pago | V20: 0 | W20: 0 | X20: 0 - 30 | Y20: 0 - 30 | Z20: não | AA20: não | AB20: 0 | AC20: 0 | AD20: 0 | AE20: 0 | AF20: 0 | AG20: 0 | AH20: 0
A21: JOYA-01-0302 | B21: Joya Jardins | C21: 1 | D21: 1 | E21: 302 | F21: 1464 | G21: Carlotta Holding E Participacoes Ltda | H21: 48.211.772/0001-07 | I21: 45581 | J21: 4200000 | K21: 45793 | L21: 45596 | M21: distratado | N21: Parcelas Mensais | O21: 0 | P21: 0 | Q21: 0 | R21: 45566 | S21: 45778 | T21: 45566 | U21: Pago | V21: 0 | W21: 0 | X21: 0 - 30 | Y21: 0 - 30 | Z21: não | AA21: não | AB21: 0 | AC21: 0 | AD21: 0 | AE21: 0 | AF21: 0 | AG21: 0 | AH21: 0
A22: JOYA-01-0302 | B22: Joya Jardins | C22: 1 | D22: 1 | E22: 302 | F22: 1464 | G22: Carlotta Holding E Participacoes Ltda | H22: 48.211.772/0001-07 | I22: 45581 | J22: 4200000 | K22: 45824 | L22: 45596 | M22: distratado | N22: Parcelas Mensais | O22: 0 | P22: 0 | Q22: 0 | R22: 45566 | S22: 45809 | T22: 45566 | U22: Pago | V22: 0 | W22: 0 | X22: 0 - 30 | Y22: 0 - 30 | Z22: não | AA22: não | AB22: 0 | AC22: 0 | AD22: 0 | AE22: 0 | AF22: 0 | AG22: 0 | AH22: 0
... A46: JOYA-01-0302 | B46: Joya Jardins | C46: 1 | D46: 1 | E46: 302 | F46: 1464 | G46: Carlotta Holding E Participacoes Ltda | H46: 48.211.772/0001-07 | I46: 45581 | J46: 4200000 | K46: 46554 | L46: 45596 | M46: distratado | N46: Parcelas Mensais | O46: 0 | P46: 0 | Q46: 0 | R46: 45566 | S46: 46539 | T46: 45566 | U46: Pago | V46: 0 | W46: 0 | X46: 0 - 30 | Y46: 0 - 30 | Z46: sim | AA46: não | AB46: 0 | AC46: 0 | AD46: 0 | AE46: 0 | AF46: 0 | AG46: 0 | AH46: 0
A47: JOYA-01-2101 | B47: Joya Jardins | C47: 1 | D47: 1 | E47: 2101 | F47: 1449 | G47: Gianluca Perino | H47: 232.170.948-08 | I47: 45559 | J47: 2630000 | K47: 45561 | L47: 45561 | N47: Ato | O47: 50000 | P47: 50000 | Q47: 0 | R47: 45536 | S47: 45536 | T47: 45536 | U47: Pago | V47: 0 | W47: 0 | X47: 0 - 30 | Y47: 0 - 30 | Z47: não | AA47: não | AB47: 50000 | AC47: 0 | AD47: 0 | AE47: 0 | AF47: 0 | AG47: 0 | AH47: 0
A48: JOYA-01-2101 | B48: Joya Jardins | C48: 1 | D48: 1 | E48: 2101 | F48: 1449 | G48: Gianluca Perino | H48: 232.170.948-08 | I48: 45559 | J48: 2630000 | K48: 45561 | L48: 45562 | N48: Ato | O48: 50000 | P48: 50000 | Q48: 0 | R48: 45536 | S48: 45536 | T48: 45536 | U48: Pago | V48: 0 | W48: 0 | X48: 0 - 30 | Y48: 0 - 30 | Z48: não | AA48: não | AB48: 50000 | AC48: 0 | AD48: 0 | AE48: 0 | AF48: 0 | AG48: 0 | AH48: 0
A49: JOYA-01-2101 | B49: Joya Jardins | C49: 1 | D49: 1 | E49: 2101 | F49: 1449 | G49: Gianluca Perino | H49: 232.170.948-08 | I49: 45559 | J49: 2630000 | K49: 45561 | L49: 45565 | N49: Ato | O49: 12500 | P49: 12500 | Q49: 0 | R49: 45536 | S49: 45536 | T49: 45536 | U49: Pago | V49: 0 | W49: 0 | X49: 0 - 30 | Y49: 0 - 30 | Z49: não | AA49: não | AB49: 12500 | AC49: 0 | AD49: 0 | AE49: 0 | AF49: 0 | AG49: 0 | AH49: 0
A50: JOYA-01-2101 | B50: Joya Jardins | C50: 1 | D50: 1 | E50: 2101 | F50: 1449 | G50: Gianluca Perino | H50: 232.170.948-08 | I50: 45559 | J50: 2630000 | K50: 45585 | L50: 45581 | N50: Parcelas Mensais | O50: 75525 | P50: 75525 | Q50: 0 | R50: 45536 | S50: 45566 | T50: 45566 | U50: Pago | V50: 0 | W50: 0 | X50: 0 - 30 | Y50: 0 - 30 | Z50: não | AA50: não | AB50: 75525 | AC50: 0 | AD50: 0 | AE50: 0 | AF50: 0 | AG50: 0 | AH50: 0
A51: JOYA-01-2101 | B51: Joya Jardins | C51: 1 | D51: 1 | E51: 2101 | F51: 1449 | G51: Gianluca Perino | H51: 232.170.948-08 | I51: 45559 | J51: 2630000 | K51: 45616 | N51: Parcelas Mensais | O51: 0 | P51: 0 | Q51: 75963.04 | R51: 45536 | S51: 45597 | U51: A Vencer | V51: 0 | W51: 0 | X51: 0 - 30 | Y51: 0 - 30 | Z51: não | AA51: não | AB51: 0 | AC51: 0 | AD51: 0 | AE51: 75963.04 | AF51: 0 | AG51: 0 | AH51: 75305.279
A52: JOYA-01-2101 | B52: Joya Jardins | C52: 1 | D52: 1 | E52: 2101 | F52: 1449 | G52: Gianluca Perino | H52: 232.170.948-08 | I52: 45559 | J52: 2630000 | K52: 45646 | N52: Parcelas Mensais | O52: 0 | P52: 0 | Q52: 75963.04 | R52: 45536 | S52: 45627 | U52: A Vencer | V52: 0 | W52: 0 | X52: 0 - 30 | Y52: 0 - 30 | Z52: não | AA52: não | AB52: 0 | AC52: 0 | AD52: 0 | AE52: 75963.04 | AF52: 0 | AG52: 0 | AH52: 74653.213
A53: JOYA-01-2101 | B53: Joya Jardins | C53: 1 | D53: 1 | E53: 2101 | F53: 1449 | G53: Gianluca Perino | H53: 232.170.948-08 | I53: 45559 | J53: 2630000 | K53: 45677 | N53: Parcelas Mensais | O53: 0 | P53: 0 | Q53: 75963.04 | R53: 45536 | S53: 45658 | U53: A Vencer | V53: 0 | W53: 0 | X53: 0 - 30 | Y53: 0 - 30 | Z53: não | AA53: não | AB53: 0 | AC53: 0 | AD53: 0 | AE53: 75963.04 | AF53: 0 | AG53: 0 | AH53: 74006.794
A54: JOYA-01-2101 | B54: Joya Jardins | C54: 1 | D54: 1 | E54: 2101 | F54: 1449 | G54: Gianluca Perino | H54: 232.170.948-08 | I54: 45559 | J54: 2630000 | K54: 45708 | N54: Parcelas Mensais | O54: 0 | P54: 0 | Q54: 75963.04 | R54: 45536 | S54: 45689 | U54: A Vencer | V54: 0 | W54: 0 | X54: 0 - 30 | Y54: 0 - 30 | Z54: não | AA54: não | AB54: 0 | AC54: 0 | AD54: 0 | AE54: 75963.04 | AF54: 0 | AG54: 0 | AH54: 73365.972
A55: JOYA-01-2101 | B55: Joya Jardins | C55: 1 | D55: 1 | E55: 2101 | F55: 1449 | G55: Gianluca Perino | H55: 232.170.948-08 | I55: 45559 | J55: 2630000 | K55: 45736 | N55: Parcelas Mensais | O55: 0 | P55: 0 | Q55: 75963.04 | R55: 45536 | S55: 45717 | U55: A Vencer | V55: 0 | W55: 0 | X55: 0 - 30 | Y55: 0 - 30 | Z55: não | AA55: não | AB55: 0 | AC55: 0 | AD55: 0 | AE55: 75963.04 | AF55: 0 | AG55: 0 | AH55: 72730.699
A56: JOYA-01-2101 | B56: Joya Jardins | C56: 1 | D56: 1 | E56: 2101 | F56: 1449 | G56: Gianluca Perino | H56: 232.170.948-08 | I56: 45559 | J56: 2630000 | K56: 45767 | N56: Parcelas Mensais | O56: 0 | P56: 0 | Q56: 75963.04 | R56: 45536 | S56: 45748 | U56: A Vencer | V56: 0 | W56: 0 | X56: 0 - 30 | Y56: 0 - 30 | Z56: não | AA56: não | AB56: 0 | AC56: 0 | AD56: 0 | AE56: 75963.04 | AF56: 0 | AG56: 0 | AH56: 72100.927
A57: JOYA-01-2101 | B57: Joya Jardins | C57: 1 | D57: 1 | E57: 2101 | F57: 1449 | G57: Gianluca Perino | H57: 232.170.948-08 | I57: 45559 | J57: 2630000 | K57: 45797 | N57: Parcelas Mensais | O57: 0 | P57: 0 | Q57: 75963.04 | R57: 45536 | S57: 45778 | U57: A Vencer | V57: 0 | W57: 0 | X57: 0 - 30 | Y57: 0 - 30 | Z57: não | AA57: não | AB57: 0 | AC57: 0 | AD57: 0 | AE57: 75963.04 | AF57: 0 | AG57: 0 | AH57: 71476.608
A58: JOYA-01-2101 | B58: Joya Jardins | C58: 1 | D58: 1 | E58: 2101 | F58: 1449 | G58: Gianluca Perino | H58: 232.170.948-08 | I58: 45559 | J58: 2630000 | K58: 45828 | N58: Parcelas Mensais | O58: 0 | P58: 0 | Q58: 75963.04 | R58: 45536 | S58: 45809 | U58: A Vencer | V58: 0 | W58: 0 | X58: 0 - 30 | Y58: 0 - 30 | Z58: não | AA58: não | AB58: 0 | AC58: 0 | AD58: 0 | AE58: 75963.04 | AF58: 0 | AG58: 0 | AH58: 70857.694
A59: JOYA-01-2101 | B59: Joya Jardins | C59: 1 | D59: 1 | E59: 2101 | F59: 1449 | G59: Gianluca Perino | H59: 232.170.948-08 | I59: 45559 | J59: 2630000 | K59: 45858 | N59: Parcelas Mensais | O59: 0 | P59: 0 | Q59: 75963.04 | R59: 45536 | S59: 45839 | U59: A Vencer | V59: 0 | W59: 0 | X59: 0 - 30 | Y59: 0 - 30 | Z59: não | AA59: não | AB59: 0 | AC59: 0 | AD59: 0 | AE59: 75963.04 | AF59: 0 | AG59: 0 | AH59: 70244.14
A60: JOYA-01-2101 | B60: Joya Jardins | C60: 1 | D60: 1 | E60: 2101 | F60: 1449 | G60: Gianluca Perino | H60: 232.170.948-08 | I60: 45559 | J60: 2630000 | K60: 45889 | N60: Parcelas Mensais | O60: 0 | P60: 0 | Q60: 75963.04 | R60: 45536 | S60: 45870 | U60: A Vencer | V60: 0 | W60: 0 | X60: 0 - 30 | Y60: 0 - 30 | Z60: não | AA60: não | AB60: 0 | AC60: 0 | AD60: 0 | AE60: 75963.04 | AF60: 0 | AG60: 0 | AH60: 69635.899
A61: JOYA-01-2101 | B61: Joya Jardins | C61: 1 | D61: 1 | E61: 2101 | F61: 1449 | G61: Gianluca Perino | H61: 232.170.948-08 | I61: 45559 | J61: 2630000 | K61: 45920 | N61: Parcelas Mensais | O61: 0 | P61: 0 | Q61: 75963.04 | R61: 45536 | S61: 45901 | U61: A Vencer | V61: 0 | W61: 0 | X61: 0 - 30 | Y61: 0 - 30 | Z61: não | AA61: não | AB61: 0 | AC61: 0 | AD61: 0 | AE61: 75963.04 | AF61: 0 | AG61: 0 | AH61: 69032.925
A62: JOYA-01-2101 | B62: Joya Jardins | C62: 1 | D62: 1 | E62: 2101 | F62: 1449 | G62: Gianluca Perino | H62: 232.170.948-08 | I62: 45559 | J62: 2630000 | K62: 45950 | N62: Parcelas Mensais | O62: 0 | P62: 0 | Q62: 75963.04 | R62: 45536 | S62: 45931 | U62: A Vencer | V62: 0 | W62: 0 | X62: 0 - 30 | Y62: 0 - 30 | Z62: não | AA62: não | AB62: 0 | AC62: 0 | AD62: 0 | AE62: 75963.04 | AF62: 0 | AG62: 0 | AH62: 68435.171
... A82: JOYA-01-2101 | B82: Joya Jardins | C82: 1 | D82: 1 | E82: 2101 | F82: 1449 | G82: Gianluca Perino | H82: 232.170.948-08 | I82: 45559 | J82: 2630000 | K82: 46568 | N82: Parcela Única | O82: 0 | P82: 0 | Q82: 101284.06 | R82: 45536 | S82: 46539 | U82: A Vencer | V82: 0 | W82: 0 | X82: 0 - 30 | Y82: 0 - 30 | Z82: sim | AA82: não | AB82: 0 | AC82: 0 | AD82: 0 | AE82: 0 | AF82: 0 | AG82: 101284.06 | AH82: 76679.598
...

Sheet Extratos Clientes
A1: Retirar valores pagos mensalmente da carteira | T1: =MAX($S:$S) -> 11
A2: Aux | B2: Empreendimento | C2: Fase / Bloco / Torre | D2: Cod Torre | E2: Unidade | F2: Contrato | G2: Cliente Parcela | H2: CPF Parcela | I2: Data Venda | J2: Valor Venda | K2: VENCIMENTO | L2: DATA DA BAIXA | M2: Data Distrato | N2: PARCELA | O2: Valor Baixa | P2: Valor Pago | Q2: Valor Ajustado | R2: Mês Pgto | S2: Conciliação Baixas | T2: Conta Recebimento | U2: Banco Recebimento | V2: Data Recebimento | W2: Mês Recebimento
