Workbook

Sheet relatorio - Eleva Cidade Jardim
A1: CÃ³digo da empresa | B1: Empresa | C1: CÃ³digo do empreendimento | D1: Empreendimento | E1: Unidade Principal | F1: NÃºmero do contrato | G1: Nome do Cliente | H1: CPF/CNPJ cliente | I1: Nome do Cliente SecundÃ¡rio | J1: CPF/CNPJ cliente secundÃ¡rio | K1: Nome do Avalista | L1: CPF/CNPJ do Avalista | M1: Telefone do Avalista | N1: TÃ­tulo | O1: Tipo de parcela | P1: NÃºmero da parcela | Q1: Data de vencimento | R1: Valor original | S1: Valor corrigido | T1: Pro rata | U1: Juros | V1: Multa | W1: Valor total | X1: Data de pagamento | Y1: Valor de pagamento | Z1: STATUS | AA1: =TODAY() -> 45594
A2: 11 | B2: CJ AMARILIS RESIDENCIAL SPE LTDA | C2: 14 | D2: Eleva Cidade Jardim | E2: 1 | F2: 1 | G2: GABRIEL ALVES DA COSTA | H2: 434.674.070-72 | I2: RENATA CAMPETTI AMARAL | J2: 917.645.130-53 | N2: 504 | O2: Parcelas Mensais | P2: 7 | Q2: 45565 | R2: 5000 | S2: 5156.37 | T2: 0 | U2: 0 | V2: 0 | W2: 5156.37 | Z2: =IF(X2>0,"Paga",IF(Q2>$AA$1,"A vencer","Em atraso")) -> Em atraso
A3: 11 | B3: CJ AMARILIS RESIDENCIAL SPE LTDA | C3: 14 | D3: Eleva Cidade Jardim | E3: 1 | F3: 1 | G3: GABRIEL ALVES DA COSTA | H3: 434.674.070-72 | I3: RENATA CAMPETTI AMARAL | J3: 917.645.130-53 | N3: 504 | O3: Parcela Ãšnica | P3: 8 | Q3: 45565 | R3: 500000 | S3: 515637.02 | T3: 0 | U3: 0 | V3: 0 | W3: 515637.02 | Z3: =IF(X3>0,"Paga",IF(Q3>$AA$1,"A vencer","Em atraso")) -> Em atraso
A4: 11 | B4: CJ AMARILIS RESIDENCIAL SPE LTDA | C4: 14 | D4: Eleva Cidade Jardim | E4: 1 | F4: 1 | G4: GABRIEL ALVES DA COSTA | H4: 434.674.070-72 | I4: RENATA CAMPETTI AMARAL | J4: 917.645.130-53 | N4: 504 | O4: Parcelas Mensais | P4: 9 | Q4: 45595 | R4: 10000 | S4: 10312.74 | T4: 0 | U4: 0 | V4: 0 | W4: 10312.74 | Z4: =IF(X4>0,"Paga",IF(Q4>$AA$1,"A vencer","Em atraso")) -> A vencer
A5: 11 | B5: CJ AMARILIS RESIDENCIAL SPE LTDA | C5: 14 | D5: Eleva Cidade Jardim | E5: 1 | F5: 1 | G5: GABRIEL ALVES DA COSTA | H5: 434.674.070-72 | I5: RENATA CAMPETTI AMARAL | J5: 917.645.130-53 | N5: 504 | O5: Parcelas Mensais | P5: 10 | Q5: 45626 | R5: 10000 | S5: 10312.74 | T5: 0 | U5: 0 | V5: 0 | W5: 10312.74 | Z5: =IF(X5>0,"Paga",IF(Q5>$AA$1,"A vencer","Em atraso")) -> A vencer
A6: 11 | B6: CJ AMARILIS RESIDENCIAL SPE LTDA | C6: 14 | D6: Eleva Cidade Jardim | E6: 1 | F6: 1 | G6: GABRIEL ALVES DA COSTA | H6: 434.674.070-72 | I6: RENATA CAMPETTI AMARAL | J6: 917.645.130-53 | N6: 504 | O6: Parcelas Mensais | P6: 11 | Q6: 45656 | R6: 10000 | S6: 10312.74 | T6: 0 | U6: 0 | V6: 0 | W6: 10312.74 | Z6: =IF(X6>0,"Paga",IF(Q6>$AA$1,"A vencer","Em atraso")) -> A vencer
A7: 11 | B7: CJ AMARILIS RESIDENCIAL SPE LTDA | C7: 14 | D7: Eleva Cidade Jardim | E7: 1 | F7: 1 | G7: GABRIEL ALVES DA COSTA | H7: 434.674.070-72 | I7: RENATA CAMPETTI AMARAL | J7: 917.645.130-53 | N7: 504 | O7: Parcelas Mensais | P7: 12 | Q7: 45687 | R7: 10000 | S7: 10312.74 | T7: 0 | U7: 0 | V7: 0 | W7: 10312.74 | Z7: =IF(X7>0,"Paga",IF(Q7>$AA$1,"A vencer","Em atraso")) -> A vencer
A8: 11 | B8: CJ AMARILIS RESIDENCIAL SPE LTDA | C8: 14 | D8: Eleva Cidade Jardim | E8: 1 | F8: 1 | G8: GABRIEL ALVES DA COSTA | H8: 434.674.070-72 | I8: RENATA CAMPETTI AMARAL | J8: 917.645.130-53 | N8: 504 | O8: Parcelas Mensais | P8: 13 | Q8: 45716 | R8: 10000 | S8: 10312.74 | T8: 0 | U8: 0 | V8: 0 | W8: 10312.74 | Z8: =IF(X8>0,"Paga",IF(Q8>$AA$1,"A vencer","Em atraso")) -> A vencer
A9: 11 | B9: CJ AMARILIS RESIDENCIAL SPE LTDA | C9: 14 | D9: Eleva Cidade Jardim | E9: 1 | F9: 1 | G9: GABRIEL ALVES DA COSTA | H9: 434.674.070-72 | I9: RENATA CAMPETTI AMARAL | J9: 917.645.130-53 | N9: 504 | O9: Parcela Ãšnica | P9: 14 | Q9: 45716 | R9: 1000000 | S9: 1031274 | T9: 0 | U9: 0 | V9: 0 | W9: 1031274 | Z9: =IF(X9>0,"Paga",IF(Q9>$AA$1,"A vencer","Em atraso")) -> A vencer
A10: 11 | B10: CJ AMARILIS RESIDENCIAL SPE LTDA | C10: 14 | D10: Eleva Cidade Jardim | E10: 1 | F10: 1 | G10: GABRIEL ALVES DA COSTA | H10: 434.674.070-72 | I10: RENATA CAMPETTI AMARAL | J10: 917.645.130-53 | N10: 504 | O10: Parcelas Mensais | P10: 15 | Q10: 45746 | R10: 10000 | S10: 10312.74 | T10: 0 | U10: 0 | V10: 0 | W10: 10312.74 | Z10: =IF(X10>0,"Paga",IF(Q10>$AA$1,"A vencer","Em atraso")) -> A vencer
A11: 11 | B11: CJ AMARILIS RESIDENCIAL SPE LTDA | C11: 14 | D11: Eleva Cidade Jardim | E11: 1 | F11: 1 | G11: GABRIEL ALVES DA COSTA | H11: 434.674.070-72 | I11: RENATA CAMPETTI AMARAL | J11: 917.645.130-53 | N11: 504 | O11: Parcelas Mensais | P11: 16 | Q11: 45777 | R11: 10000 | S11: 10312.74 | T11: 0 | U11: 0 | V11: 0 | W11: 10312.74 | Z11: =IF(X11>0,"Paga",IF(Q11>$AA$1,"A vencer","Em atraso")) -> A vencer
A12: 11 | B12: CJ AMARILIS RESIDENCIAL SPE LTDA | C12: 14 | D12: Eleva Cidade Jardim | E12: 1 | F12: 1 | G12: GABRIEL ALVES DA COSTA | H12: 434.674.070-72 | I12: RENATA CAMPETTI AMARAL | J12: 917.645.130-53 | N12: 504 | O12: Parcelas Mensais | P12: 17 | Q12: 45807 | R12: 10000 | S12: 10312.74 | T12: 0 | U12: 0 | V12: 0 | W12: 10312.74 | Z12: =IF(X12>0,"Paga",IF(Q12>$AA$1,"A vencer","Em atraso")) -> A vencer
A13: 11 | B13: CJ AMARILIS RESIDENCIAL SPE LTDA | C13: 14 | D13: Eleva Cidade Jardim | E13: 1 | F13: 1 | G13: GABRIEL ALVES DA COSTA | H13: 434.674.070-72 | I13: RENATA CAMPETTI AMARAL | J13: 917.645.130-53 | N13: 504 | O13: Parcelas Mensais | P13: 18 | Q13: 45838 | R13: 10000 | S13: 10312.74 | T13: 0 | U13: 0 | V13: 0 | W13: 10312.74 | Z13: =IF(X13>0,"Paga",IF(Q13>$AA$1,"A vencer","Em atraso")) -> A vencer
... A36: 11 | B36: CJ AMARILIS RESIDENCIAL SPE LTDA | C36: 14 | D36: Eleva Cidade Jardim | E36: 1 | F36: 1 | G36: GABRIEL ALVES DA COSTA | H36: 434.674.070-72 | I36: RENATA CAMPETTI AMARAL | J36: 917.645.130-53 | N36: 504 | O36: Parcelas Mensais | P36: 41 | Q36: 46505 | R36: 1000 | S36: 1031.27 | T36: 0 | U36: 0 | V36: 0 | W36: 1031.27 | Z36: =IF(X36>0,"Paga",IF(Q36>$AA$1,"A vencer","Em atraso")) -> A vencer
A37: 11 | B37: CJ AMARILIS RESIDENCIAL SPE LTDA | C37: 14 | D37: Eleva Cidade Jardim | E37: 1 | F37: 1 | G37: GABRIEL ALVES DA COSTA | H37: 434.674.070-72 | I37: RENATA CAMPETTI AMARAL | J37: 917.645.130-53 | N37: 504 | O37: Ato | P37: 1 | Q37: 45417 | R37: 175000 | S37: 0 | T37: 0 | U37: 0 | V37: 0 | W37: 0 | X37: 45412 | Y37: 175000 | Z37: =IF(X37>0,"Paga",IF(Q37>$AA$1,"A vencer","Em atraso")) -> Paga
A38: 11 | B38: CJ AMARILIS RESIDENCIAL SPE LTDA | C38: 14 | D38: Eleva Cidade Jardim | E38: 1 | F38: 1 | G38: GABRIEL ALVES DA COSTA | H38: 434.674.070-72 | I38: RENATA CAMPETTI AMARAL | J38: 917.645.130-53 | N38: 504 | O38: Parcelas Mensais | P38: 2 | Q38: 45442 | R38: 5000 | S38: 0 | T38: 0 | U38: 0 | V38: 0 | W38: 0 | X38: 45440 | Y38: 5014 | Z38: =IF(X38>0,"Paga",IF(Q38>$AA$1,"A vencer","Em atraso")) -> Paga
A39: 11 | B39: CJ AMARILIS RESIDENCIAL SPE LTDA | C39: 14 | D39: Eleva Cidade Jardim | E39: 1 | F39: 1 | G39: GABRIEL ALVES DA COSTA | H39: 434.674.070-72 | I39: RENATA CAMPETTI AMARAL | J39: 917.645.130-53 | N39: 504 | O39: Parcelas Mensais | P39: 3 | Q39: 45473 | R39: 5000 | S39: 0 | T39: 0 | U39: 0 | V39: 0 | W39: 0 | X39: 45474 | Y39: 5014 | Z39: =IF(X39>0,"Paga",IF(Q39>$AA$1,"A vencer","Em atraso")) -> Paga
A40: 11 | B40: CJ AMARILIS RESIDENCIAL SPE LTDA | C40: 14 | D40: Eleva Cidade Jardim | E40: 1 | F40: 1 | G40: GABRIEL ALVES DA COSTA | H40: 434.674.070-72 | I40: RENATA CAMPETTI AMARAL | J40: 917.645.130-53 | N40: 504 | O40: Parcelas Mensais | P40: 4 | Q40: 45503 | R40: 5000 | S40: 0 | T40: 0 | U40: 0 | V40: 0 | W40: 0 | X40: 45504 | Y40: 5083.42 | Z40: =IF(X40>0,"Paga",IF(Q40>$AA$1,"A vencer","Em atraso")) -> Paga
A41: 11 | B41: CJ AMARILIS RESIDENCIAL SPE LTDA | C41: 14 | D41: Eleva Cidade Jardim | E41: 1 | F41: 1 | G41: GABRIEL ALVES DA COSTA | H41: 434.674.070-72 | I41: RENATA CAMPETTI AMARAL | J41: 917.645.130-53 | N41: 504 | O41: Parcela Ãšnica | P41: 5 | Q41: 45503 | R41: 175000 | S41: 0 | T41: 0 | U41: 0 | V41: 0 | W41: 0 | X41: 45504 | Y41: 177919.61 | Z41: =IF(X41>0,"Paga",IF(Q41>$AA$1,"A vencer","Em atraso")) -> Paga
A42: 11 | B42: CJ AMARILIS RESIDENCIAL SPE LTDA | C42: 14 | D42: Eleva Cidade Jardim | E42: 1 | F42: 1 | G42: GABRIEL ALVES DA COSTA | H42: 434.674.070-72 | I42: RENATA CAMPETTI AMARAL | J42: 917.645.130-53 | N42: 504 | O42: Parcelas Mensais | P42: 6 | Q42: 45534 | R42: 5000 | S42: 0 | T42: 0 | U42: 0 | V42: 0 | W42: 0 | X42: 45532 | Y42: 5119.51 | Z42: =IF(X42>0,"Paga",IF(Q42>$AA$1,"A vencer","Em atraso")) -> Paga
A43: 11 | B43: CJ AMARILIS RESIDENCIAL SPE LTDA | C43: 14 | D43: Eleva Cidade Jardim | E43: 5 | F43: 5 | G43: JOSE ROBERTO CANTO PORTO | H43: 144.377.568-19 | I43: RENATA MALTA CANTO PORTO | J43: 281.928.238-57 | N43: 529 | O43: Parcelas Mensais | P43: 2 | Q43: 45595 | R43: 120000 | S43: 120000 | T43: 0 | U43: 0 | V43: 0 | W43: 120000 | Z43: =IF(X43>0,"Paga",IF(Q43>$AA$1,"A vencer","Em atraso")) -> A vencer
A44: 11 | B44: CJ AMARILIS RESIDENCIAL SPE LTDA | C44: 14 | D44: Eleva Cidade Jardim | E44: 5 | F44: 5 | G44: JOSE ROBERTO CANTO PORTO | H44: 144.377.568-19 | I44: RENATA MALTA CANTO PORTO | J44: 281.928.238-57 | N44: 529 | O44: Parcelas Mensais | P44: 3 | Q44: 45626 | R44: 120000 | S44: 120000 | T44: 0 | U44: 0 | V44: 0 | W44: 120000 | Z44: =IF(X44>0,"Paga",IF(Q44>$AA$1,"A vencer","Em atraso")) -> A vencer
A45: 11 | B45: CJ AMARILIS RESIDENCIAL SPE LTDA | C45: 14 | D45: Eleva Cidade Jardim | E45: 5 | F45: 5 | G45: JOSE ROBERTO CANTO PORTO | H45: 144.377.568-19 | I45: RENATA MALTA CANTO PORTO | J45: 281.928.238-57 | N45: 529 | O45: Parcelas Mensais | P45: 4 | Q45: 45656 | R45: 120000 | S45: 120000 | T45: 0 | U45: 0 | V45: 0 | W45: 120000 | Z45: =IF(X45>0,"Paga",IF(Q45>$AA$1,"A vencer","Em atraso")) -> A vencer
A46: 11 | B46: CJ AMARILIS RESIDENCIAL SPE LTDA | C46: 14 | D46: Eleva Cidade Jardim | E46: 5 | F46: 5 | G46: JOSE ROBERTO CANTO PORTO | H46: 144.377.568-19 | I46: RENATA MALTA CANTO PORTO | J46: 281.928.238-57 | N46: 529 | O46: Parcelas Mensais | P46: 5 | Q46: 45687 | R46: 120000 | S46: 120000 | T46: 0 | U46: 0 | V46: 0 | W46: 120000 | Z46: =IF(X46>0,"Paga",IF(Q46>$AA$1,"A vencer","Em atraso")) -> A vencer
A47: 11 | B47: CJ AMARILIS RESIDENCIAL SPE LTDA | C47: 14 | D47: Eleva Cidade Jardim | E47: 5 | F47: 5 | G47: JOSE ROBERTO CANTO PORTO | H47: 144.377.568-19 | I47: RENATA MALTA CANTO PORTO | J47: 281.928.238-57 | N47: 529 | O47: Parcelas Semestrais | P47: 6 | Q47: 45687 | R47: 425000 | S47: 425000 | T47: 0 | U47: 0 | V47: 0 | W47: 425000 | Z47: =IF(X47>0,"Paga",IF(Q47>$AA$1,"A vencer","Em atraso")) -> A vencer
A48: 11 | B48: CJ AMARILIS RESIDENCIAL SPE LTDA | C48: 14 | D48: Eleva Cidade Jardim | E48: 5 | F48: 5 | G48: JOSE ROBERTO CANTO PORTO | H48: 144.377.568-19 | I48: RENATA MALTA CANTO PORTO | J48: 281.928.238-57 | N48: 529 | O48: Parcelas Mensais | P48: 7 | Q48: 45716 | R48: 120000 | S48: 120000 | T48: 0 | U48: 0 | V48: 0 | W48: 120000 | Z48: =IF(X48>0,"Paga",IF(Q48>$AA$1,"A vencer","Em atraso")) -> A vencer
A49: 11 | B49: CJ AMARILIS RESIDENCIAL SPE LTDA | C49: 14 | D49: Eleva Cidade Jardim | E49: 5 | F49: 5 | G49: JOSE ROBERTO CANTO PORTO | H49: 144.377.568-19 | I49: RENATA MALTA CANTO PORTO | J49: 281.928.238-57 | N49: 529 | O49: Parcelas Mensais | P49: 8 | Q49: 45746 | R49: 120000 | S49: 120000 | T49: 0 | U49: 0 | V49: 0 | W49: 120000 | Z49: =IF(X49>0,"Paga",IF(Q49>$AA$1,"A vencer","Em atraso")) -> A vencer
A50: 11 | B50: CJ AMARILIS RESIDENCIAL SPE LTDA | C50: 14 | D50: Eleva Cidade Jardim | E50: 5 | F50: 5 | G50: JOSE ROBERTO CANTO PORTO | H50: 144.377.568-19 | I50: RENATA MALTA CANTO PORTO | J50: 281.928.238-57 | N50: 529 | O50: Parcelas Mensais | P50: 9 | Q50: 45777 | R50: 120000 | S50: 120000 | T50: 0 | U50: 0 | V50: 0 | W50: 120000 | Z50: =IF(X50>0,"Paga",IF(Q50>$AA$1,"A vencer","Em atraso")) -> A vencer
A51: 11 | B51: CJ AMARILIS RESIDENCIAL SPE LTDA | C51: 14 | D51: Eleva Cidade Jardim | E51: 5 | F51: 5 | G51: JOSE ROBERTO CANTO PORTO | H51: 144.377.568-19 | I51: RENATA MALTA CANTO PORTO | J51: 281.928.238-57 | N51: 529 | O51: Parcelas Mensais | P51: 10 | Q51: 45807 | R51: 120000 | S51: 120000 | T51: 0 | U51: 0 | V51: 0 | W51: 120000 | Z51: =IF(X51>0,"Paga",IF(Q51>$AA$1,"A vencer","Em atraso")) -> A vencer
A52: 11 | B52: CJ AMARILIS RESIDENCIAL SPE LTDA | C52: 14 | D52: Eleva Cidade Jardim | E52: 5 | F52: 5 | G52: JOSE ROBERTO CANTO PORTO | H52: 144.377.568-19 | I52: RENATA MALTA CANTO PORTO | J52: 281.928.238-57 | N52: 529 | O52: Parcelas Mensais | P52: 11 | Q52: 45838 | R52: 120000 | S52: 120000 | T52: 0 | U52: 0 | V52: 0 | W52: 120000 | Z52: =IF(X52>0,"Paga",IF(Q52>$AA$1,"A vencer","Em atraso")) -> A vencer
A53: 11 | B53: CJ AMARILIS RESIDENCIAL SPE LTDA | C53: 14 | D53: Eleva Cidade Jardim | E53: 5 | F53: 5 | G53: JOSE ROBERTO CANTO PORTO | H53: 144.377.568-19 | I53: RENATA MALTA CANTO PORTO | J53: 281.928.238-57 | N53: 529 | O53: Parcelas Mensais | P53: 12 | Q53: 45868 | R53: 120000 | S53: 120000 | T53: 0 | U53: 0 | V53: 0 | W53: 120000 | Z53: =IF(X53>0,"Paga",IF(Q53>$AA$1,"A vencer","Em atraso")) -> A vencer
A54: 11 | B54: CJ AMARILIS RESIDENCIAL SPE LTDA | C54: 14 | D54: Eleva Cidade Jardim | E54: 5 | F54: 5 | G54: JOSE ROBERTO CANTO PORTO | H54: 144.377.568-19 | I54: RENATA MALTA CANTO PORTO | J54: 281.928.238-57 | N54: 529 | O54: Parcelas Semestrais | P54: 13 | Q54: 45868 | R54: 425000 | S54: 425000 | T54: 0 | U54: 0 | V54: 0 | W54: 425000 | Z54: =IF(X54>0,"Paga",IF(Q54>$AA$1,"A vencer","Em atraso")) -> A vencer
... A81: 11 | B81: CJ AMARILIS RESIDENCIAL SPE LTDA | C81: 14 | D81: Eleva Cidade Jardim | E81: 5 | F81: 5 | G81: JOSE ROBERTO CANTO PORTO | H81: 144.377.568-19 | I81: RENATA MALTA CANTO PORTO | J81: 281.928.238-57 | N81: 529 | O81: Parcelas Mensais | P81: 40 | Q81: 46658 | R81: 1000 | S81: 1000 | T81: 0 | U81: 0 | V81: 0 | W81: 1000 | Z81: =IF(X81>0,"Paga",IF(Q81>$AA$1,"A vencer","Em atraso")) -> A vencer
A82: 11 | B82: CJ AMARILIS RESIDENCIAL SPE LTDA | C82: 14 | D82: Eleva Cidade Jardim | E82: 5 | F82: 5 | G82: JOSE ROBERTO CANTO PORTO | H82: 144.377.568-19 | I82: RENATA MALTA CANTO PORTO | J82: 281.928.238-57 | N82: 529 | O82: Ato | P82: 1 | Q82: 45545 | R82: 422660 | S82: 0 | T82: 0 | U82: 0 | V82: 0 | W82: 0 | X82: 45545 | Y82: 422660 | Z82: =IF(X82>0,"Paga",IF(Q82>$AA$1,"A vencer","Em atraso")) -> Paga
A83: 11 | B83: CJ AMARILIS RESIDENCIAL SPE LTDA | C83: 14 | D83: Eleva Cidade Jardim | E83: 4 | F83: 4 | G83: PAULO RICARDO WESTIN MARCON | H83: 088.955.556-78 | I83: VERONICA VALENTINI | J83: 409.581.828-09 | N83: 497 | O83: Parcelas Mensais | P83: 8 | Q83: 45565 | R83: 33000 | S83: 34076.28 | T83: 0 | U83: 0 | V83: 0 | W83: 34076.28 | Z83: =IF(X83>0,"Paga",IF(Q83>$AA$1,"A vencer","Em atraso")) -> Em atraso
A84: 11 | B84: CJ AMARILIS RESIDENCIAL SPE LTDA | C84: 14 | D84: Eleva Cidade Jardim | E84: 4 | F84: 4 | G84: PAULO RICARDO WESTIN MARCON | H84: 088.955.556-78 | I84: VERONICA VALENTINI | J84: 409.581.828-09 | N84: 497 | O84: Parcelas Mensais | P84: 9 | Q84: 45595 | R84: 33000 | S84: 34076.28 | T84: 0 | U84: 0 | V84: 0 | W84: 34076.28 | Z84: =IF(X84>0,"Paga",IF(Q84>$AA$1,"A vencer","Em atraso")) -> A vencer
A85: 11 | B85: CJ AMARILIS RESIDENCIAL SPE LTDA | C85: 14 | D85: Eleva Cidade Jardim | E85: 4 | F85: 4 | G85: PAULO RICARDO WESTIN MARCON | H85: 088.955.556-78 | I85: VERONICA VALENTINI | J85: 409.581.828-09 | N85: 497 | O85: Parcelas Mensais | P85: 10 | Q85: 45626 | R85: 33000 | S85: 34076.28 | T85: 0 | U85: 0 | V85: 0 | W85: 34076.28 | Z85: =IF(X85>0,"Paga",IF(Q85>$AA$1,"A vencer","Em atraso")) -> A vencer
A86: 11 | B86: CJ AMARILIS RESIDENCIAL SPE LTDA | C86: 14 | D86: Eleva Cidade Jardim | E86: 4 | F86: 4 | G86: PAULO RICARDO WESTIN MARCON | H86: 088.955.556-78 | I86: VERONICA VALENTINI | J86: 409.581.828-09 | N86: 497 | O86: Parcelas Mensais | P86: 11 | Q86: 45656 | R86: 33000 | S86: 34076.28 | T86: 0 | U86: 0 | V86: 0 | W86: 34076.28 | Z86: =IF(X86>0,"Paga",IF(Q86>$AA$1,"A vencer","Em atraso")) -> A vencer
A87: 11 | B87: CJ AMARILIS RESIDENCIAL SPE LTDA | C87: 14 | D87: Eleva Cidade Jardim | E87: 4 | F87: 4 | G87: PAULO RICARDO WESTIN MARCON | H87: 088.955.556-78 | I87: VERONICA VALENTINI | J87: 409.581.828-09 | N87: 497 | O87: Parcelas Mensais | P87: 12 | Q87: 45687 | R87: 33000 | S87: 34076.28 | T87: 0 | U87: 0 | V87: 0 | W87: 34076.28 | Z87: =IF(X87>0,"Paga",IF(Q87>$AA$1,"A vencer","Em atraso")) -> A vencer
A88: 11 | B88: CJ AMARILIS RESIDENCIAL SPE LTDA | C88: 14 | D88: Eleva Cidade Jardim | E88: 4 | F88: 4 | G88: PAULO RICARDO WESTIN MARCON | H88: 088.955.556-78 | I88: VERONICA VALENTINI | J88: 409.581.828-09 | N88: 497 | O88: Parcelas Mensais | P88: 13 | Q88: 45716 | R88: 33000 | S88: 34076.28 | T88: 0 | U88: 0 | V88: 0 | W88: 34076.28 | Z88: =IF(X88>0,"Paga",IF(Q88>$AA$1,"A vencer","Em atraso")) -> A vencer
...

Sheet Resumo
A1: Empresa | B1: CJ AMARILIS RESIDENCIAL SPE LTDA
A2: Nome do Empreendimento | B2: Eleva Cidade Jardim
A3: Data Base | B3: 45551
A5: Empresa | B5: Empreendimento | C5: Unidade Principal | D5: Nome do Cliente | E5: CPF/CNPJ cliente | F5: Nome do Cliente Secundário | G5: CPF/CNPJ cliente secundário | H5: Data da Venda | I5: Valor de Venda | J5: Valor Pago | K5: Saldo em aberto
A6: CJ AMARILIS RESIDENCIAL SPE LTDA | B6: Eleva Cidade Jardim | C6: 1 | D6: GABRIEL ALVES DA COSTA | E6: 434.674.070-72 | F6: RENATA CAMPETTI AMARAL | G6: 917.645.130-53 | H6: 45409 | I6: 7125000 | J6: =SUMIF('relatorio - Eleva Cidade Jardim'!E:E,Resumo!C6,'relatorio - Eleva Cidade Jardim'!Y:Y) -> 373150.54 | K6: =SUMIFS('relatorio - Eleva Cidade Jardim'!W:W,'relatorio - Eleva Cidade Jardim'!E:E,Resumo!C6,'relatorio - Eleva Cidade Jardim'!Z:Z,"A vencer") -> 6445462.6
A7: CJ AMARILIS RESIDENCIAL SPE LTDA | B7: Eleva Cidade Jardim | C7: 5 | D7: JOSE ROBERTO CANTO PORTO | E7: 144.377.568-19 | F7: RENATA MALTA CANTO PORTO | G7: 281.928.238-57 | H7: 45540 | I7: 6219460 | J7: =SUMIF('relatorio - Eleva Cidade Jardim'!E:E,Resumo!C7,'relatorio - Eleva Cidade Jardim'!Y:Y) -> 422660 | K7: =SUMIFS('relatorio - Eleva Cidade Jardim'!W:W,'relatorio - Eleva Cidade Jardim'!E:E,Resumo!C7,'relatorio - Eleva Cidade Jardim'!Z:Z,"A vencer") -> 5796800
A8: CJ AMARILIS RESIDENCIAL SPE LTDA | B8: Eleva Cidade Jardim | C8: 4 | D8: PAULO RICARDO WESTIN MARCON | E8: 088.955.556-78 | F8: VERONICA VALENTINI | G8: 409.581.828-09 | H8: 45380 | I8: 4869700 | J8: =SUMIF('relatorio - Eleva Cidade Jardim'!E:E,Resumo!C8,'relatorio - Eleva Cidade Jardim'!Y:Y) -> 543612.9 | K8: =SUMIFS('relatorio - Eleva Cidade Jardim'!W:W,'relatorio - Eleva Cidade Jardim'!E:E,Resumo!C8,'relatorio - Eleva Cidade Jardim'!Z:Z,"A vencer") -> 4435080
A9: CJ AMARILIS RESIDENCIAL SPE LTDA | B9: Eleva Cidade Jardim | C9: 2 | D9: RAFAEL PAIVA POPPE DO VALLE | E9: 102.493.287-71 | F9: DEBORA SANTOS POPPE DO VALLE | G9: 112.605.187-01 | H9: 45385 | I9: 6576000 | J9: =SUMIF('relatorio - Eleva Cidade Jardim'!E:E,Resumo!C9,'relatorio - Eleva Cidade Jardim'!Y:Y) -> 776395.35 | K9: =SUMIFS('relatorio - Eleva Cidade Jardim'!W:W,'relatorio - Eleva Cidade Jardim'!E:E,Resumo!C9,'relatorio - Eleva Cidade Jardim'!Z:Z,"A vencer") -> 5960763.8
