Workbook
Name Ext_Bancarios: '[2]Ext bancário'!$A$1:OFFSET('[2]Ext bancário'!$A$1,COUNTA('[2]Ext bancário'!$A:$A)-1,COUNTA('[2]Ext bancário'!$1:$1)-1)
Name Ext_Clientes: '[2]Ext Clientes'!$A$1:OFFSET('[2]Ext Clientes'!$A$1,COUNTA('[2]Ext Clientes'!$A:$A)-1,COUNTA('[2]Ext Clientes'!$1:$1)-1)

Sheet BDados
A1: Aux | B1: Empreendimento | C1: Cod Torre | D1: Unidade | E1: Área Privativa | F1: Valor de Avaliação | G1: Valor Tabela de Vendas | H1: Contrato Enviado? | I1: Cliente | J1: CPF / CNPJ | K1: Data Venda | L1: Valor da Venda | M1: Classificação Manual | N1: Valor Carteira | O1: Contas Recebidas | P1: Recebido Pré-Chaves | Q1: Antecipação Pós-Chaves | R1: Recebido Pós-Chaves | S1: Contas a Receber | T1: A Receber Pré-Chaves | U1: A Receber Chaves | V1: A Receber Pós-Chaves | W1: Dias atraso unidade | X1: Faixa atraso unidade | Y1: Status Unidade | Z1: Faixa Área | AA1: VUV últimas vendas | AB1: Valor de Mercado | AC1: Estilo | AD1: Unidades encontra-se ocupada? | AE1: Valor Para Razão de Garantia | AF1: Garantia | AG1: Garantia | AH1: Data quitação
A2: CDM-T1-21 | B2: CORES DO MAR - TURQUESA | C2: 1 | D2: 21 | E2: 49.54 | F2: 175000 | G2: 0 | H2: sim | I2: KAUANNY FRANCA MARQUES | J2: 504.391.778-47 | K2: 45257 | L2: 191960 | M2: repasse | N2: 204917.4 | O2: 165581.36 | P2: 0 | Q2: 0 | R2: 165581.36 | S2: 39336.04 | T2: 0 | U2: 0 | V2: 39336.04 | W2: 0 | X2: 0 - 30 | Y2: vendido | Z2: 25-50 | AA2: 4065.397 | AB2: 201399.77 | AC2: 2 Dormitórios | AD2: n.d. | AE2: 175000 | AF2: sim | AG2: sim | AH2: =IF(N2="quitado",_xlfn.MAXIFS(OFFSET([1]Carteira!$A:$A,0,MATCH("DATA DA BAIXA",[1]Carteira!$2:$2,0)-1),OFFSET([1]Carteira!$A:$A,0,MATCH("Contrato",[1]Carteira!$2:$2,0)-1),BDados!$I2),"")
A3: CDM-T2-05 | B3: CORES DO MAR - TURQUESA | C3: 2 | D3: 05 | E3: 49.54 | F3: 175000 | G3: 175000 | L3: 0 | M3: estoque (disponível) | N3: 0 | O3: 0 | P3: 0 | Q3: 0 | R3: 0 | S3: 0 | T3: 0 | U3: 0 | V3: 0 | W3: 0 | X3: 0 - 30 | Y3: disponível | Z3: 25-50 | AA3: 4065.397 | AB3: 201399.77 | AC3: 2 Dormitórios | AD3: não | AE3: 175000 | AF3: sim | AG3: sim | AH3: =IF(N3="quitado",_xlfn.MAXIFS(OFFSET([1]Carteira!$A:$A,0,MATCH("DATA DA BAIXA",[1]Carteira!$2:$2,0)-1),OFFSET([1]Carteira!$A:$A,0,MATCH("Contrato",[1]Carteira!$2:$2,0)-1),BDados!$I3),"")
A4: CDM-T2-06 | B4: CORES DO MAR - TURQUESA | C4: 2 | D4: 06 | E4: 49.54 | F4: 175000 | G4: 175000 | L4: 0 | M4: estoque (disponível) | N4: 0 | O4: 0 | P4: 0 | Q4: 0 | R4: 0 | S4: 0 | T4: 0 | U4: 0 | V4: 0 | W4: 0 | X4: 0 - 30 | Y4: disponível | Z4: 25-50 | AA4: 4065.397 | AB4: 201399.77 | AC4: 2 Dormitórios | AD4: não | AE4: 175000 | AF4: sim | AG4: sim | AH4: =IF(N4="quitado",_xlfn.MAXIFS(OFFSET([1]Carteira!$A:$A,0,MATCH("DATA DA BAIXA",[1]Carteira!$2:$2,0)-1),OFFSET([1]Carteira!$A:$A,0,MATCH("Contrato",[1]Carteira!$2:$2,0)-1),BDados!$I4),"")
A5: CDM-T2-13 | B5: CORES DO MAR - TURQUESA | C5: 2 | D5: 13 | E5: 24.15 | F5: 86000 | G5: 0 | H5: não | I5: JUAN GREGORY ISAACS LUCAS DA SILVA | J5: 474.141.988-63 | K5: 44993 | L5: 129900.13 | M5: repasse | N5: 132717.42 | O5: 125844.54 | P5: 0 | Q5: 0 | R5: 125844.54 | S5: 6872.88 | T5: 0 | U5: 0 | V5: 6872.88 | W5: 195 | X5: 180 < | Y5: vendido | Z5: 0-25 | AA5: 4065.397 | AB5: 98179.337 | AC5: 1 Dormitório | AD5: n.d. | AE5: 86000 | AF5: sim | AG5: sim | AH5: =IF(N5="quitado",_xlfn.MAXIFS(OFFSET([1]Carteira!$A:$A,0,MATCH("DATA DA BAIXA",[1]Carteira!$2:$2,0)-1),OFFSET([1]Carteira!$A:$A,0,MATCH("Contrato",[1]Carteira!$2:$2,0)-1),BDados!$I5),"")
A6: CDM-T2-16 | B6: CORES DO MAR - TURQUESA | C6: 2 | D6: 16 | E6: 49.54 | F6: 175000 | G6: 0 | H6: sim | I6: JOYCE DOS SANTOS MARANHÃO | J6: 463.749.688-83 | K6: 45194 | L6: 191960 | M6: repasse | N6: 205767.69 | O6: 165580.98 | P6: 0 | Q6: 0 | R6: 165580.98 | S6: 40186.71 | T6: 0 | U6: 0 | V6: 40186.71 | W6: 0 | X6: 0 - 30 | Y6: vendido | Z6: 25-50 | AA6: 4065.397 | AB6: 201399.77 | AC6: 2 Dormitórios | AD6: n.d. | AE6: 175000 | AF6: sim | AG6: sim | AH6: =IF(N6="quitado",_xlfn.MAXIFS(OFFSET([1]Carteira!$A:$A,0,MATCH("DATA DA BAIXA",[1]Carteira!$2:$2,0)-1),OFFSET([1]Carteira!$A:$A,0,MATCH("Contrato",[1]Carteira!$2:$2,0)-1),BDados!$I6),"")
A7: CDM-T2-36 | B7: CORES DO MAR - TURQUESA | C7: 2 | D7: 36 | E7: 49.54 | F7: 175000 | G7: 0 | H7: sim | I7: WALDIR DOS SANTOS | J7: 053.750.788-48 | K7: 45154 | L7: 188000 | M7: repasse | N7: 201612.88 | O7: 158400 | P7: 0 | Q7: 0 | R7: 158400 | S7: 43212.88 | T7: 0 | U7: 0 | V7: 43212.88 | W7: 315 | X7: 180 < | Y7: vendido | Z7: 25-50 | AA7: 4065.397 | AB7: 201399.77 | AC7: 2 Dormitórios | AD7: n.d. | AE7: 175000 | AF7: sim | AG7: sim | AH7: =IF(N7="quitado",_xlfn.MAXIFS(OFFSET([1]Carteira!$A:$A,0,MATCH("DATA DA BAIXA",[1]Carteira!$2:$2,0)-1),OFFSET([1]Carteira!$A:$A,0,MATCH("Contrato",[1]Carteira!$2:$2,0)-1),BDados!$I7),"")
A8: CDM-T3-02 | B8: CORES DO MAR - TURQUESA | C8: 3 | D8: 02 | E8: 49.54 | F8: 175000 | G8: 175000 | L8: 0 | M8: estoque (disponível) | N8: 0 | O8: 0 | P8: 0 | Q8: 0 | R8: 0 | S8: 0 | T8: 0 | U8: 0 | V8: 0 | W8: 0 | X8: 0 - 30 | Y8: disponível | Z8: 25-50 | AA8: 4065.397 | AB8: 201399.77 | AC8: 2 Dormitórios | AD8: não | AE8: 175000 | AF8: sim | AG8: sim | AH8: =IF(N8="quitado",_xlfn.MAXIFS(OFFSET([1]Carteira!$A:$A,0,MATCH("DATA DA BAIXA",[1]Carteira!$2:$2,0)-1),OFFSET([1]Carteira!$A:$A,0,MATCH("Contrato",[1]Carteira!$2:$2,0)-1),BDados!$I8),"")
A9: CDM-T3-06 | B9: CORES DO MAR - TURQUESA | C9: 3 | D9: 06 | E9: 49.54 | F9: 175000 | G9: 175000 | L9: 0 | M9: estoque (disponível) | N9: 0 | O9: 0 | P9: 0 | Q9: 0 | R9: 0 | S9: 0 | T9: 0 | U9: 0 | V9: 0 | W9: 0 | X9: 0 - 30 | Y9: disponível | Z9: 25-50 | AA9: 4065.397 | AB9: 201399.77 | AC9: 2 Dormitórios | AD9: não | AE9: 175000 | AF9: sim | AG9: sim | AH9: =IF(N9="quitado",_xlfn.MAXIFS(OFFSET([1]Carteira!$A:$A,0,MATCH("DATA DA BAIXA",[1]Carteira!$2:$2,0)-1),OFFSET([1]Carteira!$A:$A,0,MATCH("Contrato",[1]Carteira!$2:$2,0)-1),BDados!$I9),"")
A10: CDM-T3-15 | B10: CORES DO MAR - TURQUESA | C10: 3 | D10: 15 | E10: 49.54 | F10: 175000 | G10: 0 | H10: sim | I10: JHONICLECIO DA SILVA SANTANA | J10: 444.067.918-84 | K10: 45029 | L10: 179900.12 | M10: repasse | N10: 187127.77 | O10: 161174.96 | P10: 0 | Q10: 0 | R10: 161174.96 | S10: 25952.81 | T10: 0 | U10: 0 | V10: 25952.81 | W10: 0 | X10: 0 - 30 | Y10: vendido | Z10: 25-50 | AA10: 4065.397 | AB10: 201399.77 | AC10: 2 Dormitórios | AD10: n.d. | AE10: 175000 | AF10: sim | AG10: sim | AH10: =IF(N10="quitado",_xlfn.MAXIFS(OFFSET([1]Carteira!$A:$A,0,MATCH("DATA DA BAIXA",[1]Carteira!$2:$2,0)-1),OFFSET([1]Carteira!$A:$A,0,MATCH("Contrato",[1]Carteira!$2:$2,0)-1),BDados!$I10),"")
A11: CDM-T4-01 | B11: CORES DO MAR - TURQUESA | C11: 4 | D11: 01 | E11: 49.54 | F11: 175000 | G11: 0 | H11: sim | I11: BRUNO SILVA DOS SANTOS | J11: 481.762.408-69 | K11: 45138 | L11: 179900 | M11: repasse | N11: 183350.47 | O11: 178018.99 | P11: 0 | Q11: 0 | R11: 178018.99 | S11: 5331.48 | T11: 0 | U11: 0 | V11: 5331.48 | W11: 0 | X11: 0 - 30 | Y11: vendido | Z11: 25-50 | AA11: 4065.397 | AB11: 201399.77 | AC11: 2 Dormitórios | AD11: n.d. | AE11: 175000 | AF11: sim | AG11: sim | AH11: =IF(N11="quitado",_xlfn.MAXIFS(OFFSET([1]Carteira!$A:$A,0,MATCH("DATA DA BAIXA",[1]Carteira!$2:$2,0)-1),OFFSET([1]Carteira!$A:$A,0,MATCH("Contrato",[1]Carteira!$2:$2,0)-1),BDados!$I11),"")
A12: CDM-T4-04 | B12: CORES DO MAR - TURQUESA | C12: 4 | D12: 04 | E12: 24.15 | F12: 86000 | G12: 0 | H12: sim | I12: LORRAYNE ROSARIO DE OLIVEIRA | J12: 466.153.818-85 | K12: 44988 | L12: 129900.2 | M12: repasse | N12: 135502.78 | O12: 115942.16 | P12: 0 | Q12: 0 | R12: 115942.16 | S12: 19560.62 | T12: 0 | U12: 0 | V12: 19560.62 | W12: 0 | X12: 0 - 30 | Y12: vendido | Z12: 0-25 | AA12: 4065.397 | AB12: 98179.337 | AC12: 1 Dormitório | AD12: n.d. | AE12: 86000 | AF12: sim | AG12: sim | AH12: =IF(N12="quitado",_xlfn.MAXIFS(OFFSET([1]Carteira!$A:$A,0,MATCH("DATA DA BAIXA",[1]Carteira!$2:$2,0)-1),OFFSET([1]Carteira!$A:$A,0,MATCH("Contrato",[1]Carteira!$2:$2,0)-1),BDados!$I12),"")
A13: CDM-T4-05 | B13: CORES DO MAR - TURQUESA | C13: 4 | D13: 05 | E13: 49.54 | F13: 175000 | G13: 175000 | L13: 0 | M13: estoque (disponível) | N13: 0 | O13: 0 | P13: 0 | Q13: 0 | R13: 0 | S13: 0 | T13: 0 | U13: 0 | V13: 0 | W13: 0 | X13: 0 - 30 | Y13: disponível | Z13: 25-50 | AA13: 4065.397 | AB13: 201399.77 | AC13: 2 Dormitórios | AD13: não | AE13: 175000 | AF13: sim | AG13: sim | AH13: =IF(N13="quitado",_xlfn.MAXIFS(OFFSET([1]Carteira!$A:$A,0,MATCH("DATA DA BAIXA",[1]Carteira!$2:$2,0)-1),OFFSET([1]Carteira!$A:$A,0,MATCH("Contrato",[1]Carteira!$2:$2,0)-1),BDados!$I13),"")
A14: CDM-T4-06 | B14: CORES DO MAR - TURQUESA | C14: 4 | D14: 06 | E14: 49.54 | F14: 175000 | G14: 175000 | L14: 0 | M14: estoque (disponível) | N14: 0 | O14: 0 | P14: 0 | Q14: 0 | R14: 0 | S14: 0 | T14: 0 | U14: 0 | V14: 0 | W14: 0 | X14: 0 - 30 | Y14: disponível | Z14: 25-50 | AA14: 4065.397 | AB14: 201399.77 | AC14: 2 Dormitórios | AD14: não | AE14: 175000 | AF14: sim | AG14: sim | AH14: =IF(N14="quitado",_xlfn.MAXIFS(OFFSET([1]Carteira!$A:$A,0,MATCH("DATA DA BAIXA",[1]Carteira!$2:$2,0)-1),OFFSET([1]Carteira!$A:$A,0,MATCH("Contrato",[1]Carteira!$2:$2,0)-1),BDados!$I14),"")
A15: CDM-T4-12 | B15: CORES DO MAR - TURQUESA | C15: 4 | D15: 12 | E15: 49.54 | F15: 175000 | G15: 0 | H15: sim | I15: LETICIA CRISTINA DOS REIS | J15: 346.260.558-50 | K15: 45180 | L15: 230000 | M15: repasse | N15: 255558.98 | O15: 180567.49 | P15: 0 | Q15: 0 | R15: 180567.49 | S15: 74991.49 | T15: 0 | U15: 0 | V15: 74991.49 | W15: 0 | X15: 0 - 30 | Y15: vendido | Z15: 25-50 | AA15: 4065.397 | AB15: 201399.77 | AC15: 2 Dormitórios | AD15: n.d. | AE15: 175000 | AF15: sim | AG15: sim | AH15: =IF(N15="quitado",_xlfn.MAXIFS(OFFSET([1]Carteira!$A:$A,0,MATCH("DATA DA BAIXA",[1]Carteira!$2:$2,0)-1),OFFSET([1]Carteira!$A:$A,0,MATCH("Contrato",[1]Carteira!$2:$2,0)-1),BDados!$I15),"")
A16: CDM-T4-14 | B16: CORES DO MAR - TURQUESA | C16: 4 | D16: 14 | E16: 24.15 | F16: 86000 | G16: 86000 | L16: 0 | M16: estoque (disponível) | N16: 0 | O16: 0 | P16: 0 | Q16: 0 | R16: 0 | S16: 0 | T16: 0 | U16: 0 | V16: 0 | W16: 0 | X16: 0 - 30 | Y16: disponível | Z16: 0-25 | AA16: 4065.397 | AB16: 98179.337 | AC16: 1 Dormitório | AD16: Indícios ocupação | AE16: 86000 | AF16: sim | AG16: sim | AH16: =IF(N16="quitado",_xlfn.MAXIFS(OFFSET([1]Carteira!$A:$A,0,MATCH("DATA DA BAIXA",[1]Carteira!$2:$2,0)-1),OFFSET([1]Carteira!$A:$A,0,MATCH("Contrato",[1]Carteira!$2:$2,0)-1),BDados!$I16),"")
A17: CDM-T4-16 | B17: CORES DO MAR - TURQUESA | C17: 4 | D17: 16 | E17: 49.54 | F17: 175000 | G17: 0 | H17: não | I17: ONEILTON MUNIZ DA SILVA JUNIOR | J17: 400.222.598-48 | K17: 45376 | L17: 207642 | M17: repasse | N17: 209838.19 | O17: 163578.5 | P17: 0 | Q17: 0 | R17: 163578.5 | S17: 46259.69 | T17: 0 | U17: 0 | V17: 46259.69 | W17: 0 | X17: 0 - 30 | Y17: vendido | Z17: 25-50 | AA17: 4065.397 | AB17: 201399.77 | AC17: 2 Dormitórios | AD17: Indícios ocupação | AE17: 175000 | AF17: não | AG17: não | AH17: =IF(N17="quitado",_xlfn.MAXIFS(OFFSET([1]Carteira!$A:$A,0,MATCH("DATA DA BAIXA",[1]Carteira!$2:$2,0)-1),OFFSET([1]Carteira!$A:$A,0,MATCH("Contrato",[1]Carteira!$2:$2,0)-1),BDados!$I17),"")
A18: CDM-T4-23 | B18: CORES DO MAR - TURQUESA | C18: 4 | D18: 23 | E18: 24.15 | F18: 86000 | G18: 0 | H18: sim | I18: LUKAIAN DELFINO NASCIMENTO SILVA | J18: 432.975.078-37 | K18: 44988 | L18: 129900 | M18: repasse | N18: 131788.64 | O18: 124910.6 | P18: 0 | Q18: 0 | R18: 124910.6 | S18: 6878.04 | T18: 0 | U18: 0 | V18: 6878.04 | W18: 0 | X18: 0 - 30 | Y18: vendido | Z18: 0-25 | AA18: 4065.397 | AB18: 98179.337 | AC18: 1 Dormitório | AD18: n.d. | AE18: 86000 | AF18: sim | AG18: sim | AH18: =IF(N18="quitado",_xlfn.MAXIFS(OFFSET([1]Carteira!$A:$A,0,MATCH("DATA DA BAIXA",[1]Carteira!$2:$2,0)-1),OFFSET([1]Carteira!$A:$A,0,MATCH("Contrato",[1]Carteira!$2:$2,0)-1),BDados!$I18),"")
A19: CDM-T5-01 | B19: CORES DO MAR - TURQUESA | C19: 5 | D19: 01 | E19: 49.54 | F19: 175000 | G19: 175000 | L19: 0 | M19: estoque (disponível) | N19: 0 | O19: 0 | P19: 0 | Q19: 0 | R19: 0 | S19: 0 | T19: 0 | U19: 0 | V19: 0 | W19: 0 | X19: 0 - 30 | Y19: disponível | Z19: 25-50 | AA19: 4065.397 | AB19: 201399.77 | AC19: 2 Dormitórios | AD19: não | AE19: 175000 | AF19: sim | AG19: sim | AH19: =IF(N19="quitado",_xlfn.MAXIFS(OFFSET([1]Carteira!$A:$A,0,MATCH("DATA DA BAIXA",[1]Carteira!$2:$2,0)-1),OFFSET([1]Carteira!$A:$A,0,MATCH("Contrato",[1]Carteira!$2:$2,0)-1),BDados!$I19),"")
A20: CDM-T5-02 | B20: CORES DO MAR - TURQUESA | C20: 5 | D20: 02 | E20: 49.54 | F20: 175000 | G20: 175000 | L20: 0 | M20: estoque (disponível) | N20: 0 | O20: 0 | P20: 0 | Q20: 0 | R20: 0 | S20: 0 | T20: 0 | U20: 0 | V20: 0 | W20: 0 | X20: 0 - 30 | Y20: disponível | Z20: 25-50 | AA20: 4065.397 | AB20: 201399.77 | AC20: 2 Dormitórios | AD20: Sem chaves | AE20: 175000 | AF20: sim | AG20: sim | AH20: =IF(N20="quitado",_xlfn.MAXIFS(OFFSET([1]Carteira!$A:$A,0,MATCH("DATA DA BAIXA",[1]Carteira!$2:$2,0)-1),OFFSET([1]Carteira!$A:$A,0,MATCH("Contrato",[1]Carteira!$2:$2,0)-1),BDados!$I20),"")
A21: CDM-T5-05 | B21: CORES DO MAR - TURQUESA | C21: 5 | D21: 05 | E21: 49.54 | F21: 175000 | G21: 0 | H21: não | I21: BRUNO CHANCHARULO DE BARROS | J21: 389.192.588-30 | K21: 45488 | L21: 194960 | M21: repasse | N21: 195079.27 | O21: 193895.11 | P21: 0 | Q21: 0 | R21: 193895.11 | S21: 1184.16 | T21: 0 | U21: 0 | V21: 1184.16 | W21: 0 | X21: 0 - 30 | Y21: vendido | Z21: 25-50 | AA21: 4065.397 | AB21: 201399.77 | AC21: 2 Dormitórios | AD21: Sem chaves | AE21: 175000 | AF21: sim | AG21: sim | AH21: =IF(N21="quitado",_xlfn.MAXIFS(OFFSET([1]Carteira!$A:$A,0,MATCH("DATA DA BAIXA",[1]Carteira!$2:$2,0)-1),OFFSET([1]Carteira!$A:$A,0,MATCH("Contrato",[1]Carteira!$2:$2,0)-1),BDados!$I21),"")
A22: CDM-T5-06 | B22: CORES DO MAR - TURQUESA | C22: 5 | D22: 06 | E22: 49.54 | F22: 175000 | G22: 175000 | L22: 0 | M22: estoque (disponível) | N22: 0 | O22: 0 | P22: 0 | Q22: 0 | R22: 0 | S22: 0 | T22: 0 | U22: 0 | V22: 0 | W22: 0 | X22: 0 - 30 | Y22: disponível | Z22: 25-50 | AA22: 4065.397 | AB22: 201399.77 | AC22: 2 Dormitórios | AD22: não | AE22: 175000 | AF22: sim | AG22: sim | AH22: =IF(N22="quitado",_xlfn.MAXIFS(OFFSET([1]Carteira!$A:$A,0,MATCH("DATA DA BAIXA",[1]Carteira!$2:$2,0)-1),OFFSET([1]Carteira!$A:$A,0,MATCH("Contrato",[1]Carteira!$2:$2,0)-1),BDados!$I22),"")
A23: CDM-T5-12 | B23: CORES DO MAR - TURQUESA | C23: 5 | D23: 12 | E23: 49.54 | F23: 175000 | G23: 0 | H23: sim | I23: LUANA SANTOS DE OLIVEIRA | J23: 339.718.658-79 | K23: 45028 | L23: 179899.92 | M23: repasse | N23: 182926.6 | O23: 172583.07 | P23: 0 | Q23: 0 | R23: 172583.07 | S23: 10343.53 | T23: 0 | U23: 0 | V23: 10343.53 | W23: 0 | X23: 0 - 30 | Y23: vendido | Z23: 25-50 | AA23: 4065.397 | AB23: 201399.77 | AC23: 2 Dormitórios | AD23: n.d. | AE23: 175000 | AF23: sim | AG23: sim | AH23: =IF(N23="quitado",_xlfn.MAXIFS(OFFSET([1]Carteira!$A:$A,0,MATCH("DATA DA BAIXA",[1]Carteira!$2:$2,0)-1),OFFSET([1]Carteira!$A:$A,0,MATCH("Contrato",[1]Carteira!$2:$2,0)-1),BDados!$I23),"")
A24: O-T1-206 | B24: RESIDENCIAL - OCEANOS | C24: 1 | D24: 206 | E24: 50.96 | F24: 173000 | H24: sim | I24: LUCIO PEDRO DA SILVA | J24: 421.202.558-22 | K24: 45527 | L24: 199900 | M24: quitado | N24: 199900 | O24: 199900 | P24: 0 | Q24: 0 | R24: 199900 | S24: 0 | T24: 0 | U24: 0 | V24: 0 | W24: 0 | X24: 0 - 30 | Y24: vendido | Z24: 50-60 | AA24: 4087.511 | AB24: 208299.56 | AC24: 2 Dormitórios | AD24: Sem chaves | AE24: 173000 | AF24: não | AG24: não | AH24: =IF(N24="quitado",_xlfn.MAXIFS(OFFSET([1]Carteira!$A:$A,0,MATCH("DATA DA BAIXA",[1]Carteira!$2:$2,0)-1),OFFSET([1]Carteira!$A:$A,0,MATCH("Contrato",[1]Carteira!$2:$2,0)-1),BDados!$I24),"")
A25: O-T1-502 | B25: RESIDENCIAL - OCEANOS | C25: 1 | D25: 502 | E25: 52.19 | F25: 173000 | G25: 0 | H25: sim | I25: KATIA MAURICIO DOS SANTOS | J25: 281.433.678-94 | K25: 44988 | L25: 208998 | M25: quitado | N25: 208998 | O25: 208998 | P25: 0 | Q25: 0 | R25: 208998 | S25: 0 | T25: 0 | U25: 0 | V25: 0 | W25: 0 | X25: 0 - 30 | Y25: vendido | Z25: 50-60 | AA25: 4087.511 | AB25: 213327.2 | AC25: 2 Dormitórios | AD25: n.d. | AE25: 173000 | AF25: sim | AG25: sim | AH25: =IF(N25="quitado",_xlfn.MAXIFS(OFFSET([1]Carteira!$A:$A,0,MATCH("DATA DA BAIXA",[1]Carteira!$2:$2,0)-1),OFFSET([1]Carteira!$A:$A,0,MATCH("Contrato",[1]Carteira!$2:$2,0)-1),BDados!$I25),"")
A26: O-T1-506 | B26: RESIDENCIAL - OCEANOS | C26: 1 | D26: 506 | E26: 50.96 | F26: 180000 | G26: 180000 | L26: 0 | M26: estoque (disponível) | N26: 0 | O26: 0 | P26: 0 | Q26: 0 | R26: 0 | S26: 0 | T26: 0 | U26: 0 | V26: 0 | W26: 0 | X26: 0 - 30 | Y26: disponível | Z26: 50-60 | AA26: 4087.511 | AB26: 208299.56 | AC26: 2 Dormitórios | AD26: não | AE26: 180000 | AF26: sim | AG26: sim | AH26: =IF(N26="quitado",_xlfn.MAXIFS(OFFSET([1]Carteira!$A:$A,0,MATCH("DATA DA BAIXA",[1]Carteira!$2:$2,0)-1),OFFSET([1]Carteira!$A:$A,0,MATCH("Contrato",[1]Carteira!$2:$2,0)-1),BDados!$I26),"")
A27: O-T1-603 | B27: RESIDENCIAL - OCEANOS | C27: 1 | D27: 603 | E27: 52.19 | F27: 184000 | G27: 0 | H27: sim | I27: ANA KARLA DE LIMA PAIVA | J27: 015.688.622-70 | K27: 45105 | L27: 229519.55 | M27: quitado | N27: 229519.55 | O27: 229519.55 | P27: 0 | Q27: 0 | R27: 229519.55 | S27: 0 | T27: 0 | U27: 0 | V27: 0 | W27: 0 | X27: 0 - 30 | Y27: vendido | Z27: 50-60 | AA27: 4087.511 | AB27: 213327.2 | AC27: 2 Dormitórios | AD27: n.d. | AE27: 184000 | AF27: sim | AG27: sim | AH27: =IF(N27="quitado",_xlfn.MAXIFS(OFFSET([1]Carteira!$A:$A,0,MATCH("DATA DA BAIXA",[1]Carteira!$2:$2,0)-1),OFFSET([1]Carteira!$A:$A,0,MATCH("Contrato",[1]Carteira!$2:$2,0)-1),BDados!$I27),"")
A28: O-T1-605 | B28: RESIDENCIAL - OCEANOS | C28: 1 | D28: 605 | E28: 52.19 | F28: 184000 | G28: 0 | H28: sim | I28: EDIVALDO NUNES DOS SANTOS | J28: 197.478.228-06 | K28: 45239 | L28: 243201.28 | M28: repasse | N28: 263173.38 | O28: 204923.96 | P28: 0 | Q28: 0 | R28: 204923.96 | S28: 58249.42 | T28: 0 | U28: 0 | V28: 58249.42 | W28: 0 | X28: 0 - 30 | Y28: vendido | Z28: 50-60 | AA28: 4087.511 | AB28: 213327.2 | AC28: 2 Dormitórios | AD28: n.d. | AE28: 184000 | AF28: sim | AG28: sim | AH28: =IF(N28="quitado",_xlfn.MAXIFS(OFFSET([1]Carteira!$A:$A,0,MATCH("DATA DA BAIXA",[1]Carteira!$2:$2,0)-1),OFFSET([1]Carteira!$A:$A,0,MATCH("Contrato",[1]Carteira!$2:$2,0)-1),BDados!$I28),"")
A29: O-T1-606 | B29: RESIDENCIAL - OCEANOS | C29: 1 | D29: 606 | E29: 50.96 | F29: 180000 | G29: 0 | H29: sim | I29: JOSE JOSUE DA SILVA JUNIOR | J29: 501.852.978-46 | K29: 45512 | L29: 211200 | M29: quitado | N29: 211200 | O29: 211200 | P29: 0 | Q29: 0 | R29: 211200 | S29: 0 | T29: 0 | U29: 0 | V29: 0 | W29: 0 | X29: 0 - 30 | Y29: vendido | Z29: 50-60 | AA29: 4087.511 | AB29: 208299.56 | AC29: 2 Dormitórios | AD29: Sem chaves | AE29: 180000 | AF29: sim | AG29: sim | AH29: =IF(N29="quitado",_xlfn.MAXIFS(OFFSET([1]Carteira!$A:$A,0,MATCH("DATA DA BAIXA",[1]Carteira!$2:$2,0)-1),OFFSET([1]Carteira!$A:$A,0,MATCH("Contrato",[1]Carteira!$2:$2,0)-1),BDados!$I29),"")
A30: O-T1-702 | B30: RESIDENCIAL - OCEANOS | C30: 1 | D30: 702 | E30: 52.19 | F30: 187000 | G30: 0 | H30: sim | I30: VINICIUS RODRIGUES DE SANTANA | J30: 082.785.586-98 | K30: 45052 | L30: 231837.93 | M30: repasse | N30: 235957.53 | O30: 217989.84 | P30: 0 | Q30: 0 | R30: 217989.84 | S30: 17967.69 | T30: 0 | U30: 0 | V30: 17967.69 | W30: 175 | X30: 121 - 180 | Y30: vendido | Z30: 50-60 | AA30: 4087.511 | AB30: 213327.2 | AC30: 2 Dormitórios | AD30: n.d. | AE30: 187000 | AF30: sim | AG30: sim | AH30: =IF(N30="quitado",_xlfn.MAXIFS(OFFSET([1]Carteira!$A:$A,0,MATCH("DATA DA BAIXA",[1]Carteira!$2:$2,0)-1),OFFSET([1]Carteira!$A:$A,0,MATCH("Contrato",[1]Carteira!$2:$2,0)-1),BDados!$I30),"")
A31: O-T1-706 | B31: RESIDENCIAL - OCEANOS | C31: 1 | D31: 706 | E31: 50.96 | F31: 183000 | G31: 183000 | L31: 0 | M31: estoque (disponível) | N31: 0 | O31: 0 | P31: 0 | Q31: 0 | R31: 0 | S31: 0 | T31: 0 | U31: 0 | V31: 0 | W31: 0 | X31: 0 - 30 | Y31: disponível | Z31: 50-60 | AA31: 4087.511 | AB31: 208299.56 | AC31: 2 Dormitórios | AD31: não | AE31: 183000 | AF31: sim | AG31: sim | AH31: =IF(N31="quitado",_xlfn.MAXIFS(OFFSET([1]Carteira!$A:$A,0,MATCH("DATA DA BAIXA",[1]Carteira!$2:$2,0)-1),OFFSET([1]Carteira!$A:$A,0,MATCH("Contrato",[1]Carteira!$2:$2,0)-1),BDados!$I31),"")
A32: O-T2-305 | B32: RESIDENCIAL - OCEANOS | C32: 2 | D32: 305 | E32: 52.19 | F32: 180000 | G32: 0 | H32: sim | I32: ADEMILSON DE JESUS SANTOS | J32: 018.226.445-93 | K32: 45065 | L32: 180000 | M32: quitado | N32: 180000 | O32: 180000 | P32: 0 | Q32: 0 | R32: 180000 | S32: 0 | T32: 0 | U32: 0 | V32: 0 | W32: 0 | X32: 0 - 30 | Y32: vendido | Z32: 50-60 | AA32: 4087.511 | AB32: 213327.2 | AC32: 2 Dormitórios | AD32: n.d. | AE32: 180000 | AF32: sim | AG32: sim | AH32: =IF(N32="quitado",_xlfn.MAXIFS(OFFSET([1]Carteira!$A:$A,0,MATCH("DATA DA BAIXA",[1]Carteira!$2:$2,0)-1),OFFSET([1]Carteira!$A:$A,0,MATCH("Contrato",[1]Carteira!$2:$2,0)-1),BDados!$I32),"")
A33: O-T2-306 | B33: RESIDENCIAL - OCEANOS | C33: 2 | D33: 306 | E33: 50.96 | F33: 176000 | G33: 0 | H33: não | I33: IGOR MOTA DA SILVA | J33: 467.582.358-07 | K33: 45223 | L33: 231620.9 | M33: repasse | N33: 258600.51 | O33: 175439.53 | P33: 0 | Q33: 0 | R33: 175439.53 | S33: 83160.98 | T33: 0 | U33: 0 | V33: 83160.98 | W33: 224 | X33: 180 < | Y33: vendido | Z33: 50-60 | AA33: 4087.511 | AB33: 208299.56 | AC33: 2 Dormitórios | AD33: n.d. | AE33: 176000 | AF33: sim | AG33: sim | AH33: =IF(N33="quitado",_xlfn.MAXIFS(OFFSET([1]Carteira!$A:$A,0,MATCH("DATA DA BAIXA",[1]Carteira!$2:$2,0)-1),OFFSET([1]Carteira!$A:$A,0,MATCH("Contrato",[1]Carteira!$2:$2,0)-1),BDados!$I33),"")
A34: O-T2-406 | B34: RESIDENCIAL - OCEANOS | C34: 2 | D34: 406 | E34: 50.96 | F34: 176000 | G34: 0 | H34: não | I34: GEISON LUIZ DIAS DE OLIVEIRA | J34: 312.023.428-17 | K34: 45237 | L34: 234477.4 | M34: repasse | N34: 250480.06 | O34: 204524.24 | P34: 0 | Q34: 0 | R34: 204524.24 | S34: 45955.82 | T34: 0 | U34: 0 | V34: 45955.82 | W34: 0 | X34: 0 - 30 | Y34: vendido | Z34: 50-60 | AA34: 4087.511 | AB34: 208299.56 | AC34: 2 Dormitórios | AD34: n.d. | AE34: 176000 | AF34: sim | AG34: sim | AH34: =IF(N34="quitado",_xlfn.MAXIFS(OFFSET([1]Carteira!$A:$A,0,MATCH("DATA DA BAIXA",[1]Carteira!$2:$2,0)-1),OFFSET([1]Carteira!$A:$A,0,MATCH("Contrato",[1]Carteira!$2:$2,0)-1),BDados!$I34),"")
A35: O-T2-501 | B35: RESIDENCIAL - OCEANOS | C35: 2 | D35: 501 | E35: 52.19 | F35: 184000 | G35: 0 | H35: sim | I35: ADRIELLY CLAYRA PEREIRA JANUARIO | J35: 408.072.418-73 | K35: 45138 | L35: 227224.2 | M35: repasse | N35: 253603.26 | O35: 176938.81 | P35: 0 | Q35: 0 | R35: 176938.81 | S35: 76664.45 | T35: 0 | U35: 0 | V35: 76664.45 | W35: 301 | X35: 180 < | Y35: vendido | Z35: 50-60 | AA35: 4087.511 | AB35: 213327.2 | AC35: 2 Dormitórios | AD35: n.d. | AE35: 184000 | AF35: sim | AG35: sim | AH35: =IF(N35="quitado",_xlfn.MAXIFS(OFFSET([1]Carteira!$A:$A,0,MATCH("DATA DA BAIXA",[1]Carteira!$2:$2,0)-1),OFFSET([1]Carteira!$A:$A,0,MATCH("Contrato",[1]Carteira!$2:$2,0)-1),BDados!$I35),"")
A36: O-T2-502 | B36: RESIDENCIAL - OCEANOS | C36: 2 | D36: 502 | E36: 52.19 | F36: 184000 | G36: 0 | H36: sim | I36: ANDERSON DUTRA PEREIRA | J36: 269.768.008-08 | K36: 45119 | L36: 227224.2 | M36: repasse | N36: 245534.43 | O36: 189457.29 | P36: 0 | Q36: 0 | R36: 189457.29 | S36: 56077.14 | T36: 0 | U36: 0 | V36: 56077.14 | W36: 0 | X36: 0 - 30 | Y36: vendido | Z36: 50-60 | AA36: 4087.511 | AB36: 213327.2 | AC36: 2 Dormitórios | AD36: n.d. | AE36: 184000 | AF36: sim | AG36: sim | AH36: =IF(N36="quitado",_xlfn.MAXIFS(OFFSET([1]Carteira!$A:$A,0,MATCH("DATA DA BAIXA",[1]Carteira!$2:$2,0)-1),OFFSET([1]Carteira!$A:$A,0,MATCH("Contrato",[1]Carteira!$2:$2,0)-1),BDados!$I36),"")
A37: O-T2-504 | B37: RESIDENCIAL - OCEANOS | C37: 2 | D37: 504 | E37: 52.19 | F37: 184000 | G37: 0 | H37: sim | I37: MARCIO ROBERTO DA SILVA MENDES | J37: 296.208.948-80 | K37: 45135 | L37: 231768.48 | M37: repasse | N37: 238699.69 | O37: 218511.05 | P37: 0 | Q37: 0 | R37: 218511.05 | S37: 20188.64 | T37: 0 | U37: 0 | V37: 20188.64 | W37: 0 | X37: 0 - 30 | Y37: vendido | Z37: 50-60 | AA37: 4087.511 | AB37: 213327.2 | AC37: 2 Dormitórios | AD37: n.d. | AE37: 184000 | AF37: sim | AG37: sim | AH37: =IF(N37="quitado",_xlfn.MAXIFS(OFFSET([1]Carteira!$A:$A,0,MATCH("DATA DA BAIXA",[1]Carteira!$2:$2,0)-1),OFFSET([1]Carteira!$A:$A,0,MATCH("Contrato",[1]Carteira!$2:$2,0)-1),BDados!$I37),"")
A38: O-T2-506 | B38: RESIDENCIAL - OCEANOS | C38: 2 | D38: 506 | E38: 50.96 | F38: 180000 | G38: 0 | H38: sim | I38: ADRIANE CARLA DA SILVA SANTOS | J38: 430.156.838-70 | K38: 45551 | L38: 203860 | M38: repasse | N38: 204178 | O38: 160071.15 | P38: 0 | Q38: 0 | R38: 160071.15 | S38: 44106.85 | T38: 0 | U38: 0 | V38: 44106.85 | W38: 0 | X38: 0 - 30 | Y38: vendido | Z38: 50-60 | AA38: 4087.511 | AB38: 208299.56 | AC38: 2 Dormitórios | AD38: Sem chaves | AE38: 180000 | AF38: não | AG38: não | AH38: =IF(N38="quitado",_xlfn.MAXIFS(OFFSET([1]Carteira!$A:$A,0,MATCH("DATA DA BAIXA",[1]Carteira!$2:$2,0)-1),OFFSET([1]Carteira!$A:$A,0,MATCH("Contrato",[1]Carteira!$2:$2,0)-1),BDados!$I38),"")
A39: O-T2-601 | B39: RESIDENCIAL - OCEANOS | C39: 2 | D39: 601 | E39: 52.19 | F39: 184000 | G39: 0 | H39: sim | I39: ROGERIO SOARES DINIZ GOMES | J39: 408.600.428-39 | K39: 45184 | L39: 240528.4 | M39: repasse | N39: 274393.07 | O39: 189397.99 | P39: 0 | Q39: 0 | R39: 189397.99 | S39: 84995.08 | T39: 0 | U39: 0 | V39: 84995.08 | W39: 0 | X39: 0 - 30 | Y39: vendido | Z39: 50-60 | AA39: 4087.511 | AB39: 213327.2 | AC39: 2 Dormitórios | AD39: n.d. | AE39: 184000 | AF39: sim | AG39: sim | AH39: =IF(N39="quitado",_xlfn.MAXIFS(OFFSET([1]Carteira!$A:$A,0,MATCH("DATA DA BAIXA",[1]Carteira!$2:$2,0)-1),OFFSET([1]Carteira!$A:$A,0,MATCH("Contrato",[1]Carteira!$2:$2,0)-1),BDados!$I39),"")
A40: O-T2-602 | B40: RESIDENCIAL - OCEANOS | C40: 2 | D40: 602 | E40: 52.19 | F40: 184000 | G40: 0 | H40: não | I40: ROSA MARIA LEMOS LOPES | J40: 038.476.358-83 | K40: 45229 | L40: 243743.55 | M40: repasse | N40: 259212.44 | O40: 214456.94 | P40: 0 | Q40: 0 | R40: 214456.94 | S40: 44755.5 | T40: 0 | U40: 0 | V40: 44755.5 | W40: 0 | X40: 0 - 30 | Y40: vendido | Z40: 50-60 | AA40: 4087.511 | AB40: 213327.2 | AC40: 2 Dormitórios | AD40: n.d. | AE40: 184000 | AF40: sim | AG40: sim | AH40: =IF(N40="quitado",_xlfn.MAXIFS(OFFSET([1]Carteira!$A:$A,0,MATCH("DATA DA BAIXA",[1]Carteira!$2:$2,0)-1),OFFSET([1]Carteira!$A:$A,0,MATCH("Contrato",[1]Carteira!$2:$2,0)-1),BDados!$I40),"")
A41: O-T2-603 | B41: RESIDENCIAL - OCEANOS | C41: 2 | D41: 603 | E41: 52.19 | F41: 184000 | G41: 0 | H41: sim | I41: MARIANA MUNIZ ROSSI | J41: 414.042.278-57 | K41: 45163 | L41: 243742.98 | M41: repasse | N41: 257357.15 | O41: 219150.11 | P41: 0 | Q41: 0 | R41: 219150.11 | S41: 38207.04 | T41: 0 | U41: 0 | V41: 38207.04 | W41: 0 | X41: 0 - 30 | Y41: vendido | Z41: 50-60 | AA41: 4087.511 | AB41: 213327.2 | AC41: 2 Dormitórios | AD41: n.d. | AE41: 184000 | AF41: sim | AG41: sim | AH41: =IF(N41="quitado",_xlfn.MAXIFS(OFFSET([1]Carteira!$A:$A,0,MATCH("DATA DA BAIXA",[1]Carteira!$2:$2,0)-1),OFFSET([1]Carteira!$A:$A,0,MATCH("Contrato",[1]Carteira!$2:$2,0)-1),BDados!$I41),"")
A42: O-T2-604 | B42: RESIDENCIAL - OCEANOS | C42: 2 | D42: 604 | E42: 52.19 | F42: 184000 | G42: 0 | H42: sim | I42: LETICIA SANTOS DA SILVA | J42: 400.480.168-02 | K42: 45107 | L42: 229519.55 | M42: repasse | N42: 234486.86 | O42: 218010.44 | P42: 0 | Q42: 0 | R42: 218010.44 | S42: 16476.42 | T42: 0 | U42: 0 | V42: 16476.42 | W42: 0 | X42: 0 - 30 | Y42: vendido | Z42: 50-60 | AA42: 4087.511 | AB42: 213327.2 | AC42: 2 Dormitórios | AD42: n.d. | AE42: 184000 | AF42: sim | AG42: sim | AH42: =IF(N42="quitado",_xlfn.MAXIFS(OFFSET([1]Carteira!$A:$A,0,MATCH("DATA DA BAIXA",[1]Carteira!$2:$2,0)-1),OFFSET([1]Carteira!$A:$A,0,MATCH("Contrato",[1]Carteira!$2:$2,0)-1),BDados!$I42),"")
A43: O-T2-605 | B43: RESIDENCIAL - OCEANOS | C43: 2 | D43: 605 | E43: 52.19 | F43: 184000 | G43: 0 | H43: sim | I43: ERIC RAFAEL DA SILVA ARAUJO | J43: 412.978.998-81 | K43: 45216 | L43: 242974.85 | M43: repasse | N43: 264073.65 | O43: 206162.69 | P43: 0 | Q43: 0 | R43: 206162.69 | S43: 57910.96 | T43: 0 | U43: 0 | V43: 57910.96 | W43: 0 | X43: 0 - 30 | Y43: vendido | Z43: 50-60 | AA43: 4087.511 | AB43: 213327.2 | AC43: 2 Dormitórios | AD43: n.d. | AE43: 184000 | AF43: sim | AG43: sim | AH43: =IF(N43="quitado",_xlfn.MAXIFS(OFFSET([1]Carteira!$A:$A,0,MATCH("DATA DA BAIXA",[1]Carteira!$2:$2,0)-1),OFFSET([1]Carteira!$A:$A,0,MATCH("Contrato",[1]Carteira!$2:$2,0)-1),BDados!$I43),"")
... A51: O-T3-301 | B51: RESIDENCIAL - OCEANOS | C51: 3 | D51: 301 | E51: 52.19 | F51: 180000 | G51: 0 | H51: sim | I51: KLEBER JORGE SILVA CASTRO | J51: 343.643.548-13 | K51: 44988 | L51: 198798.04 | M51: repasse | N51: 202841.96 | O51: 185589.96 | P51: 0 | Q51: 0 | R51: 185589.96 | S51: 17252 | T51: 0 | U51: 0 | V51: 17252 | W51: 365 | X51: 180 < | Y51: vendido | Z51: 50-60 | AA51: 4087.511 | AB51: 213327.2 | AC51: 2 Dormitórios | AD51: n.d. | AE51: 180000 | AF51: sim | AG51: sim | AH51: =IF(N51="quitado",_xlfn.MAXIFS(OFFSET([1]Carteira!$A:$A,0,MATCH("DATA DA BAIXA",[1]Carteira!$2:$2,0)-1),OFFSET([1]Carteira!$A:$A,0,MATCH("Contrato",[1]Carteira!$2:$2,0)-1),BDados!$I51),"")
A52: O-T3-304 | B52: RESIDENCIAL - OCEANOS | C52: 3 | D52: 304 | E52: 52.19 | F52: 180000 | G52: 0 | H52: sim | I52: ELIAS TAVARES DUARTE VALENTE | J52: 246.682.338-11 | K52: 44861 | M52: repasse | N52: 205698.11 | O52: 187564.64 | P52: 0 | Q52: 0 | R52: 187564.64 | S52: 18133.47 | T52: 0 | U52: 0 | V52: 18133.47 | W52: 0 | X52: 0 - 30 | Y52: vendido | Z52: 50-60 | AA52: 4087.511 | AB52: 213327.2 | AC52: 2 Dormitórios | AD52: n.d. | AE52: 180000 | AF52: sim | AG52: sim | AH52: =IF(N52="quitado",_xlfn.MAXIFS(OFFSET([1]Carteira!$A:$A,0,MATCH("DATA DA BAIXA",[1]Carteira!$2:$2,0)-1),OFFSET([1]Carteira!$A:$A,0,MATCH("Contrato",[1]Carteira!$2:$2,0)-1),BDados!$I52),"")
A53: O-T3-305 | B53: RESIDENCIAL - OCEANOS | C53: 3 | D53: 305 | E53: 52.19 | F53: 180000 | G53: 0 | H53: sim | I53: MANOEL DA CUNHA DOS REIS | J53: 490.273.102-97 | K53: 45065 | L53: 180000 | M53: quitado | N53: 180000 | O53: 180000 | P53: 0 | Q53: 0 | R53: 180000 | S53: 0 | T53: 0 | U53: 0 | V53: 0 | W53: 0 | X53: 0 - 30 | Y53: vendido | Z53: 50-60 | AA53: 4087.511 | AB53: 213327.2 | AC53: 2 Dormitórios | AD53: n.d. | AE53: 180000 | AF53: sim | AG53: sim | AH53: =IF(N53="quitado",_xlfn.MAXIFS(OFFSET([1]Carteira!$A:$A,0,MATCH("DATA DA BAIXA",[1]Carteira!$2:$2,0)-1),OFFSET([1]Carteira!$A:$A,0,MATCH("Contrato",[1]Carteira!$2:$2,0)-1),BDados!$I53),"")
A54: O-T3-306 | B54: RESIDENCIAL - OCEANOS | C54: 3 | D54: 306 | E54: 50.96 | F54: 176000 | G54: 0 | H54: não | I54: MARCELLI LUIZE DE FREITAS | J54: 502.954.108-09 | K54: 45229 | M54: repasse | N54: 250609.96 | O54: 201157.35 | P54: 0 | Q54: 0 | R54: 201157.35 | S54: 49452.61 | T54: 0 | U54: 0 | V54: 49452.61 | W54: 0 | X54: 0 - 30 | Y54: vendido | Z54: 50-60 | AA54: 4087.511 | AB54: 208299.56 | AC54: 2 Dormitórios | AD54: n.d. | AE54: 176000 | AF54: sim | AG54: sim | AH54: =IF(N54="quitado",_xlfn.MAXIFS(OFFSET([1]Carteira!$A:$A,0,MATCH("DATA DA BAIXA",[1]Carteira!$2:$2,0)-1),OFFSET([1]Carteira!$A:$A,0,MATCH("Contrato",[1]Carteira!$2:$2,0)-1),BDados!$I54),"")
A55: O-T3-405 | B55: RESIDENCIAL - OCEANOS | C55: 3 | D55: 405 | E55: 52.19 | F55: 180000 | G55: 0 | H55: sim | I55: RAFAEL FERREIRA DA SILVA | J55: 373.354.268-12 | K55: 45065 | L55: 180000 | M55: quitado | N55: 180000 | O55: 180000 | P55: 0 | Q55: 0 | R55: 180000 | S55: 0 | T55: 0 | U55: 0 | V55: 0 | W55: 0 | X55: 0 - 30 | Y55: vendido | Z55: 50-60 | AA55: 4087.511 | AB55: 213327.2 | AC55: 2 Dormitórios | AD55: n.d. | AE55: 180000 | AF55: sim | AG55: sim | AH55: =IF(N55="quitado",_xlfn.MAXIFS(OFFSET([1]Carteira!$A:$A,0,MATCH("DATA DA BAIXA",[1]Carteira!$2:$2,0)-1),OFFSET([1]Carteira!$A:$A,0,MATCH("Contrato",[1]Carteira!$2:$2,0)-1),BDados!$I55),"")
A56: O-T3-406 | B56: RESIDENCIAL - OCEANOS | C56: 3 | D56: 406 | E56: 50.96 | F56: 176000 | G56: 0 | H56: não | I56: ANA PAULA DA SILVA RODRIGUES | J56: 323.765.548-10 | K56: 45574 | L56: 199900 | M56: repasse | N56: 199900 | O56: 730.16 | P56: 0 | Q56: 0 | R56: 730.16 | S56: 199169.84 | T56: 0 | U56: 0 | V56: 199169.84 | W56: 0 | X56: 0 - 30 | Y56: vendido | Z56: 50-60 | AA56: 4087.511 | AB56: 208299.56 | AC56: 2 Dormitórios | AD56: não | AE56: 176000 | AF56: sim | AG56: sim | AH56: =IF(N56="quitado",_xlfn.MAXIFS(OFFSET([1]Carteira!$A:$A,0,MATCH("DATA DA BAIXA",[1]Carteira!$2:$2,0)-1),OFFSET([1]Carteira!$A:$A,0,MATCH("Contrato",[1]Carteira!$2:$2,0)-1),BDados!$I56),"")
A57: O-T3-501 | B57: RESIDENCIAL - OCEANOS | C57: 3 | D57: 501 | E57: 52.19 | F57: 184000 | G57: 0 | H57: sim | I57: MARIA JOSILENE DE JESUS NOGUEIRA | J57: 585.227.005-91 | K57: 45065 | L57: 180000 | M57: quitado | N57: 180000 | O57: 180000 | P57: 0 | Q57: 0 | R57: 180000 | S57: 0 | T57: 0 | U57: 0 | V57: 0 | W57: 0 | X57: 0 - 30 | Y57: vendido | Z57: 50-60 | AA57: 4087.511 | AB57: 213327.2 | AC57: 2 Dormitórios | AD57: n.d. | AE57: 184000 | AF57: sim | AG57: sim | AH57: =IF(N57="quitado",_xlfn.MAXIFS(OFFSET([1]Carteira!$A:$A,0,MATCH("DATA DA BAIXA",[1]Carteira!$2:$2,0)-1),OFFSET([1]Carteira!$A:$A,0,MATCH("Contrato",[1]Carteira!$2:$2,0)-1),BDados!$I57),"")
A58: O-T3-502 | B58: RESIDENCIAL - OCEANOS | C58: 3 | D58: 502 | E58: 52.19 | F58: 184000 | G58: 0 | H58: sim | I58: JOSE CARLOS VIEIRA DA SILVA | J58: 345.351.638-98 | K58: 45065 | L58: 180000 | M58: quitado | N58: 180000 | O58: 180000 | P58: 0 | Q58: 0 | R58: 180000 | S58: 0 | T58: 0 | U58: 0 | V58: 0 | W58: 0 | X58: 0 - 30 | Y58: vendido | Z58: 50-60 | AA58: 4087.511 | AB58: 213327.2 | AC58: 2 Dormitórios | AD58: n.d. | AE58: 184000 | AF58: sim | AG58: sim | AH58: =IF(N58="quitado",_xlfn.MAXIFS(OFFSET([1]Carteira!$A:$A,0,MATCH("DATA DA BAIXA",[1]Carteira!$2:$2,0)-1),OFFSET([1]Carteira!$A:$A,0,MATCH("Contrato",[1]Carteira!$2:$2,0)-1),BDados!$I58),"")
A59: O-T3-504 | B59: RESIDENCIAL - OCEANOS | C59: 3 | D59: 504 | E59: 52.19 | F59: 184000 | G59: 0 | H59: sim | I59: MICHELE EVELYN GADELHA LOPES | J59: 360.453.878-56 | K59: 45152 | L59: 230724.4 | M59: repasse | N59: 249787.8 | O59: 196689.37 | P59: 0 | Q59: 0 | R59: 196689.37 | S59: 53098.43 | T59: 0 | U59: 0 | V59: 53098.43 | W59: 0 | X59: 0 - 30 | Y59: vendido | Z59: 50-60 | AA59: 4087.511 | AB59: 213327.2 | AC59: 2 Dormitórios | AD59: n.d. | AE59: 184000 | AF59: sim | AG59: sim | AH59: =IF(N59="quitado",_xlfn.MAXIFS(OFFSET([1]Carteira!$A:$A,0,MATCH("DATA DA BAIXA",[1]Carteira!$2:$2,0)-1),OFFSET([1]Carteira!$A:$A,0,MATCH("Contrato",[1]Carteira!$2:$2,0)-1),BDados!$I59),"")
A60: O-T3-505 | B60: RESIDENCIAL - OCEANOS | C60: 3 | D60: 505 | E60: 52.19 | F60: 184000 | G60: 0 | H60: sim | I60: ANA CAROLINA SANTOS DO NASCIMENTO | J60: 366.074.488-36 | K60: 45138 | L60: 231768.2 | M60: repasse | N60: 247175.13 | O60: 201919.11 | P60: 0 | Q60: 0 | R60: 201919.11 | S60: 45256.02 | T60: 0 | U60: 0 | V60: 45256.02 | W60: 52 | X60: 31 - 90 | Y60: vendido | Z60: 50-60 | AA60: 4087.511 | AB60: 213327.2 | AC60: 2 Dormitórios | AD60: n.d. | AE60: 184000 | AF60: sim | AG60: sim | AH60: =IF(N60="quitado",_xlfn.MAXIFS(OFFSET([1]Carteira!$A:$A,0,MATCH("DATA DA BAIXA",[1]Carteira!$2:$2,0)-1),OFFSET([1]Carteira!$A:$A,0,MATCH("Contrato",[1]Carteira!$2:$2,0)-1),BDados!$I60),"")
A61: O-T3-506 | B61: RESIDENCIAL - OCEANOS | C61: 3 | D61: 506 | E61: 50.96 | F61: 180000 | G61: 0 | H61: não | I61: HENRIQUE OLIVEIRA DE MORAES | J61: 422.784.468-19 | K61: 45581 | L61: 199900 | M61: repasse | N61: 199900 | O61: 0 | P61: 0 | Q61: 0 | R61: 0 | S61: 199900 | T61: 0 | U61: 0 | V61: 199900 | W61: 0 | X61: 0 - 30 | Y61: vendido | Z61: 50-60 | AA61: 4087.511 | AB61: 208299.56 | AC61: 2 Dormitórios | AD61: não | AE61: 180000 | AF61: sim | AG61: sim | AH61: =IF(N61="quitado",_xlfn.MAXIFS(OFFSET([1]Carteira!$A:$A,0,MATCH("DATA DA BAIXA",[1]Carteira!$2:$2,0)-1),OFFSET([1]Carteira!$A:$A,0,MATCH("Contrato",[1]Carteira!$2:$2,0)-1),BDados!$I61),"")
A62: O-T3-601 | B62: RESIDENCIAL - OCEANOS | C62: 3 | D62: 601 | E62: 52.19 | F62: 184000 | G62: 0 | H62: sim | I62: MICHAEL MATHEUS RODRIGUES MOTA | J62: 442.043.128-88 | K62: 45462 | L62: 225280.01 | M62: repasse | N62: 225559.94 | O62: 221742.56 | P62: 0 | Q62: 0 | R62: 221742.56 | S62: 3817.38 | T62: 0 | U62: 0 | V62: 3817.38 | W62: 0 | X62: 0 - 30 | Y62: vendido | Z62: 50-60 | AA62: 4087.511 | AB62: 213327.2 | AC62: 2 Dormitórios | AD62: Sem chaves | AE62: 184000 | AF62: sim | AG62: sim | AH62: =IF(N62="quitado",_xlfn.MAXIFS(OFFSET([1]Carteira!$A:$A,0,MATCH("DATA DA BAIXA",[1]Carteira!$2:$2,0)-1),OFFSET([1]Carteira!$A:$A,0,MATCH("Contrato",[1]Carteira!$2:$2,0)-1),BDados!$I62),"")
A63: O-T3-602 | B63: RESIDENCIAL - OCEANOS | C63: 3 | D63: 602 | E63: 52.19 | F63: 184000 | G63: 0 | H63: sim | I63: GABRIEL DOS SANTOS DIAS | J63: 394.567.508-17 | K63: 45222 | M63: repasse | N63: 265031.94 | O63: 206878.47 | P63: 0 | Q63: 0 | R63: 206878.47 | S63: 58153.47 | T63: 0 | U63: 0 | V63: 58153.47 | W63: 0 | X63: 0 - 30 | Y63: vendido | Z63: 50-60 | AA63: 4087.511 | AB63: 213327.2 | AC63: 2 Dormitórios | AD63: n.d. | AE63: 184000 | AF63: sim | AG63: sim | AH63: =IF(N63="quitado",_xlfn.MAXIFS(OFFSET([1]Carteira!$A:$A,0,MATCH("DATA DA BAIXA",[1]Carteira!$2:$2,0)-1),OFFSET([1]Carteira!$A:$A,0,MATCH("Contrato",[1]Carteira!$2:$2,0)-1),BDados!$I63),"")
A64: O-T3-603 | B64: RESIDENCIAL - OCEANOS | C64: 3 | D64: 603 | E64: 52.19 | F64: 184000 | G64: 0 | H64: sim | I64: MARCIO DOS SANTOS | J64: 279.668.128-98 | K64: 45065 | L64: 180000 | M64: quitado | N64: 180000 | O64: 180000 | P64: 0 | Q64: 0 | R64: 180000 | S64: 0 | T64: 0 | U64: 0 | V64: 0 | W64: 0 | X64: 0 - 30 | Y64: vendido | Z64: 50-60 | AA64: 4087.511 | AB64: 213327.2 | AC64: 2 Dormitórios | AD64: n.d. | AE64: 184000 | AF64: sim | AG64: sim | AH64: =IF(N64="quitado",_xlfn.MAXIFS(OFFSET([1]Carteira!$A:$A,0,MATCH("DATA DA BAIXA",[1]Carteira!$2:$2,0)-1),OFFSET([1]Carteira!$A:$A,0,MATCH("Contrato",[1]Carteira!$2:$2,0)-1),BDados!$I64),"")
A65: O-T3-604 | B65: RESIDENCIAL - OCEANOS | C65: 3 | D65: 604 | E65: 52.19 | F65: 184000 | G65: 0 | H65: sim | I65: FELIPE COSTA SILVA | J65: 481.403.738-42 | K65: 45513 | L65: 220000 | M65: repasse | N65: 221579.45 | O65: 211578.11 | P65: 0 | Q65: 0 | R65: 211578.11 | S65: 10001.34 | T65: 0 | U65: 0 | V65: 10001.34 | W65: 0 | X65: 0 - 30 | Y65: vendido | Z65: 50-60 | AA65: 4087.511 | AB65: 213327.2 | AC65: 2 Dormitórios | AD65: Indícios ocupação | AE65: 184000 | AF65: sim | AG65: sim | AH65: =IF(N65="quitado",_xlfn.MAXIFS(OFFSET([1]Carteira!$A:$A,0,MATCH("DATA DA BAIXA",[1]Carteira!$2:$2,0)-1),OFFSET([1]Carteira!$A:$A,0,MATCH("Contrato",[1]Carteira!$2:$2,0)-1),BDados!$I65),"")
A66: O-T3-605 | B66: RESIDENCIAL - OCEANOS | C66: 3 | D66: 605 | E66: 52.19 | F66: 184000 | G66: 0 | H66: não | I66: THAYNA SANTOS DAMASCENO SILVA | J66: 094.764.186-64 | K66: 45568 | L66: 215000 | M66: repasse | N66: 215000 | O66: 400 | P66: 0 | Q66: 0 | R66: 400 | S66: 214600 | T66: 0 | U66: 0 | V66: 214600 | W66: 0 | X66: 0 - 30 | Y66: vendido | Z66: 50-60 | AA66: 4087.511 | AB66: 213327.2 | AC66: 2 Dormitórios | AD66: não | AE66: 184000 | AF66: sim | AG66: sim | AH66: =IF(N66="quitado",_xlfn.MAXIFS(OFFSET([1]Carteira!$A:$A,0,MATCH("DATA DA BAIXA",[1]Carteira!$2:$2,0)-1),OFFSET([1]Carteira!$A:$A,0,MATCH("Contrato",[1]Carteira!$2:$2,0)-1),BDados!$I66),"")
A67: O-T3-606 | B67: RESIDENCIAL - OCEANOS | C67: 3 | D67: 606 | E67: 50.96 | F67: 180000 | G67: 180000 | L67: 0 | M67: estoque (disponível) | N67: 0 | O67: 0 | P67: 0 | Q67: 0 | R67: 0 | S67: 0 | T67: 0 | U67: 0 | V67: 0 | W67: 0 | X67: 0 - 30 | Y67: disponível | Z67: 50-60 | AA67: 4087.511 | AB67: 208299.56 | AC67: 2 Dormitórios | AD67: não | AE67: 180000 | AF67: sim | AG67: sim | AH67: =IF(N67="quitado",_xlfn.MAXIFS(OFFSET([1]Carteira!$A:$A,0,MATCH("DATA DA BAIXA",[1]Carteira!$2:$2,0)-1),OFFSET([1]Carteira!$A:$A,0,MATCH("Contrato",[1]Carteira!$2:$2,0)-1),BDados!$I67),"")
A68: O-T3-701 | B68: RESIDENCIAL - OCEANOS | C68: 3 | D68: 701 | E68: 52.19 | F68: 187000 | G68: 187000 | L68: 0 | M68: estoque (disponível) | N68: 0 | O68: 0 | P68: 0 | Q68: 0 | R68: 0 | S68: 0 | T68: 0 | U68: 0 | V68: 0 | W68: 0 | X68: 0 - 30 | Y68: disponível | Z68: 50-60 | AA68: 4087.511 | AB68: 213327.2 | AC68: 2 Dormitórios | AD68: não | AE68: 187000 | AF68: sim | AG68: sim | AH68: =IF(N68="quitado",_xlfn.MAXIFS(OFFSET([1]Carteira!$A:$A,0,MATCH("DATA DA BAIXA",[1]Carteira!$2:$2,0)-1),OFFSET([1]Carteira!$A:$A,0,MATCH("Contrato",[1]Carteira!$2:$2,0)-1),BDados!$I68),"")
A69: O-T3-702 | B69: RESIDENCIAL - OCEANOS | C69: 3 | D69: 702 | E69: 52.19 | F69: 187000 | G69: 187000 | L69: 0 | M69: estoque (disponível) | N69: 0 | O69: 0 | P69: 0 | Q69: 0 | R69: 0 | S69: 0 | T69: 0 | U69: 0 | V69: 0 | W69: 0 | X69: 0 - 30 | Y69: disponível | Z69: 50-60 | AA69: 4087.511 | AB69: 213327.2 | AC69: 2 Dormitórios | AD69: não | AE69: 187000 | AF69: sim | AG69: sim | AH69: =IF(N69="quitado",_xlfn.MAXIFS(OFFSET([1]Carteira!$A:$A,0,MATCH("DATA DA BAIXA",[1]Carteira!$2:$2,0)-1),OFFSET([1]Carteira!$A:$A,0,MATCH("Contrato",[1]Carteira!$2:$2,0)-1),BDados!$I69),"")
A70: O-T3-703 | B70: RESIDENCIAL - OCEANOS | C70: 3 | D70: 703 | E70: 52.19 | F70: 188000 | G70: 0 | H70: não | I70: EDNALDO DOS SANTOS GUILHERME | J70: 383.855.498-11 | K70: 45581 | L70: 225000 | M70: repasse | N70: 225000 | O70: 0 | P70: 0 | Q70: 0 | R70: 0 | S70: 225000 | T70: 0 | U70: 0 | V70: 225000 | W70: 0 | X70: 0 - 30 | Y70: vendido | Z70: 50-60 | AA70: 4087.511 | AB70: 213327.2 | AC70: 2 Dormitórios | AD70: não | AE70: 188000 | AF70: sim | AG70: sim | AH70: =IF(N70="quitado",_xlfn.MAXIFS(OFFSET([1]Carteira!$A:$A,0,MATCH("DATA DA BAIXA",[1]Carteira!$2:$2,0)-1),OFFSET([1]Carteira!$A:$A,0,MATCH("Contrato",[1]Carteira!$2:$2,0)-1),BDados!$I70),"")
A71: O-T3-704 | B71: RESIDENCIAL - OCEANOS | C71: 3 | D71: 704 | E71: 52.19 | F71: 187000 | G71: 187000 | L71: 0 | M71: estoque (disponível) | N71: 0 | O71: 0 | P71: 0 | Q71: 0 | R71: 0 | S71: 0 | T71: 0 | U71: 0 | V71: 0 | W71: 0 | X71: 0 - 30 | Y71: disponível | Z71: 50-60 | AA71: 4087.511 | AB71: 213327.2 | AC71: 2 Dormitórios | AD71: não | AE71: 187000 | AF71: sim | AG71: sim | AH71: =IF(N71="quitado",_xlfn.MAXIFS(OFFSET([1]Carteira!$A:$A,0,MATCH("DATA DA BAIXA",[1]Carteira!$2:$2,0)-1),OFFSET([1]Carteira!$A:$A,0,MATCH("Contrato",[1]Carteira!$2:$2,0)-1),BDados!$I71),"")
A72: O-T3-705 | B72: RESIDENCIAL - OCEANOS | C72: 3 | D72: 705 | E72: 52.19 | F72: 187000 | G72: 187000 | L72: 0 | M72: estoque (disponível) | N72: 0 | O72: 0 | P72: 0 | Q72: 0 | R72: 0 | S72: 0 | T72: 0 | U72: 0 | V72: 0 | W72: 0 | X72: 0 - 30 | Y72: disponível | Z72: 50-60 | AA72: 4087.511 | AB72: 213327.2 | AC72: 2 Dormitórios | AD72: não | AE72: 187000 | AF72: sim | AG72: sim | AH72: =IF(N72="quitado",_xlfn.MAXIFS(OFFSET([1]Carteira!$A:$A,0,MATCH("DATA DA BAIXA",[1]Carteira!$2:$2,0)-1),OFFSET([1]Carteira!$A:$A,0,MATCH("Contrato",[1]Carteira!$2:$2,0)-1),BDados!$I72),"")
A73: O-T3-706 | B73: RESIDENCIAL - OCEANOS | C73: 3 | D73: 706 | E73: 50.96 | F73: 183000 | G73: 0 | H73: não | I73: WILLIAM HENRIQUE PEREIRA | J73: 220.064.838-38 | K73: 45569 | L73: 199900 | M73: repasse | N73: 199922.51 | O73: 146677.41 | P73: 0 | Q73: 0 | R73: 146677.41 | S73: 53245.1 | T73: 0 | U73: 0 | V73: 53245.1 | W73: 0 | X73: 0 - 30 | Y73: vendido | Z73: 50-60 | AA73: 4087.511 | AB73: 208299.56 | AC73: 2 Dormitórios | AD73: não | AE73: 183000 | AF73: sim | AG73: sim | AH73: =IF(N73="quitado",_xlfn.MAXIFS(OFFSET([1]Carteira!$A:$A,0,MATCH("DATA DA BAIXA",[1]Carteira!$2:$2,0)-1),OFFSET([1]Carteira!$A:$A,0,MATCH("Contrato",[1]Carteira!$2:$2,0)-1),BDados!$I73),"")
A74: O-T4-101 | B74: RESIDENCIAL - OCEANOS | C74: 4 | D74: 101 | E74: 52.19 | F74: 177000 | G74: 0 | H74: sim | I74: VINICIUS DOS SANTOS | J74: 230.299.218-08 | K74: 45488 | L74: 195000 | M74: repasse | N74: 196459.51 | O74: 186470.3 | P74: 0 | Q74: 0 | R74: 186470.3 | S74: 9989.21 | T74: 0 | U74: 0 | V74: 9989.21 | W74: 0 | X74: 0 - 30 | Y74: vendido | Z74: 50-60 | AA74: 4087.511 | AB74: 213327.2 | AC74: 2 Dormitórios | AD74: Sem chaves | AE74: 177000 | AF74: sim | AG74: sim | AH74: =IF(N74="quitado",_xlfn.MAXIFS(OFFSET([1]Carteira!$A:$A,0,MATCH("DATA DA BAIXA",[1]Carteira!$2:$2,0)-1),OFFSET([1]Carteira!$A:$A,0,MATCH("Contrato",[1]Carteira!$2:$2,0)-1),BDados!$I74),"")
A75: O-T4-106 | B75: RESIDENCIAL - OCEANOS | C75: 4 | D75: 106 | E75: 50.96 | F75: 173000 | H75: não | I75: LUCAS GOUVEIA DE BRITO | J75: 480.309.238-99 | K75: 45504 | L75: 0 | M75: repasse | N75: 196674.48 | O75: 178580.55 | P75: 0 | Q75: 0 | R75: 178580.55 | S75: 18093.93 | T75: 0 | U75: 0 | V75: 18093.93 | W75: 0 | X75: 0 - 30 | Y75: vendido | Z75: 50-60 | AA75: 4087.511 | AB75: 208299.56 | AC75: 2 Dormitórios | AD75: Sem chaves | AE75: 173000 | AF75: sim | AG75: sim | AH75: =IF(N75="quitado",_xlfn.MAXIFS(OFFSET([1]Carteira!$A:$A,0,MATCH("DATA DA BAIXA",[1]Carteira!$2:$2,0)-1),OFFSET([1]Carteira!$A:$A,0,MATCH("Contrato",[1]Carteira!$2:$2,0)-1),BDados!$I75),"")
A76: O-T4-301 | B76: RESIDENCIAL - OCEANOS | C76: 4 | D76: 301 | E76: 52.19 | F76: 180000 | G76: 0 | H76: sim | I76: JAQUELINE APARECIDA DO NASCIMENTO SILVA | J76: 136.850.848-01 | K76: 45065 | L76: 180000 | M76: quitado | N76: 180000 | O76: 180000 | P76: 0 | Q76: 0 | R76: 180000 | S76: 0 | T76: 0 | U76: 0 | V76: 0 | W76: 0 | X76: 0 - 30 | Y76: vendido | Z76: 50-60 | AA76: 4087.511 | AB76: 213327.2 | AC76: 2 Dormitórios | AD76: n.d. | AE76: 180000 | AF76: sim | AG76: sim | AH76: =IF(N76="quitado",_xlfn.MAXIFS(OFFSET([1]Carteira!$A:$A,0,MATCH("DATA DA BAIXA",[1]Carteira!$2:$2,0)-1),OFFSET([1]Carteira!$A:$A,0,MATCH("Contrato",[1]Carteira!$2:$2,0)-1),BDados!$I76),"")
A77: O-T4-304 | B77: RESIDENCIAL - OCEANOS | C77: 4 | D77: 304 | E77: 52.19 | F77: 180000 | G77: 0 | H77: sim | I77: ANA LETICIA SANTOS DA SILVA | J77: 508.460.598-19 | K77: 44888 | L77: 195201.62 | M77: repasse | N77: 205973.33 | O77: 174884.25 | P77: 0 | Q77: 0 | R77: 174884.25 | S77: 31089.08 | T77: 0 | U77: 0 | V77: 31089.08 | W77: 0 | X77: 0 - 30 | Y77: vendido | Z77: 50-60 | AA77: 4087.511 | AB77: 213327.2 | AC77: 2 Dormitórios | AD77: n.d. | AE77: 180000 | AF77: sim | AG77: sim | AH77: =IF(N77="quitado",_xlfn.MAXIFS(OFFSET([1]Carteira!$A:$A,0,MATCH("DATA DA BAIXA",[1]Carteira!$2:$2,0)-1),OFFSET([1]Carteira!$A:$A,0,MATCH("Contrato",[1]Carteira!$2:$2,0)-1),BDados!$I77),"")
A78: O-T4-305 | B78: RESIDENCIAL - OCEANOS | C78: 4 | D78: 305 | E78: 52.19 | F78: 180000 | G78: 0 | H78: sim | I78: SHIRLENE RAFAELA ALVES SOBRAL | J78: 438.695.188-12 | K78: 45065 | L78: 180000 | M78: quitado | N78: 180000 | O78: 180000 | P78: 0 | Q78: 0 | R78: 180000 | S78: 0 | T78: 0 | U78: 0 | V78: 0 | W78: 0 | X78: 0 - 30 | Y78: vendido | Z78: 50-60 | AA78: 4087.511 | AB78: 213327.2 | AC78: 2 Dormitórios | AD78: n.d. | AE78: 180000 | AF78: sim | AG78: sim | AH78: =IF(N78="quitado",_xlfn.MAXIFS(OFFSET([1]Carteira!$A:$A,0,MATCH("DATA DA BAIXA",[1]Carteira!$2:$2,0)-1),OFFSET([1]Carteira!$A:$A,0,MATCH("Contrato",[1]Carteira!$2:$2,0)-1),BDados!$I78),"")
A79: O-T4-306 | B79: RESIDENCIAL - OCEANOS | C79: 4 | D79: 306 | E79: 50.96 | F79: 176000 | G79: 0 | H79: sim | I79: YASMIN SILVA BARRETO | J79: 512.400.318-90 | K79: 45244 | L79: 228248.54 | M79: repasse | N79: 254557.29 | O79: 194146.68 | P79: 0 | Q79: 0 | R79: 194146.68 | S79: 60410.61 | T79: 0 | U79: 0 | V79: 60410.61 | W79: 0 | X79: 0 - 30 | Y79: vendido | Z79: 50-60 | AA79: 4087.511 | AB79: 208299.56 | AC79: 2 Dormitórios | AD79: n.d. | AE79: 176000 | AF79: sim | AG79: sim | AH79: =IF(N79="quitado",_xlfn.MAXIFS(OFFSET([1]Carteira!$A:$A,0,MATCH("DATA DA BAIXA",[1]Carteira!$2:$2,0)-1),OFFSET([1]Carteira!$A:$A,0,MATCH("Contrato",[1]Carteira!$2:$2,0)-1),BDados!$I79),"")
A80: O-T4-401 | B80: RESIDENCIAL - OCEANOS | C80: 4 | D80: 401 | E80: 52.19 | F80: 180000 | G80: 0 | H80: sim | I80: GILDETE FERREIRA DOS SANTOS | J80: 394.758.108-46 | K80: 45065 | L80: 180000 | M80: quitado | N80: 180000 | O80: 180000 | P80: 0 | Q80: 0 | R80: 180000 | S80: 0 | T80: 0 | U80: 0 | V80: 0 | W80: 0 | X80: 0 - 30 | Y80: vendido | Z80: 50-60 | AA80: 4087.511 | AB80: 213327.2 | AC80: 2 Dormitórios | AD80: n.d. | AE80: 180000 | AF80: sim | AG80: sim | AH80: =IF(N80="quitado",_xlfn.MAXIFS(OFFSET([1]Carteira!$A:$A,0,MATCH("DATA DA BAIXA",[1]Carteira!$2:$2,0)-1),OFFSET([1]Carteira!$A:$A,0,MATCH("Contrato",[1]Carteira!$2:$2,0)-1),BDados!$I80),"")
A81: O-T4-404 | B81: RESIDENCIAL - OCEANOS | C81: 4 | D81: 404 | E81: 52.19 | F81: 180000 | G81: 0 | H81: sim | I81: CAIO VINICIUS OLIVEIRA DOS SANTOS | J81: 421.245.208-14 | K81: 44859 | L81: 193159.28 | M81: repasse | N81: 200144.62 | O81: 179692.22 | P81: 0 | Q81: 0 | R81: 179692.22 | S81: 20452.4 | T81: 0 | U81: 0 | V81: 20452.4 | W81: 0 | X81: 0 - 30 | Y81: vendido | Z81: 50-60 | AA81: 4087.511 | AB81: 213327.2 | AC81: 2 Dormitórios | AD81: n.d. | AE81: 180000 | AF81: sim | AG81: sim | AH81: =IF(N81="quitado",_xlfn.MAXIFS(OFFSET([1]Carteira!$A:$A,0,MATCH("DATA DA BAIXA",[1]Carteira!$2:$2,0)-1),OFFSET([1]Carteira!$A:$A,0,MATCH("Contrato",[1]Carteira!$2:$2,0)-1),BDados!$I81),"")
A82: O-T4-405 | B82: RESIDENCIAL - OCEANOS | C82: 4 | D82: 405 | E82: 52.19 | F82: 180000 | G82: 0 | H82: sim | I82: ANA MARIA FRANÇA DO NASCIMENTO | J82: 174.257.748-28 | K82: 44901 | L82: 195202.06 | M82: repasse | N82: 200171.67 | O82: 183857.69 | P82: 0 | Q82: 0 | R82: 183857.69 | S82: 16313.98 | T82: 0 | U82: 0 | V82: 16313.98 | W82: 3 | X82: 0 - 30 | Y82: vendido | Z82: 50-60 | AA82: 4087.511 | AB82: 213327.2 | AC82: 2 Dormitórios | AD82: n.d. | AE82: 180000 | AF82: sim | AG82: sim | AH82: =IF(N82="quitado",_xlfn.MAXIFS(OFFSET([1]Carteira!$A:$A,0,MATCH("DATA DA BAIXA",[1]Carteira!$2:$2,0)-1),OFFSET([1]Carteira!$A:$A,0,MATCH("Contrato",[1]Carteira!$2:$2,0)-1),BDados!$I82),"")
A83: O-T4-406 | B83: RESIDENCIAL - OCEANOS | C83: 4 | D83: 406 | E83: 50.96 | F83: 176000 | G83: 0 | H83: sim | I83: RITA DE CASSIA RIBEIRO | J83: 080.575.618-31 | K83: 45461 | L83: 225280.01 | M83: repasse | N83: 244046.65 | O83: 200530.03 | P83: 0 | Q83: 0 | R83: 200530.03 | S83: 43516.62 | T83: 0 | U83: 0 | V83: 43516.62 | W83: 7 | X83: 0 - 30 | Y83: vendido | Z83: 50-60 | AA83: 4087.511 | AB83: 208299.56 | AC83: 2 Dormitórios | AD83: Sem chaves | AE83: 176000 | AF83: não | AG83: não | AH83: =IF(N83="quitado",_xlfn.MAXIFS(OFFSET([1]Carteira!$A:$A,0,MATCH("DATA DA BAIXA",[1]Carteira!$2:$2,0)-1),OFFSET([1]Carteira!$A:$A,0,MATCH("Contrato",[1]Carteira!$2:$2,0)-1),BDados!$I83),"")
A84: O-T4-501 | B84: RESIDENCIAL - OCEANOS | C84: 4 | D84: 501 | E84: 52.19 | F84: 184000 | G84: 0 | H84: não | I84: CLAUDIVANIA MARIA DA SILVA | J84: 023.692.894-57 | K84: 45065 | L84: 180000 | M84: quitado | N84: 180000 | O84: 180000 | P84: 0 | Q84: 0 | R84: 180000 | S84: 0 | T84: 0 | U84: 0 | V84: 0 | W84: 0 | X84: 0 - 30 | Y84: vendido | Z84: 50-60 | AA84: 4087.511 | AB84: 213327.2 | AC84: 2 Dormitórios | AD84: n.d. | AE84: 184000 | AF84: sim | AG84: sim | AH84: =IF(N84="quitado",_xlfn.MAXIFS(OFFSET([1]Carteira!$A:$A,0,MATCH("DATA DA BAIXA",[1]Carteira!$2:$2,0)-1),OFFSET([1]Carteira!$A:$A,0,MATCH("Contrato",[1]Carteira!$2:$2,0)-1),BDados!$I84),"")
A85: O-T4-502 | B85: RESIDENCIAL - OCEANOS | C85: 4 | D85: 502 | E85: 52.19 | F85: 184000 | G85: 0 | H85: sim | I85: ROSIMAR GONÇALVES PEREIRA | J85: 006.989.603-86 | K85: 45065 | L85: 180000 | M85: quitado | N85: 180000 | O85: 180000 | P85: 0 | Q85: 0 | R85: 180000 | S85: 0 | T85: 0 | U85: 0 | V85: 0 | W85: 0 | X85: 0 - 30 | Y85: vendido | Z85: 50-60 | AA85: 4087.511 | AB85: 213327.2 | AC85: 2 Dormitórios | AD85: n.d. | AE85: 184000 | AF85: sim | AG85: sim | AH85: =IF(N85="quitado",_xlfn.MAXIFS(OFFSET([1]Carteira!$A:$A,0,MATCH("DATA DA BAIXA",[1]Carteira!$2:$2,0)-1),OFFSET([1]Carteira!$A:$A,0,MATCH("Contrato",[1]Carteira!$2:$2,0)-1),BDados!$I85),"")
A86: O-T4-504 | B86: RESIDENCIAL - OCEANOS | C86: 4 | D86: 504 | E86: 52.19 | F86: 184000 | G86: 0 | H86: sim | I86: JANICLEIA PEREIRA DA SILVA | J86: 378.030.718-99 | K86: 45065 | L86: 180000 | M86: quitado | N86: 180000 | O86: 180000 | P86: 0 | Q86: 0 | R86: 180000 | S86: 0 | T86: 0 | U86: 0 | V86: 0 | W86: 0 | X86: 0 - 30 | Y86: vendido | Z86: 50-60 | AA86: 4087.511 | AB86: 213327.2 | AC86: 2 Dormitórios | AD86: n.d. | AE86: 184000 | AF86: sim | AG86: sim | AH86: =IF(N86="quitado",_xlfn.MAXIFS(OFFSET([1]Carteira!$A:$A,0,MATCH("DATA DA BAIXA",[1]Carteira!$2:$2,0)-1),OFFSET([1]Carteira!$A:$A,0,MATCH("Contrato",[1]Carteira!$2:$2,0)-1),BDados!$I86),"")
A87: O-T4-505 | B87: RESIDENCIAL - OCEANOS | C87: 4 | D87: 505 | E87: 52.19 | F87: 184000 | G87: 0 | H87: sim | I87: CRISTIANE PEREIRA DA SILVA | J87: 052.259.646-05 | K87: 45065 | L87: 180000 | M87: quitado | N87: 180000 | O87: 180000 | P87: 0 | Q87: 0 | R87: 180000 | S87: 0 | T87: 0 | U87: 0 | V87: 0 | W87: 0 | X87: 0 - 30 | Y87: vendido | Z87: 50-60 | AA87: 4087.511 | AB87: 213327.2 | AC87: 2 Dormitórios | AD87: n.d. | AE87: 184000 | AF87: sim | AG87: sim | AH87: =IF(N87="quitado",_xlfn.MAXIFS(OFFSET([1]Carteira!$A:$A,0,MATCH("DATA DA BAIXA",[1]Carteira!$2:$2,0)-1),OFFSET([1]Carteira!$A:$A,0,MATCH("Contrato",[1]Carteira!$2:$2,0)-1),BDados!$I87),"")
A88: O-T4-506 | B88: RESIDENCIAL - OCEANOS | C88: 4 | D88: 506 | E88: 50.96 | F88: 180000 | G88: 180000 | L88: 0 | M88: estoque (disponível) | N88: 0 | O88: 0 | P88: 0 | Q88: 0 | R88: 0 | S88: 0 | T88: 0 | U88: 0 | V88: 0 | W88: 0 | X88: 0 - 30 | Y88: disponível | Z88: 50-60 | AA88: 4087.511 | AB88: 208299.56 | AC88: 2 Dormitórios | AD88: não | AE88: 180000 | AF88: sim | AG88: sim | AH88: =IF(N88="quitado",_xlfn.MAXIFS(OFFSET([1]Carteira!$A:$A,0,MATCH("DATA DA BAIXA",[1]Carteira!$2:$2,0)-1),OFFSET([1]Carteira!$A:$A,0,MATCH("Contrato",[1]Carteira!$2:$2,0)-1),BDados!$I88),"")
A89: O-T4-601 | B89: RESIDENCIAL - OCEANOS | C89: 4 | D89: 601 | E89: 52.19 | F89: 184000 | G89: 0 | H89: sim | I89: THAYNARA ANSELMO DE OLIVEIRA | J89: 415.211.808-30 | K89: 45148 | L89: 229519.55 | M89: repasse | N89: 235418.94 | O89: 218527.74 | P89: 0 | Q89: 0 | R89: 218527.74 | S89: 16891.2 | T89: 0 | U89: 0 | V89: 16891.2 | W89: 0 | X89: 0 - 30 | Y89: vendido | Z89: 50-60 | AA89: 4087.511 | AB89: 213327.2 | AC89: 2 Dormitórios | AD89: n.d. | AE89: 184000 | AF89: sim | AG89: sim | AH89: =IF(N89="quitado",_xlfn.MAXIFS(OFFSET([1]Carteira!$A:$A,0,MATCH("DATA DA BAIXA",[1]Carteira!$2:$2,0)-1),OFFSET([1]Carteira!$A:$A,0,MATCH("Contrato",[1]Carteira!$2:$2,0)-1),BDados!$I89),"")
A90: O-T4-602 | B90: RESIDENCIAL - OCEANOS | C90: 4 | D90: 602 | E90: 52.19 | F90: 184000 | G90: 0 | H90: sim | I90: ANDRE XAVIER VIEIRA | J90: 466.155.658-54 | K90: 45218 | L90: 243288.3 | M90: repasse | N90: 267831.36 | O90: 194981.96 | P90: 0 | Q90: 0 | R90: 194981.96 | S90: 72849.4 | T90: 0 | U90: 0 | V90: 72849.4 | W90: 0 | X90: 0 - 30 | Y90: vendido | Z90: 50-60 | AA90: 4087.511 | AB90: 213327.2 | AC90: 2 Dormitórios | AD90: n.d. | AE90: 184000 | AF90: sim | AG90: sim | AH90: =IF(N90="quitado",_xlfn.MAXIFS(OFFSET([1]Carteira!$A:$A,0,MATCH("DATA DA BAIXA",[1]Carteira!$2:$2,0)-1),OFFSET([1]Carteira!$A:$A,0,MATCH("Contrato",[1]Carteira!$2:$2,0)-1),BDados!$I90),"")
A91: O-T4-603 | B91: RESIDENCIAL - OCEANOS | C91: 4 | D91: 603 | E91: 52.19 | F91: 184000 | G91: 0 | H91: sim | I91: MARILENE DOS SANTOS SILVA GIMENES | J91: 275.066.968-51 | K91: 45065 | L91: 180000 | M91: quitado | N91: 180000 | O91: 180000 | P91: 0 | Q91: 0 | R91: 180000 | S91: 0 | T91: 0 | U91: 0 | V91: 0 | W91: 0 | X91: 0 - 30 | Y91: vendido | Z91: 50-60 | AA91: 4087.511 | AB91: 213327.2 | AC91: 2 Dormitórios | AD91: n.d. | AE91: 184000 | AF91: sim | AG91: sim | AH91: =IF(N91="quitado",_xlfn.MAXIFS(OFFSET([1]Carteira!$A:$A,0,MATCH("DATA DA BAIXA",[1]Carteira!$2:$2,0)-1),OFFSET([1]Carteira!$A:$A,0,MATCH("Contrato",[1]Carteira!$2:$2,0)-1),BDados!$I91),"")
A92: O-T4-604 | B92: RESIDENCIAL - OCEANOS | C92: 4 | D92: 604 | E92: 52.19 | F92: 184000 | G92: 0 | H92: não | I92: RENATA DE JESUS OLIVEIRA | J92: 364.581.298-90 | K92: 45574 | L92: 228960 | M92: repasse | N92: 228960 | O92: 498.7 | P92: 0 | Q92: 0 | R92: 498.7 | S92: 228461.3 | T92: 0 | U92: 0 | V92: 228461.3 | W92: 0 | X92: 0 - 30 | Y92: vendido | Z92: 50-60 | AA92: 4087.511 | AB92: 213327.2 | AC92: 2 Dormitórios | AD92: não | AE92: 184000 | AF92: sim | AG92: sim | AH92: =IF(N92="quitado",_xlfn.MAXIFS(OFFSET([1]Carteira!$A:$A,0,MATCH("DATA DA BAIXA",[1]Carteira!$2:$2,0)-1),OFFSET([1]Carteira!$A:$A,0,MATCH("Contrato",[1]Carteira!$2:$2,0)-1),BDados!$I92),"")
A93: O-T4-605 | B93: RESIDENCIAL - OCEANOS | C93: 4 | D93: 605 | E93: 52.19 | F93: 184000 | G93: 0 | H93: não | I93: JOSE DOMINGOS REIS DOS SANTOS | J93: 405.438.568-01 | K93: 45194 | L93: 239519.4 | M93: repasse | N93: 275321.72 | O93: 183566.73 | P93: 0 | Q93: 0 | R93: 183566.73 | S93: 91754.99 | T93: 0 | U93: 0 | V93: 91754.99 | W93: 0 | X93: 0 - 30 | Y93: vendido | Z93: 50-60 | AA93: 4087.511 | AB93: 213327.2 | AC93: 2 Dormitórios | AD93: n.d. | AE93: 184000 | AF93: sim | AG93: sim | AH93: =IF(N93="quitado",_xlfn.MAXIFS(OFFSET([1]Carteira!$A:$A,0,MATCH("DATA DA BAIXA",[1]Carteira!$2:$2,0)-1),OFFSET([1]Carteira!$A:$A,0,MATCH("Contrato",[1]Carteira!$2:$2,0)-1),BDados!$I93),"")
A94: O-T4-606 | B94: RESIDENCIAL - OCEANOS | C94: 4 | D94: 606 | E94: 50.96 | F94: 180000 | G94: 180000 | L94: 0 | M94: estoque (disponível) | N94: 0 | O94: 0 | P94: 0 | Q94: 0 | R94: 0 | S94: 0 | T94: 0 | U94: 0 | V94: 0 | W94: 0 | X94: 0 - 30 | Y94: disponível | Z94: 50-60 | AA94: 4087.511 | AB94: 208299.56 | AC94: 2 Dormitórios | AD94: não | AE94: 180000 | AF94: sim | AG94: sim | AH94: =IF(N94="quitado",_xlfn.MAXIFS(OFFSET([1]Carteira!$A:$A,0,MATCH("DATA DA BAIXA",[1]Carteira!$2:$2,0)-1),OFFSET([1]Carteira!$A:$A,0,MATCH("Contrato",[1]Carteira!$2:$2,0)-1),BDados!$I94),"")
A95: O-T4-701 | B95: RESIDENCIAL - OCEANOS | C95: 4 | D95: 701 | E95: 52.19 | F95: 187000 | G95: 187000 | L95: 0 | M95: estoque (disponível) | N95: 0 | O95: 0 | P95: 0 | Q95: 0 | R95: 0 | S95: 0 | T95: 0 | U95: 0 | V95: 0 | W95: 0 | X95: 0 - 30 | Y95: disponível | Z95: 50-60 | AA95: 4087.511 | AB95: 213327.2 | AC95: 2 Dormitórios | AD95: não | AE95: 187000 | AF95: sim | AG95: sim | AH95: =IF(N95="quitado",_xlfn.MAXIFS(OFFSET([1]Carteira!$A:$A,0,MATCH("DATA DA BAIXA",[1]Carteira!$2:$2,0)-1),OFFSET([1]Carteira!$A:$A,0,MATCH("Contrato",[1]Carteira!$2:$2,0)-1),BDados!$I95),"")
A96: O-T4-702 | B96: RESIDENCIAL - OCEANOS | C96: 4 | D96: 702 | E96: 52.19 | F96: 187000 | G96: 187000 | L96: 0 | M96: estoque (disponível) | N96: 0 | O96: 0 | P96: 0 | Q96: 0 | R96: 0 | S96: 0 | T96: 0 | U96: 0 | V96: 0 | W96: 0 | X96: 0 - 30 | Y96: disponível | Z96: 50-60 | AA96: 4087.511 | AB96: 213327.2 | AC96: 2 Dormitórios | AD96: não | AE96: 187000 | AF96: sim | AG96: sim | AH96: =IF(N96="quitado",_xlfn.MAXIFS(OFFSET([1]Carteira!$A:$A,0,MATCH("DATA DA BAIXA",[1]Carteira!$2:$2,0)-1),OFFSET([1]Carteira!$A:$A,0,MATCH("Contrato",[1]Carteira!$2:$2,0)-1),BDados!$I96),"")
A97: O-T4-703 | B97: RESIDENCIAL - OCEANOS | C97: 4 | D97: 703 | E97: 52.19 | F97: 188000 | G97: 188000 | L97: 0 | M97: estoque (disponível) | N97: 0 | O97: 0 | P97: 0 | Q97: 0 | R97: 0 | S97: 0 | T97: 0 | U97: 0 | V97: 0 | W97: 0 | X97: 0 - 30 | Y97: disponível | Z97: 50-60 | AA97: 4087.511 | AB97: 213327.2 | AC97: 2 Dormitórios | AD97: não | AE97: 188000 | AF97: sim | AG97: sim | AH97: =IF(N97="quitado",_xlfn.MAXIFS(OFFSET([1]Carteira!$A:$A,0,MATCH("DATA DA BAIXA",[1]Carteira!$2:$2,0)-1),OFFSET([1]Carteira!$A:$A,0,MATCH("Contrato",[1]Carteira!$2:$2,0)-1),BDados!$I97),"")
A98: O-T4-704 | B98: RESIDENCIAL - OCEANOS | C98: 4 | D98: 704 | E98: 52.19 | F98: 187000 | G98: 187000 | L98: 0 | M98: estoque (disponível) | N98: 0 | O98: 0 | P98: 0 | Q98: 0 | R98: 0 | S98: 0 | T98: 0 | U98: 0 | V98: 0 | W98: 0 | X98: 0 - 30 | Y98: disponível | Z98: 50-60 | AA98: 4087.511 | AB98: 213327.2 | AC98: 2 Dormitórios | AD98: não | AE98: 187000 | AF98: sim | AG98: sim | AH98: =IF(N98="quitado",_xlfn.MAXIFS(OFFSET([1]Carteira!$A:$A,0,MATCH("DATA DA BAIXA",[1]Carteira!$2:$2,0)-1),OFFSET([1]Carteira!$A:$A,0,MATCH("Contrato",[1]Carteira!$2:$2,0)-1),BDados!$I98),"")
A99: O-T4-705 | B99: RESIDENCIAL - OCEANOS | C99: 4 | D99: 705 | E99: 52.19 | F99: 187000 | G99: 187000 | L99: 0 | M99: estoque (disponível) | N99: 0 | O99: 0 | P99: 0 | Q99: 0 | R99: 0 | S99: 0 | T99: 0 | U99: 0 | V99: 0 | W99: 0 | X99: 0 - 30 | Y99: disponível | Z99: 50-60 | AA99: 4087.511 | AB99: 213327.2 | AC99: 2 Dormitórios | AD99: não | AE99: 187000 | AF99: sim | AG99: sim | AH99: =IF(N99="quitado",_xlfn.MAXIFS(OFFSET([1]Carteira!$A:$A,0,MATCH("DATA DA BAIXA",[1]Carteira!$2:$2,0)-1),OFFSET([1]Carteira!$A:$A,0,MATCH("Contrato",[1]Carteira!$2:$2,0)-1),BDados!$I99),"")
A100: O-T4-706 | B100: RESIDENCIAL - OCEANOS | C100: 4 | D100: 706 | E100: 50.96 | F100: 183000 | G100: 0 | H100: não | I100: LUCIENE GOMES DOS SANTOS | J100: 029.308.654-07 | K100: 45581 | L100: 199900 | M100: repasse | N100: 199900 | O100: 0 | P100: 0 | Q100: 0 | R100: 0 | S100: 199900 | T100: 0 | U100: 0 | V100: 199900 | W100: 0 | X100: 0 - 30 | Y100: vendido | Z100: 50-60 | AA100: 4087.511 | AB100: 208299.56 | AC100: 2 Dormitórios | AD100: não | AE100: 183000 | AF100: sim | AG100: sim | AH100: =IF(N100="quitado",_xlfn.MAXIFS(OFFSET([1]Carteira!$A:$A,0,MATCH("DATA DA BAIXA",[1]Carteira!$2:$2,0)-1),OFFSET([1]Carteira!$A:$A,0,MATCH("Contrato",[1]Carteira!$2:$2,0)-1),BDados!$I100),"")
A101: AJ-T1-251 | B101: ALTO JARDIM | C101: 1 | D101: 251 | E101: 160 | F101: 1215000 | G101: 0 | H101: não | I101: Gabriel | J101: (vazio) | K101: 45082 | L101: 1100000 | M101: quitado | N101: 1100000 | O101: 1100000 | P101: 0 | Q101: 0 | R101: 1100000 | S101: 0 | T101: 0 | U101: 0 | V101: 0 | W101: 0 | X101: 0 - 30 | Y101: vendido | Z101: 150-300 | AA101: 7001.0183 | AB101: 1120162.9 | AC101: 3 Dormitórios | AD101: n.d. | AE101: 1120162.9 | AF101: sim | AG101: sim | AH101: =IF(N101="quitado",_xlfn.MAXIFS(OFFSET([1]Carteira!$A:$A,0,MATCH("DATA DA BAIXA",[1]Carteira!$2:$2,0)-1),OFFSET([1]Carteira!$A:$A,0,MATCH("Contrato",[1]Carteira!$2:$2,0)-1),BDados!$I101),"")
A102: AJ-T1-252 | B102: ALTO JARDIM | C102: 1 | D102: 252 | E102: 160 | F102: 1215000 | G102: 0 | H102: não | I102: Joel | J102: (vazio) | K102: 45082 | L102: 1100000 | M102: quitado | N102: 1100000 | O102: 1100000 | P102: 0 | Q102: 0 | R102: 1100000 | S102: 0 | T102: 0 | U102: 0 | V102: 0 | W102: 0 | X102: 0 - 30 | Y102: vendido | Z102: 150-300 | AA102: 7001.0183 | AB102: 1120162.9 | AC102: 3 Dormitórios | AD102: n.d. | AE102: 1120162.9 | AF102: sim | AG102: sim | AH102: =IF(N102="quitado",_xlfn.MAXIFS(OFFSET([1]Carteira!$A:$A,0,MATCH("DATA DA BAIXA",[1]Carteira!$2:$2,0)-1),OFFSET([1]Carteira!$A:$A,0,MATCH("Contrato",[1]Carteira!$2:$2,0)-1),BDados!$I102),"")
