Workbook
Name Ext_Bancarios: '[2]Ext bancário'!$A$1:OFFSET('[2]Ext bancário'!$A$1,COUNTA('[2]Ext bancário'!$A:$A)-1,COUNTA('[2]Ext bancário'!$1:$1)-1)
Name Ext_Clientes: '[2]Ext Clientes'!$A$1:OFFSET('[2]Ext Clientes'!$A$1,COUNTA('[2]Ext Clientes'!$A:$A)-1,COUNTA('[2]Ext Clientes'!$1:$1)-1)

Sheet BDados
A1: Aux | B1: Empreendimento | C1: Cod Torre | D1: Unidade | E1: Área Privativa | F1: Valor de Avaliação | G1: Valor Tabela de Vendas | H1: Contrato Enviado? | I1: Cliente | J1: CPF / CNPJ | K1: Data Venda | L1: Valor da Venda | M1: Classificação Manual | N1: Valor Carteira | O1: Contas Recebidas | P1: Recebido Pré-Chaves | Q1: Antecipação Pós-Chaves | R1: Recebido Pós-Chaves | S1: Contas a Receber | T1: A Receber Pré-Chaves | U1: A Receber Chaves | V1: A Receber Pós-Chaves | W1: Dias atraso unidade | X1: Faixa atraso unidade | Y1: Status Unidade | Z1: Faixa Área | AA1: VUV últimas vendas | AB1: Valor de Mercado | AC1: Estilo | AD1: Unidades encontra-se ocupada? | AE1: Valor Para Razão de Garantia | AF1: Garantia | AG1: Garantia | AH1: Data quitação
A2: CDM-T1-21 | B2: CORES DO MAR - TURQUESA | C2: 1 | D2: 21 | E2: 49.54 | F2: 175000 | G2: 0 | H2: sim | I2: KAUANNY FRANCA MARQUES | J2: 504.391.778-47 | K2: 45257 | L2: 191960 | M2: repasse | N2: 204917.4 | O2: 165581.36 | P2: 0 | Q2: 0 | R2: 165581.36 | S2: 39336.04 | T2: 0 | U2: 0 | V2: 39336.04 | W2: 0 | X2: 0 - 30 | Y2: vendido | Z2: 25-50 | AA2: 4065.397 | AB2: 201399.77 | AC2: 2 Dormitórios | AD2: n.d. | AE2: 175000 | AF2: sim | AG2: sim | AH2: =IF(N2="quitado",_xlfn.MAXIFS(OFFSET([1]Carteira!$A:$A,0,MATCH("DATA DA BAIXA",[1]Carteira!$2:$2,0)-1),OFFSET([1]Carteira!$A:$A,0,MATCH("Contrato",[1]Carteira!$2:$2,0)-1),BDados!$I2),"")
A3: CDM-T2-05 | B3: CORES DO MAR - TURQUESA | C3: 2 | D3: 05 | E3: 49.54 | F3: 175000 | G3: 175000 | L3: 0 | M3: estoque (disponível) | N3: 0 | O3: 0 | P3: 0 | Q3: 0 | R3: 0 | S3: 0 | T3: 0 | U3: 0 | V3: 0 | W3: 0 | X3: 0 - 30 | Y3: disponível | Z3: 25-50 | AA3: 4065.397 | AB3: 201399.77 | AC3: 2 Dormitórios | AD3: não | AE3: 175000 | AF3: sim | AG3: sim | AH3: =IF(N3="quitado",_xlfn.MAXIFS(OFFSET([1]Carteira!$A:$A,0,MATCH("DATA DA BAIXA",[1]Carteira!$2:$2,0)-1),OFFSET([1]Carteira!$A:$A,0,MATCH("Contrato",[1]Carteira!$2:$2,0)-1),BDados!$I3),"")
A4: CDM-T2-06 | B4: CORES DO MAR - TURQUESA | C4: 2 | D4: 06 | E4: 49.54 | F4: 175000 | G4: 175000 | L4: 0 | M4: estoque (disponível) | N4: 0 | O4: 0 | P4: 0 | Q4: 0 | R4: 0 | S4: 0 | T4: 0 | U4: 0 | V4: 0 | W4: 0 | X4: 0 - 30 | Y4: disponível | Z4: 25-50 | AA4: 4065.397 | AB4: 201399.77 | AC4: 2 Dormitórios | AD4: não | AE4: 175000 | AF4: sim | AG4: sim | AH4: =IF(N4="quitado",_xlfn.MAXIFS(OFFSET([1]Carteira!$A:$A,0,MATCH("DATA DA BAIXA",[1]Carteira!$2:$2,0)-1),OFFSET([1]Carteira!$A:$A,0,MATCH("Contrato",[1]Carteira!$2:$2,0)-1),BDados!$I4),"")
A5: CDM-T2-13 | B5: CORES DO MAR - TURQUESA | C5: 2 | D5: 13 | E5: 24.15 | F5: 86000 | G5: 0 | H5: não | I5: JUAN GREGORY ISAACS LUCAS DA SILVA | J5: 474.141.988-63 | K5: 44993 | L5: 129900.13 | M5: repasse | N5: 132717.42 | O5: 125844.54 | P5: 0 | Q5: 0 | R5: 125844.54 | S5: 6872.88 | T5: 0 | U5: 0 | V5: 6872.88 | W5: 195 | X5: 180 < | Y5: vendido | Z5: 0-25 | AA5: 4065.397 | AB5: 98179.337 | AC5: 1 Dormitório | AD5: n.d. | AE5: 86000 | AF5: sim | AG5: sim | AH5: =IF(N5="quitado",_xlfn.MAXIFS(OFFSET([1]Carteira!$A:$A,0,MATCH("DATA DA BAIXA",[1]Carteira!$2:$2,0)-1),OFFSET([1]Carteira!$A:$A,0,MATCH("Contrato",[1]Carteira!$2:$2,0)-1),BDados!$I5),"")
A6: CDM-T2-16 | B6: CORES DO MAR - TURQUESA | C6: 2 | D6: 16 | E6: 49.54 | F6: 175000 | G6: 0 | H6: sim | I6: JOYCE DOS SANTOS MARANHÃO | J6: 463.749.688-83 | K6: 45194 | L6: 191960 | M6: repasse | N6: 205767.69 | O6: 165580.98 | P6: 0 | Q6: 0 | R6: 165580.98 | S6: 40186.71 | T6: 0 | U6: 0 | V6: 40186.71 | W6: 0 | X6: 0 - 30 | Y6: vendido | Z6: 25-50 | AA6: 4065.397 | AB6: 201399.77 | AC6: 2 Dormitórios | AD6: n.d. | AE6: 175000 | AF6: sim | AG6: sim | AH6: =IF(N6="quitado",_xlfn.MAXIFS(OFFSET([1]Carteira!$A:$A,0,MATCH("DATA DA BAIXA",[1]Carteira!$2:$2,0)-1),OFFSET([1]Carteira!$A:$A,0,MATCH("Contrato",[1]Carteira!$2:$2,0)-1),BDados!$I6),"")
A7: CDM-T2-36 | B7: CORES DO MAR - TURQUESA | C7: 2 | D7: 36 | E7: 49.54 | F7: 175000 | G7: 0 | H7: sim | I7: WALDIR DOS SANTOS | J7: 053.750.788-48 | K7: 45154 | L7: 188000 | M7: repasse | N7: 201612.88 | O7: 158400 | P7: 0 | Q7: 0 | R7: 158400 | S7: 43212.88 | T7: 0 | U7: 0 | V7: 43212.88 | W7: 315 | X7: 180 < | Y7: vendido | Z7: 25-50 | AA7: 4065.397 | AB7: 201399.77 | AC7: 2 Dormitórios | AD7: n.d. | AE7: 175000 | AF7: sim | AG7: sim | AH7: =IF(N7="quitado",_xlfn.MAXIFS(OFFSET([1]Carteira!$A:$A,0,MATCH("DATA DA BAIXA",[1]Carteira!$2:$2,0)-1),OFFSET([1]Carteira!$A:$A,0,MATCH("Contrato",[1]Carteira!$2:$2,0)-1),BDados!$I7),"")
A8: CDM-T3-02 | B8: CORES DO MAR - TURQUESA | C8: 3 | D8: 02 | E8: 49.54 | F8: 175000 | G8: 175000 | L8: 0 | M8: estoque (disponível) | N8: 0 | O8: 0 | P8: 0 | Q8: 0 | R8: 0 | S8: 0 | T8: 0 | U8: 0 | V8: 0 | W8: 0 | X8: 0 - 30 | Y8: disponível | Z8: 25-50 | AA8: 4065.397 | AB8: 201399.77 | AC8: 2 Dormitórios | AD8: não | AE8: 175000 | AF8: sim | AG8: sim | AH8: =IF(N8="quitado",_xlfn.MAXIFS(OFFSET([1]Carteira!$A:$A,0,MATCH("DATA DA BAIXA",[1]Carteira!$2:$2,0)-1),OFFSET([1]Carteira!$A:$A,0,MATCH("Contrato",[1]Carteira!$2:$2,0)-1),BDados!$I8),"")
A9: CDM-T3-06 | B9: CORES DO MAR - TURQUESA | C9: 3 | D9: 06 | E9: 49.54 | F9: 175000 | G9: 175000 | L9: 0 | M9: estoque (disponível) | N9: 0 | O9: 0 | P9: 0 | Q9: 0 | R9: 0 | S9: 0 | T9: 0 | U9: 0 | V9: 0 | W9: 0 | X9: 0 - 30 | Y9: disponível | Z9: 25-50 | AA9: 4065.397 | AB9: 201399.77 | AC9: 2 Dormitórios | AD9: não | AE9: 175000 | AF9: sim | AG9: sim | AH9: =IF(N9="quitado",_xlfn.MAXIFS(OFFSET([1]Carteira!$A:$A,0,MATCH("DATA DA BAIXA",[1]Carteira!$2:$2,0)-1),OFFSET([1]Carteira!$A:$A,0,MATCH("Contrato",[1]Carteira!$2:$2,0)-1),BDados!$I9),"")
A10: CDM-T3-15 | B10: CORES DO MAR - TURQUESA | C10: 3 | D10: 15 | E10: 49.54 | F10: 175000 | G10: 0 | H10: sim | I10: JHONICLECIO DA SILVA SANTANA | J10: 444.067.918-84 | K10: 45029 | L10: 179900.12 | M10: repasse | N10: 187127.77 | O10: 161174.96 | P10: 0 | Q10: 0 | R10: 161174.96 | S10: 25952.81 | T10: 0 | U10: 0 | V10: 25952.81 | W10: 0 | X10: 0 - 30 | Y10: vendido | Z10: 25-50 | AA10: 4065.397 | AB10: 201399.77 | AC10: 2 Dormitórios | AD10: n.d. | AE10: 175000 | AF10: sim | AG10: sim | AH10: =IF(N10="quitado",_xlfn.MAXIFS(OFFSET([1]Carteira!$A:$A,0,MATCH("DATA DA BAIXA",[1]Carteira!$2:$2,0)-1),OFFSET([1]Carteira!$A:$A,0,MATCH("Contrato",[1]Carteira!$2:$2,0)-1),BDados!$I10),"")
A11: CDM-T4-01 | B11: CORES DO MAR - TURQUESA | C11: 4 | D11: 01 | E11: 49.54 | F11: 175000 | G11: 0 | H11: sim | I11: BRUNO SILVA DOS SANTOS | J11: 481.762.408-69 | K11: 45138 | L11: 179900 | M11: repasse | N11: 183350.47 | O11: 178018.99 | P11: 0 | Q11: 0 | R11: 178018.99 | S11: 5331.48 | T11: 0 | U11: 0 | V11: 5331.48 | W11: 0 | X11: 0 - 30 | Y11: vendido | Z11: 25-50 | AA11: 4065.397 | AB11: 201399.77 | AC11: 2 Dormitórios | AD11: n.d. | AE11: 175000 | AF11: sim | AG11: sim | AH11: =IF(N11="quitado",_xlfn.MAXIFS(OFFSET([1]Carteira!$A:$A,0,MATCH("DATA DA BAIXA",[1]Carteira!$2:$2,0)-1),OFFSET([1]Carteira!$A:$A,0,MATCH("Contrato",[1]Carteira!$2:$2,0)-1),BDados!$I11),"")
A12: CDM-T4-04 | B12: CORES DO MAR - TURQUESA | C12: 4 | D12: 04 | E12: 24.15 | F12: 86000 | G12: 0 | H12: sim | I12: LORRAYNE ROSARIO DE OLIVEIRA | J12: 466.153.818-85 | K12: 44988 | L12: 129900.2 | M12: repasse | N12: 135502.78 | O12: 115942.16 | P12: 0 | Q12: 0 | R12: 115942.16 | S12: 19560.62 | T12: 0 | U12: 0 | V12: 19560.62 | W12: 0 | X12: 0 - 30 | Y12: vendido | Z12: 0-25 | AA12: 4065.397 | AB12: 98179.337 | AC12: 1 Dormitório | AD12: n.d. | AE12: 86000 | AF12: sim | AG12: sim | AH12: =IF(N12="quitado",_xlfn.MAXIFS(OFFSET([1]Carteira!$A:$A,0,MATCH("DATA DA BAIXA",[1]Carteira!$2:$2,0)-1),OFFSET([1]Carteira!$A:$A,0,MATCH("Contrato",[1]Carteira!$2:$2,0)-1),BDados!$I12),"")
A13: CDM-T4-05 | B13: CORES DO MAR - TURQUESA | C13: 4 | D13: 05 | E13: 49.54 | F13: 175000 | G13: 175000 | L13: 0 | M13: estoque (disponível) | N13: 0 | O13: 0 | P13: 0 | Q13: 0 | R13: 0 | S13: 0 | T13: 0 | U13: 0 | V13: 0 | W13: 0 | X13: 0 - 30 | Y13: disponível | Z13: 25-50 | AA13: 4065.397 | AB13: 201399.77 | AC13: 2 Dormitórios | AD13: não | AE13: 175000 | AF13: sim | AG13: sim | AH13: =IF(N13="quitado",_xlfn.MAXIFS(OFFSET([1]Carteira!$A:$A,0,MATCH("DATA DA BAIXA",[1]Carteira!$2:$2,0)-1),OFFSET([1]Carteira!$A:$A,0,MATCH("Contrato",[1]Carteira!$2:$2,0)-1),BDados!$I13),"")
A14: CDM-T4-06 | B14: CORES DO MAR - TURQUESA | C14: 4 | D14: 06 | E14: 49.54 | F14: 175000 | G14: 175000 | L14: 0 | M14: estoque (disponível) | N14: 0 | O14: 0 | P14: 0 | Q14: 0 | R14: 0 | S14: 0 | T14: 0 | U14: 0 | V14: 0 | W14: 0 | X14: 0 - 30 | Y14: disponível | Z14: 25-50 | AA14: 4065.397 | AB14: 201399.77 | AC14: 2 Dormitórios | AD14: não | AE14: 175000 | AF14: sim | AG14: sim | AH14: =IF(N14="quitado",_xlfn.MAXIFS(OFFSET([1]Carteira!$A:$A,0,MATCH("DATA DA BAIXA",[1]Carteira!$2:$2,0)-1),OFFSET([1]Carteira!$A:$A,0,MATCH("Contrato",[1]Carteira!$2:$2,0)-1),BDados!$I14),"")
A15: CDM-T4-12 | B15: CORES DO MAR - TURQUESA | C15: 4 | D15: 12 | E15: 49.54 | F15: 175000 | G15: 0 | H15: sim | I15: LETICIA CRISTINA DOS REIS | J15: 346.260.558-50 | K15: 45180 | L15: 230000 | M15: repasse | N15: 255558.98 | O15: 180567.49 | P15: 0 | Q15: 0 | R15: 180567.49 | S15: 74991.49 | T15: 0 | U15: 0 | V15: 74991.49 | W15: 0 | X15: 0 - 30 | Y15: vendido | Z15: 25-50 | AA15: 4065.397 | AB15: 201399.77 | AC15: 2 Dormitórios | AD15: n.d. | AE15: 175000 | AF15: sim | AG15: sim | AH15: =IF(N15="quitado",_xlfn.MAXIFS(OFFSET([1]Carteira!$A:$A,0,MATCH("DATA DA BAIXA",[1]Carteira!$2:$2,0)-1),OFFSET([1]Carteira!$A:$A,0,MATCH("Contrato",[1]Carteira!$2:$2,0)-1),BDados!$I15),"")
A16: CDM-T4-14 | B16: CORES DO MAR - TURQUESA | C16: 4 | D16: 14 | E16: 24.15 | F16: 86000 | G16: 86000 | L16: 0 | M16: estoque (disponível) | N16: 0 | O16: 0 | P16: 0 | Q16: 0 | R16: 0 | S16: 0 | T16: 0 | U16: 0 | V16: 0 | W16: 0 | X16: 0 - 30 | Y16: disponível | Z16: 0-25 | AA16: 4065.397 | AB16: 98179.337 | AC16: 1 Dormitório | AD16: Indícios ocupação | AE16: 86000 | AF16: sim | AG16: sim | AH16: =IF(N16="quitado",_xlfn.MAXIFS(OFFSET([1]Carteira!$A:$A,0,MATCH("DATA DA BAIXA",[1]Carteira!$2:$2,0)-1),OFFSET([1]Carteira!$A:$A,0,MATCH("Contrato",[1]Carteira!$2:$2,0)-1),BDados!$I16),"")
A17: CDM-T4-16 | B17: CORES DO MAR - TURQUESA | C17: 4 | D17: 16 | E17: 49.54 | F17: 175000 | G17: 0 | H17: não | I17: ONEILTON MUNIZ DA SILVA JUNIOR | J17: 400.222.598-48 | K17: 45376 | L17: 207642 | M17: repasse | N17: 209838.19 | O17: 163578.5 | P17: 0 | Q17: 0 | R17: 163578.5 | S17: 46259.69 | T17: 0 | U17: 0 | V17: 46259.69 | W17: 0 | X17: 0 - 30 | Y17: vendido | Z17: 25-50 | AA17: 4065.397 | AB17: 201399.77 | AC17: 2 Dormitórios | AD17: Indícios ocupação | AE17: 175000 | AF17: não | AG17: não | AH17: =IF(N17="quitado",_xlfn.MAXIFS(OFFSET([1]Carteira!$A:$A,0,MATCH("DATA DA BAIXA",[1]Carteira!$2:$2,0)-1),OFFSET([1]Carteira!$A:$A,0,MATCH("Contrato",[1]Carteira!$2:$2,0)-1),BDados!$I17),"")
A18: CDM-T4-23 | B18: CORES DO MAR - TURQUESA | C18: 4 | D18: 23 | E18: 24.15 | F18: 86000 | G18: 0 | H18: sim | I18: LUKAIAN DELFINO NASCIMENTO SILVA | J18: 432.975.078-37 | K18: 44988 | L18: 129900 | M18: repasse | N18: 131788.64 | O18: 124910.6 | P18: 0 | Q18: 0 | R18: 124910.6 | S18: 6878.04 | T18: 0 | U18: 0 | V18: 6878.04 | W18: 0 | X18: 0 - 30 | Y18: vendido | Z18: 0-25 | AA18: 4065.397 | AB18: 98179.337 | AC18: 1 Dormitório | AD18: n.d. | AE18: 86000 | AF18: sim | AG18: sim | AH18: =IF(N18="quitado",_xlfn.MAXIFS(OFFSET([1]Carteira!$A:$A,0,MATCH("DATA DA BAIXA",[1]Carteira!$2:$2,0)-1),OFFSET([1]Carteira!$A:$A,0,MATCH("Contrato",[1]Carteira!$2:$2,0)-1),BDados!$I18),"")
A19: CDM-T5-01 | B19: CORES DO MAR - TURQUESA | C19: 5 | D19: 01 | E19: 49.54 | F19: 175000 | G19: 175000 | L19: 0 | M19: estoque (disponível) | N19: 0 | O19: 0 | P19: 0 | Q19: 0 | R19: 0 | S19: 0 | T19: 0 | U19: 0 | V19: 0 | W19: 0 | X19: 0 - 30 | Y19: disponível | Z19: 25-50 | AA19: 4065.397 | AB19: 201399.77 | AC19: 2 Dormitórios | AD19: não | AE19: 175000 | AF19: sim | AG19: sim | AH19: =IF(N19="quitado",_xlfn.MAXIFS(OFFSET([1]Carteira!$A:$A,0,MATCH("DATA DA BAIXA",[1]Carteira!$2:$2,0)-1),OFFSET([1]Carteira!$A:$A,0,MATCH("Contrato",[1]Carteira!$2:$2,0)-1),BDados!$I19),"")
A20: CDM-T5-02 | B20: CORES DO MAR - TURQUESA | C20: 5 | D20: 02 | E20: 49.54 | F20: 175000 | G20: 175000 | L20: 0 | M20: estoque (disponível) | N20: 0 | O20: 0 | P20: 0 | Q20: 0 | R20: 0 | S20: 0 | T20: 0 | U20: 0 | V20: 0 | W20: 0 | X20: 0 - 30 | Y20: disponível | Z20: 25-50 | AA20: 4065.397 | AB20: 201399.77 | AC20: 2 Dormitórios | AD20: Sem chaves | AE20: 175000 | AF20: sim | AG20: sim | AH20: =IF(N20="quitado",_xlfn.MAXIFS(OFFSET([1]Carteira!$A:$A,0,MATCH("DATA DA BAIXA",[1]Carteira!$2:$2,0)-1),OFFSET([1]Carteira!$A:$A,0,MATCH("Contrato",[1]Carteira!$2:$2,0)-1),BDados!$I20),"")
A21: CDM-T5-05 | B21: CORES DO MAR - TURQUESA | C21: 5 | D21: 05 | E21: 49.54 | F21: 175000 | G21: 0 | H21: não | I21: BRUNO CHANCHARULO DE BARROS | J21: 389.192.588-30 | K21: 45488 | L21: 194960 | M21: repasse | N21: 195079.27 | O21: 193895.11 | P21: 0 | Q21: 0 | R21: 193895.11 | S21: 1184.16 | T21: 0 | U21: 0 | V21: 1184.16 | W21: 0 | X21: 0 - 30 | Y21: vendido | Z21: 25-50 | AA21: 4065.397 | AB21: 201399.77 | AC21: 2 Dormitórios | AD21: Sem chaves | AE21: 175000 | AF21: sim | AG21: sim | AH21: =IF(N21="quitado",_xlfn.MAXIFS(OFFSET([1]Carteira!$A:$A,0,MATCH("DATA DA BAIXA",[1]Carteira!$2:$2,0)-1),OFFSET([1]Carteira!$A:$A,0,MATCH("Contrato",[1]Carteira!$2:$2,0)-1),BDados!$I21),"")
A22: CDM-T5-06 | B22: CORES DO MAR - TURQUESA | C22: 5 | D22: 06 | E22: 49.54 | F22: 175000 | G22: 175000 | L22: 0 | M22: estoque (disponível) | N22: 0 | O22: 0 | P22: 0 | Q22: 0 | R22: 0 | S22: 0 | T22: 0 | U22: 0 | V22: 0 | W22: 0 | X22: 0 - 30 | Y22: disponível | Z22: 25-50 | AA22: 4065.397 | AB22: 201399.77 | AC22: 2 Dormitórios | AD22: não | AE22: 175000 | AF22: sim | AG22: sim | AH22: =IF(N22="quitado",_xlfn.MAXIFS(OFFSET([1]Carteira!$A:$A,0,MATCH("DATA DA BAIXA",[1]Carteira!$2:$2,0)-1),OFFSET([1]Carteira!$A:$A,0,MATCH("Contrato",[1]Carteira!$2:$2,0)-1),BDados!$I22),"")
A23: CDM-T5-12 | B23: CORES DO MAR - TURQUESA | C23: 5 | D23: 12 | E23: 49.54 | F23: 175000 | G23: 0 | H23: sim | I23: LUANA SANTOS DE OLIVEIRA | J23: 339.718.658-79 | K23: 45028 | L23: 179899.92 | M23: repasse | N23: 182926.6 | O23: 172583.07 | P23: 0 | Q23: 0 | R23: 172583.07 | S23: 10343.53 | T23: 0 | U23: 0 | V23: 10343.53 | W23: 0 | X23: 0 - 30 | Y23: vendido | Z23: 25-50 | AA23: 4065.397 | AB23: 201399.77 | AC23: 2 Dormitórios | AD23: n.d. | AE23: 175000 | AF23: sim | AG23: sim | AH23: =IF(N23="quitado",_xlfn.MAXIFS(OFFSET([1]Carteira!$A:$A,0,MATCH("DATA DA BAIXA",[1]Carteira!$2:$2,0)-1),OFFSET([1]Carteira!$A:$A,0,MATCH("Contrato",[1]Carteira!$2:$2,0)-1),BDados!$I23),"")
A24: O-T1-206 | B24: RESIDENCIAL - OCEANOS | C24: 1 | D24: 206 | E24: 50.96 | F24: 173000 | H24: sim | I24: LUCIO PEDRO DA SILVA | J24: 421.202.558-22 | K24: 45527 | L24: 199900 | M24: quitado | N24: 199900 | O24: 199900 | P24: 0 | Q24: 0 | R24: 199900 | S24: 0 | T24: 0 | U24: 0 | V24: 0 | W24: 0 | X24: 0 - 30 | Y24: vendido | Z24: 50-60 | AA24: 4087.511 | AB24: 208299.56 | AC24: 2 Dormitórios | AD24: Sem chaves | AE24: 173000 | AF24: não | AG24: não | AH24: =IF(N24="quitado",_xlfn.MAXIFS(OFFSET([1]Carteira!$A:$A,0,MATCH("DATA DA BAIXA",[1]Carteira!$2:$2,0)-1),OFFSET([1]Carteira!$A:$A,0,MATCH("Contrato",[1]Carteira!$2:$2,0)-1),BDados!$I24),"")
A25: O-T1-502 | B25: RESIDENCIAL - OCEANOS | C25: 1 | D25: 502 | E25: 52.19 | F25: 173000 | G25: 0 | H25: sim | I25: KATIA MAURICIO DOS SANTOS | J25: 281.433.678-94 | K25: 44988 | L25: 208998 | M25: quitado | N25: 208998 | O25: 208998 | P25: 0 | Q25: 0 | R25: 208998 | S25: 0 | T25: 0 | U25: 0 | V25: 0 | W25: 0 | X25: 0 - 30 | Y25: vendido | Z25: 50-60 | AA25: 4087.511 | AB25: 213327.2 | AC25: 2 Dormitórios | AD25: n.d. | AE25: 173000 | AF25: sim | AG25: sim | AH25: =IF(N25="quitado",_xlfn.MAXIFS(OFFSET([1]Carteira!$A:$A,0,MATCH("DATA DA BAIXA",[1]Carteira!$2:$2,0)-1),OFFSET([1]Carteira!$A:$A,0,MATCH("Contrato",[1]Carteira!$2:$2,0)-1),BDados!$I25),"")
A26: O-T1-506 | B26: RESIDENCIAL - OCEANOS | C26: 1 | D26: 506 | E26: 50.96 | F26: 180000 | G26: 180000 | L26: 0 | M26: estoque (disponível) | N26: 0 | O26: 0 | P26: 0 | Q26: 0 | R26: 0 | S26: 0 | T26: 0 | U26: 0 | V26: 0 | W26: 0 | X26: 0 - 30 | Y26: disponível | Z26: 50-60 | AA26: 4087.511 | AB26: 208299.56 | AC26: 2 Dormitórios | AD26: não | AE26: 180000 | AF26: sim | AG26: sim | AH26: =IF(N26="quitado",_xlfn.MAXIFS(OFFSET([1]Carteira!$A:$A,0,MATCH("DATA DA BAIXA",[1]Carteira!$2:$2,0)-1),OFFSET([1]Carteira!$A:$A,0,MATCH("Contrato",[1]Carteira!$2:$2,0)-1),BDados!$I26),"")
A27: O-T1-603 | B27: RESIDENCIAL - OCEANOS | C27: 1 | D27: 603 | E27: 52.19 | F27: 184000 | G27: 0 | H27: sim | I27: ANA KARLA DE LIMA PAIVA | J27: 015.688.622-70 | K27: 45105 | L27: 229519.55 | M27: quitado | N27: 229519.55 | O27: 229519.55 | P27: 0 | Q27: 0 | R27: 229519.55 | S27: 0 | T27: 0 | U27: 0 | V27: 0 | W27: 0 | X27: 0 - 30 | Y27: vendido | Z27: 50-60 | AA27: 4087.511 | AB27: 213327.2 | AC27: 2 Dormitórios | AD27: n.d. | AE27: 184000 | AF27: sim | AG27: sim | AH27: =IF(N27="quitado",_xlfn.MAXIFS(OFFSET([1]Carteira!$A:$A,0,MATCH("DATA DA BAIXA",[1]Carteira!$2:$2,0)-1),OFFSET([1]Carteira!$A:$A,0,MATCH("Contrato",[1]Carteira!$2:$2,0)-1),BDados!$I27),"")
A28: O-T1-605 | B28: RESIDENCIAL - OCEANOS | C28: 1 | D28: 605 | E28: 52.19 | F28: 184000 | G28: 0 | H28: sim | I28: EDIVALDO NUNES DOS SANTOS | J28: 197.478.228-06 | K28: 45239 | L28: 243201.28 | M28: repasse | N28: 263173.38 | O28: 204923.96 | P28: 0 | Q28: 0 | R28: 204923.96 | S28: 58249.42 | T28: 0 | U28: 0 | V28: 58249.42 | W28: 0 | X28: 0 - 30 | Y28: vendido | Z28: 50-60 | AA28: 4087.511 | AB28: 213327.2 | AC28: 2 Dormitórios | AD28: n.d. | AE28: 184000 | AF28: sim | AG28: sim | AH28: =IF(N28="quitado",_xlfn.MAXIFS(OFFSET([1]Carteira!$A:$A,0,MATCH("DATA DA BAIXA",[1]Carteira!$2:$2,0)-1),OFFSET([1]Carteira!$A:$A,0,MATCH("Contrato",[1]Carteira!$2:$2,0)-1),BDados!$I28),"")
A29: O-T1-606 | B29: RESIDENCIAL - OCEANOS | C29: 1 | D29: 606 | E29: 50.96 | F29: 180000 | G29: 0 | H29: sim | I29: JOSE JOSUE DA SILVA JUNIOR | J29: 501.852.978-46 | K29: 45512 | L29: 211200 | M29: quitado | N29: 211200 | O29: 211200 | P29: 0 | Q29: 0 | R29: 211200 | S29: 0 | T29: 0 | U29: 0 | V29: 0 | W29: 0 | X29: 0 - 30 | Y29: vendido | Z29: 50-60 | AA29: 4087.511 | AB29: 208299.56 | AC29: 2 Dormitórios | AD29: Sem chaves | AE29: 180000 | AF29: sim | AG29: sim | AH29: =IF(N29="quitado",_xlfn.MAXIFS(OFFSET([1]Carteira!$A:$A,0,MATCH("DATA DA BAIXA",[1]Carteira!$2:$2,0)-1),OFFSET([1]Carteira!$A:$A,0,MATCH("Contrato",[1]Carteira!$2:$2,0)-1),BDados!$I29),"")
A30: O-T1-702 | B30: RESIDENCIAL - OCEANOS | C30: 1 | D30: 702 | E30: 52.19 | F30: 187000 | G30: 0 | H30: sim | I30: VINICIUS RODRIGUES DE SANTANA | J30: 082.785.586-98 | K30: 45052 | L30: 231837.93 | M30: repasse | N30: 235957.53 | O30: 217989.84 | P30: 0 | Q30: 0 | R30: 217989.84 | S30: 17967.69 | T30: 0 | U30: 0 | V30: 17967.69 | W30: 175 | X30: 121 - 180 | Y30: vendido | Z30: 50-60 | AA30: 4087.511 | AB30: 213327.2 | AC30: 2 Dormitórios | AD30: n.d. | AE30: 187000 | AF30: sim | AG30: sim | AH30: =IF(N30="quitado",_xlfn.MAXIFS(OFFSET([1]Carteira!$A:$A,0,MATCH("DATA DA BAIXA",[1]Carteira!$2:$2,0)-1),OFFSET([1]Carteira!$A:$A,0,MATCH("Contrato",[1]Carteira!$2:$2,0)-1),BDados!$I30),"")
A31: O-T1-706 | B31: RESIDENCIAL - OCEANOS | C31: 1 | D31: 706 | E31: 50.96 | F31: 183000 | G31: 183000 | L31: 0 | M31: estoque (disponível) | N31: 0 | O31: 0 | P31: 0 | Q31: 0 | R31: 0 | S31: 0 | T31: 0 | U31: 0 | V31: 0 | W31: 0 | X31: 0 - 30 | Y31: disponível | Z31: 50-60 | AA31: 4087.511 | AB31: 208299.56 | AC31: 2 Dormitórios | AD31: não | AE31: 183000 | AF31: sim | AG31: sim | AH31: =IF(N31="quitado",_xlfn.MAXIFS(OFFSET([1]Carteira!$A:$A,0,MATCH("DATA DA BAIXA",[1]Carteira!$2:$2,0)-1),OFFSET([1]Carteira!$A:$A,0,MATCH("Contrato",[1]Carteira!$2:$2,0)-1),BDados!$I31),"")
A32: O-T2-305 | B32: RESIDENCIAL - OCEANOS | C32: 2 | D32: 305 | E32: 52.19 | F32: 180000 | G32: 0 | H32: sim | I32: ADEMILSON DE JESUS SANTOS | J32: 018.226.445-93 | K32: 45065 | L32: 180000 | M32: quitado | N32: 180000 | O32: 180000 | P32: 0 | Q32: 0 | R32: 180000 | S32: 0 | T32: 0 | U32: 0 | V32: 0 | W32: 0 | X32: 0 - 30 | Y32: vendido | Z32: 50-60 | AA32: 4087.511 | AB32: 213327.2 | AC32: 2 Dormitórios | AD32: n.d. | AE32: 180000 | AF32: sim | AG32: sim | AH32: =IF(N32="quitado",_xlfn.MAXIFS(OFFSET([1]Carteira!$A:$A,0,MATCH("DATA DA BAIXA",[1]Carteira!$2:$2,0)-1),OFFSET([1]Carteira!$A:$A,0,MATCH("Contrato",[1]Carteira!$2:$2,0)-1),BDados!$I32),"")
A33: O-T2-306 | B33: RESIDENCIAL - OCEANOS | C33: 2 | D33: 306 | E33: 50.96 | F33: 176000 | G33: 0 | H33: não | I33: IGOR MOTA DA SILVA | J33: 467.582.358-07 | K33: 45223 | L33: 231620.9 | M33: repasse | N33: 258600.51 | O33: 175439.53 | P33: 0 | Q33: 0 | R33: 175439.53 | S33: 83160.98 | T33: 0 | U33: 0 | V33: 83160.98 | W33: 224 | X33: 180 < | Y33: vendido | Z33: 50-60 | AA33: 4087.511 | AB33: 208299.56 | AC33: 2 Dormitórios | AD33: n.d. | AE33: 176000 | AF33: sim | AG33: sim | AH33: =IF(N33="quitado",_xlfn.MAXIFS(OFFSET([1]Carteira!$A:$A,0,MATCH("DATA DA BAIXA",[1]Carteira!$2:$2,0)-1),OFFSET([1]Carteira!$A:$A,0,MATCH("Contrato",[1]Carteira!$2:$2,0)-1),BDados!$I33),"")
A34: O-T2-406 | B34: RESIDENCIAL - OCEANOS | C34: 2 | D34: 406 | E34: 50.96 | F34: 176000 | G34: 0 | H34: não | I34: GEISON LUIZ DIAS DE OLIVEIRA | J34: 312.023.428-17 | K34: 45237 | L34: 234477.4 | M34: repasse | N34: 250480.06 | O34: 204524.24 | P34: 0 | Q34: 0 | R34: 204524.24 | S34: 45955.82 | T34: 0 | U34: 0 | V34: 45955.82 | W34: 0 | X34: 0 - 30 | Y34: vendido | Z34: 50-60 | AA34: 4087.511 | AB34: 208299.56 | AC34: 2 Dormitórios | AD34: n.d. | AE34: 176000 | AF34: sim | AG34: sim | AH34: =IF(N34="quitado",_xlfn.MAXIFS(OFFSET([1]Carteira!$A:$A,0,MATCH("DATA DA BAIXA",[1]Carteira!$2:$2,0)-1),OFFSET([1]Carteira!$A:$A,0,MATCH("Contrato",[1]Carteira!$2:$2,0)-1),BDados!$I34),"")
A35: O-T2-501 | B35: RESIDENCIAL - OCEANOS | C35: 2 | D35: 501 | E35: 52.19 | F35: 184000 | G35: 0 | H35: sim | I35: ADRIELLY CLAYRA PEREIRA JANUARIO | J35: 408.072.418-73 | K35: 45138 | L35: 227224.2 | M35: repasse | N35: 253603.26 | O35: 176938.81 | P35: 0 | Q35: 0 | R35: 176938.81 | S35: 76664.45 | T35: 0 | U35: 0 | V35: 76664.45 | W35: 301 | X35: 180 < | Y35: vendido | Z35: 50-60 | AA35: 4087.511 | AB35: 213327.2 | AC35: 2 Dormitórios | AD35: n.d. | AE35: 184000 | AF35: sim | AG35: sim | AH35: =IF(N35="quitado",_xlfn.MAXIFS(OFFSET([1]Carteira!$A:$A,0,MATCH("DATA DA BAIXA",[1]Carteira!$2:$2,0)-1),OFFSET([1]Carteira!$A:$A,0,MATCH("Contrato",[1]Carteira!$2:$2,0)-1),BDados!$I35),"")
A36: O-T2-502 | B36: RESIDENCIAL - OCEANOS | C36: 2 | D36: 502 | E36: 52.19 | F36: 184000 | G36: 0 | H36: sim | I36: ANDERSON DUTRA PEREIRA | J36: 269.768.008-08 | K36: 45119 | L36: 227224.2 | M36: repasse | N36: 245534.43 | O36: 189457.29 | P36: 0 | Q36: 0 | R36: 189457.29 | S36: 56077.14 | T36: 0 | U36: 0 | V36: 56077.14 | W36: 0 | X36: 0 - 30 | Y36: vendido | Z36: 50-60 | AA36: 4087.511 | AB36: 213327.2 | AC36: 2 Dormitórios | AD36: n.d. | AE36: 184000 | AF36: sim | AG36: sim | AH36: =IF(N36="quitado",_xlfn.MAXIFS(OFFSET([1]Carteira!$A:$A,0,MATCH("DATA DA BAIXA",[1]Carteira!$2:$2,0)-1),OFFSET([1]Carteira!$A:$A,0,MATCH("Contrato",[1]Carteira!$2:$2,0)-1),BDados!$I36),"")
A37: O-T2-504 | B37: RESIDENCIAL - OCEANOS | C37: 2 | D37: 504 | E37: 52.19 | F37: 184000 | G37: 0 | H37: sim | I37: MARCIO ROBERTO DA SILVA MENDES | J37: 296.208.948-80 | K37: 45135 | L37: 231768.48 | M37: repasse | N37: 238699.69 | O37: 218511.05 | P37: 0 | Q37: 0 | R37: 218511.05 | S37: 20188.64 | T37: 0 | U37: 0 | V37: 20188.64 | W37: 0 | X37: 0 - 30 | Y37: vendido | Z37: 50-60 | AA37: 4087.511 | AB37: 213327.2 | AC37: 2 Dormitórios | AD37: n.d. | AE37: 184000 | AF37: sim | AG37: sim | AH37: =IF(N37="quitado",_xlfn.MAXIFS(OFFSET([1]Carteira!$A:$A,0,MATCH("DATA DA BAIXA",[1]Carteira!$2:$2,0)-1),OFFSET([1]Carteira!$A:$A,0,MATCH("Contrato",[1]Carteira!$2:$2,0)-1),BDados!$I37),"")
A38: O-T2-506 | B38: RESIDENCIAL - OCEANOS | C38: 2 | D38: 506 | E38: 50.96 | F38: 180000 | G38: 0 | H38: sim | I38: ADRIANE CARLA DA SILVA SANTOS | J38: 430.156.838-70 | K38: 45551 | L38: 203860 | M38: repasse | N38: 204178 | O38: 160071.15 | P38: 0 | Q38: 0 | R38: 160071.15 | S38: 44106.85 | T38: 0 | U38: 0 | V38: 44106.85 | W38: 0 | X38: 0 - 30 | Y38: vendido | Z38: 50-60 | AA38: 4087.511 | AB38: 208299.56 | AC38: 2 Dormitórios | AD38: Sem chaves | AE38: 180000 | AF38: não | AG38: não | AH38: =IF(N38="quitado",_xlfn.MAXIFS(OFFSET([1]Carteira!$A:$A,0,MATCH("DATA DA BAIXA",[1]Carteira!$2:$2,0)-1),OFFSET([1]Carteira!$A:$A,0,MATCH("Contrato",[1]Carteira!$2:$2,0)-1),BDados!$I38),"")
A39: O-T2-601 | B39: RESIDENCIAL - OCEANOS | C39: 2 | D39: 601 | E39: 52.19 | F39: 184000 | G39: 0 | H39: sim | I39: ROGERIO SOARES DINIZ GOMES | J39: 408.600.428-39 | K39: 45184 | L39: 240528.4 | M39: repasse | N39: 274393.07 | O39: 189397.99 | P39: 0 | Q39: 0 | R39: 189397.99 | S39: 84995.08 | T39: 0 | U39: 0 | V39: 84995.08 | W39: 0 | X39: 0 - 30 | Y39: vendido | Z39: 50-60 | AA39: 4087.511 | AB39: 213327.2 | AC39: 2 Dormitórios | AD39: n.d. | AE39: 184000 | AF39: sim | AG39: sim | AH39: =IF(N39="quitado",_xlfn.MAXIFS(OFFSET([1]Carteira!$A:$A,0,MATCH("DATA DA BAIXA",[1]Carteira!$2:$2,0)-1),OFFSET([1]Carteira!$A:$A,0,MATCH("Contrato",[1]Carteira!$2:$2,0)-1),BDados!$I39),"")
A40: O-T2-602 | B40: RESIDENCIAL - OCEANOS | C40: 2 | D40: 602 | E40: 52.19 | F40: 184000 | G40: 0 | H40: não | I40: ROSA MARIA LEMOS LOPES | J40: 038.476.358-83 | K40: 45229 | L40: 243743.55 | M40: repasse | N40: 259212.44 | O40: 214456.94 | P40: 0 | Q40: 0 | R40: 214456.94 | S40: 44755.5 | T40: 0 | U40: 0 | V40: 44755.5 | W40: 0 | X40: 0 - 30 | Y40: vendido | Z40: 50-60 | AA40: 4087.511 | AB40: 213327.2 | AC40: 2 Dormitórios | AD40: n.d. | AE40: 184000 | AF40: sim | AG40: sim | AH40: =IF(N40="quitado",_xlfn.MAXIFS(OFFSET([1]Carteira!$A:$A,0,MATCH("DATA DA BAIXA",[1]Carteira!$2:$2,0)-1),OFFSET([1]Carteira!$A:$A,0,MATCH("Contrato",[1]Carteira!$2:$2,0)-1),BDados!$I40),"")
...
