Workbook

Sheet Visão Geral
C2: Visão Geral do Empreendimento - Atibaia - Mendes Dias | K2: Histórico
D3: Recebimentos considerados após dia 17.12.2021, data de assinatura da cessão | H3: 45689 | K3: 45658 | L3: 45627 | M3: 45597 | N3: 45566 | O3: 45536 | P3: 45505 | Q3: 45474 | R3: 45444 | S3: 45413 | T3: 45383 | U3: 45352 | V3: 45323 | W3: 45292 | X3: 45261 | Y3: 45231 | Z3: 45200 | AA3: 45170 | AB3: 45139 | AC3: 45108 | AD3: 45078 | AE3: 45047 | AF3: 45017 | AG3: 44986 | AH3: 44958 | AI3: 44927 | AJ3: 44896 | AK3: 44866 | AL3: 44835 | AM3: 44805 | AN3: 44774 | AO3: 44743 | AP3: 44713 | AQ3: 44682 | AR3: 44652 | AS3: 44621 | AT3: 44593 | AU3: 44562 | AV3: 44531
C5: 1. | D5: Saldo Devedor da Carteira Full (Valor Nominal) | H5: =[1]Recebíveis!K7 -> 53400917 | K5: 53265448 | L5: 50552381 | M5: 51458141 | N5: 50749338 | O5: 49584355 | P5: 49781084 | Q5: 49024122 | R5: 48676804 | S5: 47328395 | T5: 47298294 | U5: 45794178 | V5: 45176141 | W5: 44574619 | X5: 44119218 | Y5: 43762274 | Z5: 43230373 | AA5: 42950006 | AB5: 42157244 | AC5: 41285959 | AD5: 39486545 | AE5: 36862534 | AF5: 35909561 | AG5: 34822064 | AH5: 33610348 | AI5: 31314672 | AJ5: 30199381 | AK5: 27824017 | AL5: 26622082 | AM5: 26796742 | AN5: 25154698 | AO5: 20563311 | AP5: 17167990 | AQ5: 15098934 | AR5: 15508298 | AS5: 19803386 | AT5: 19769902 | AU5: 20134894 | AV5: 21205333
D7: Elegível | H7: =SUMIF([1]Recebíveis!$J$8:$J$1048576,"Elegível",[1]Recebíveis!$K$8:$K$1048576) -> 53400917 | K7: 53265448 | L7: 50396330 | M7: 50026205 | N7: 49671539 | O7: 48512778 | P7: 49028277 | Q7: 48274530 | R7: 47583820 | S7: 45926044 | T7: 46055021 | U7: 44552187 | V7: 43970449 | W7: 43489772 | X7: 43035544 | Y7: 42520159 | Z7: 41579684 | AA7: 41354070 | AB7: 40005016 | AC7: 39082905 | AD7: 37293325 | AE7: 34358556 | AF7: 33563750 | AG7: 32683279 | AH7: 31450695 | AI7: 29299639 | AJ7: 14719308 | AK7: 13578984 | AL7: 24473705 | AM7: 24805965 | AN7: 23162520 | AO7: 18404902 | AP7: 15236887 | AQ7: 13164425 | AR7: 14070516 | AS7: 17728894 | AT7: 17623032 | AU7: 17015036 | AV7: 17914561
D8: Inelegível | H8: =SUMIF([1]Recebíveis!$J$8:$J$1048576,"Inelegível",[1]Recebíveis!$K$8:$K$1048576) -> 0 | K8: 0 | L8: 156050.06 | M8: 1431936.6 | N8: 1077799.2 | O8: 1071576.2 | P8: 752807.78 | Q8: 749591.74 | R8: 1092984.1 | S8: 1402350.8 | T8: 1243273.1 | U8: 1241991.6 | V8: 1205692.4 | W8: 1084847.2 | X8: 1083673.5 | Y8: 1242114.6 | Z8: 1650689.3 | AA8: 1595935.6 | AB8: 2152227.8 | AC8: 2203053.4 | AD8: 2193219.5 | AE8: 2503978.3 | AF8: 2345810.2 | AG8: 2138784.9 | AH8: 2159652.5 | AI8: 2015033.1 | AJ8: 15480074 | AK8: 14245033 | AL8: 2148377.6 | AM8: 1990777.6 | AN8: 1992177.6 | AO8: 2158408.6 | AP8: 1931103 | AQ8: 1934509.2 | AR8: 1437781.7 | AS8: 2074492.1 | AT8: 2146870.6 | AU8: 3119858.3 | AV8: 3290772.2
C10: 2. | D10: Saldo Devedor da Carteira Full (VP Taxa Operação) | H10: =[1]Recebíveis!O7 -> 51158232 | K10: 50218570 | L10: 47554334 | M10: 47901871 | N10: 46789450 | O10: 45225967 | P10: 44980769 | Q10: 43842024 | R10: 43106670 | S10: 41502175 | T10: 41064221 | U10: 39287050 | V10: 38352294 | W10: 41843868 | X10: 41191499 | Y10: 40484334 | Z10: 39446192 | AA10: 38789366 | AB10: 37667153 | AC10: 36410548 | AD10: 34402496 | AE10: 31699613 | AF10: 30507437 | AG10: 29275369 | AH10: 27887194 | AI10: 25693870 | AJ10: 24580719 | AK10: 22501024 | AL10: 21389085 | AM10: 21328880 | AN10: 21611519 | AO10: 17714722 | AP10: 14770242 | AQ10: 12908005 | AR10: 13140925 | AS10: 16695082 | AT10: 16613698 | AU10: 16775248 | AV10: 19718185
D12: Elegível | H12: =SUMIF([1]Recebíveis!$J$9:$J$1048576,"elegível",[1]Recebíveis!$O$9:$O$1048576) -> 51158232 | K12: 50218570 | L12: 47409900 | M12: 46556684 | N12: 45790735 | O12: 44242999 | P12: 44290509 | Q12: 43160874 | R12: 42128920 | S12: 40261636 | T12: 39972350 | U12: 38206006 | V12: 37320543 | W12: 40819535 | X12: 40175719 | Y12: 39329399 | Z12: 37961097 | AA12: 37333686 | AB12: 35732339 | AC12: 34442016 | AD12: 32442392 | AE12: 29476823 | AF12: 28453623 | AG12: 27411338 | AH12: 25995721 | AI12: 23951986 | AJ12: 11803528 | AK12: 10796399 | AL12: 19599086 | AM12: 19679839 | AN12: 19820989 | AO12: 15800017 | AP12: 13044011 | AQ12: 11211070 | AR12: 11874031 | AS12: 14926775 | AT12: 14790383 | AU12: 14146011 | AV12: 16623316
D13: Inelegível | H13: =SUMIF([1]Recebíveis!$J$9:$J$1048576,"inelegível",[1]Recebíveis!$O$9:$O$1048576) -> 0 | K13: 0 | L13: 144434.41 | M13: 1345187 | N13: 998715.03 | O13: 982967.91 | P13: 690259.91 | Q13: 681149.39 | R13: 977750.78 | S13: 1240538.8 | T13: 1091870.7 | U13: 1081043.9 | V13: 1031751 | W13: 1024333.6 | X13: 1015780.2 | Y13: 1154935.1 | Z13: 1485095.1 | AA13: 1455679.7 | AB13: 1934813.8 | AC13: 1968532.7 | AD13: 1960103.6 | AE13: 2222789.9 | AF13: 2053814.6 | AG13: 1864031.1 | AH13: 1891472.8 | AI13: 1741884.2 | AJ13: 12777191 | AK13: 11704625 | AL13: 1789999.4 | AM13: 1649041.3 | AN13: 1790530.3 | AO13: 1914705.1 | AP13: 1726230.7 | AQ13: 1696935 | AR13: 1266894.1 | AS13: 1768307.3 | AT13: 1823315 | AU13: 2629236.8 | AV13: 3094869.2
C15: 3. | D15: Contratos com Recebíveis Futuros | H15: =COUNT('[1]Aging Recebíveis'!$B$9:$B$300) -> 266 | K15: 266 | L15: 258 | M15: 264 | N15: 263 | O15: 260 | P15: 261 | Q15: 259 | R15: 259 | S15: 255 | T15: 256 | U15: 250 | V15: 247 | W15: 245 | X15: 244 | Y15: 242 | Z15: 241 | AA15: 240 | AB15: 237 | AC15: 233 | AD15: 224 | AE15: 210 | AF15: 204 | AG15: 198 | AH15: 190 | AI15: 179 | AJ15: 173 | AK15: 160 | AL15: 153 | AM15: 154 | AN15: 146 | AO15: 123 | AP15: 106 | AQ15: 96 | AR15: 98 | AS15: 126 | AT15: 125 | AU15: 127 | AV15: 133
D17: Elegível | H17: =COUNTIFS('[1]Relação de Contratos'!W:W,"Elegível",'[1]Relação de Contratos'!X:X,"Ativo") -> 266 | K17: 266 | L17: 257 | M17: 256 | N17: 258 | O17: 255 | P17: 258 | Q17: 256 | R17: 254 | S17: 248 | T17: 250 | U17: 243 | V17: 240 | W17: 238 | X17: 237 | Y17: 234 | Z17: 231 | AA17: 230 | AB17: 224 | AC17: 220 | AD17: 211 | AE17: 195 | AF17: 190 | AG17: 185 | AH17: 177 | AI17: 169 | AJ17: 163 | AK17: 151 | AL17: 140 | AM17: 142 | AN17: 134 | AO17: 110 | AP17: 94 | AQ17: 84 | AR17: 89 | AS17: 113 | AT17: 112 | AU17: 108 | AV17: 113
D18: Inelegível | H18: =COUNTIFS('[1]Relação de Contratos'!W:W,"Inelegível",'[1]Relação de Contratos'!X:X,"Ativo") -> 0 | K18: 0 | L18: 1 | M18: 8 | N18: 6 | O18: 6 | P18: 4 | Q18: 4 | R18: 6 | S18: 8 | T18: 7 | U18: 7 | V18: 7 | W18: 7 | X18: 7 | Y18: 8 | Z18: 10 | AA18: 10 | AB18: 13 | AC18: 13 | AD18: 13 | AE18: 15 | AF18: 14 | AG18: 13 | AH18: 13 | AI18: 10 | AJ18: 10 | AK18: 9 | AL18: 13 | AM18: 12 | AN18: 12 | AO18: 13 | AP18: 12 | AQ18: 12 | AR18: 9 | AS18: 13 | AT18: 13 | AU18: 19 | AV18: 20
C20: 4. | D20: Contratos Quitados (Acumulado) | H20: =COUNTIF('[1]Relação de Contratos'!$X$10:$X$1048576,"QUITADO") -> 7 | K20: 7 | L20: 7 | M20: 6 | N20: 6 | O20: 6 | P20: 6 | Q20: 6 | R20: 6 | S20: 6 | T20: 5 | U20: 5 | V20: 5 | W20: 5 | X20: 4 | Y20: 4 | Z20: 4 | AA20: 3 | AB20: 3 | AC20: 3 | AD20: 3 | AE20: 3 | AF20: 3 | AG20: 3 | AH20: 3 | AI20: 3 | AJ20: 3 | AK20: 3 | AL20: 3 | AM20: 3 | AN20: 2 | AO20: 2 | AP20: 2 | AQ20: 2 | AR20: 2 | AS20: 2 | AT20: 2 | AU20: 2 | AV20: 2
C22: 5. | D22: Contratos Disponíveis (Estoque) | H22: =COUNTIF([1]Estoque!K:K,"Disponível") -> 115 | K22: 115 | L22: 123 | M22: 117 | N22: 118 | O22: 121 | P22: 120 | Q22: 122 | R22: 122 | S22: 126 | T22: 126 | U22: 132 | V22: 135 | W22: 137 | X22: 139 | Y22: 141 | Z22: 142 | AA22: 144 | AB22: 149 | AC22: 151 | AD22: 160 | AE22: 174 | AF22: 180 | AG22: 186 | AH22: 194 | AI22: 205 | AJ22: 211 | AK22: 224 | AL22: 231 | AM22: 230 | AN22: 239 | AO22: 262 | AP22: 279 | AQ22: 289 | AR22: 287 | AS22: 259 | AT22: 260 | AU22: 258 | AV22: 252
C24: 6. | D24: Recebimentos - Total Mês Base | H24: =SUM(H26:H27) -> 49844.77 | K24: 53016.58 | L24: 285521.35 | M24: 50896.01 | N24: 69775.89 | O24: 84692.25 | P24: 96721.39 | Q24: 96145.56 | R24: 71587.17 | S24: 89179.21 | T24: 74813.81 | U24: 95690.66 | V24: 72058.73 | W24: 153553.87 | X24: 168069.65 | Y24: 107341.1 | Z24: 372008.58 | AA24: 73328.13 | AB24: 138669.02 | AC24: 126787.11 | AD24: 99823.34 | AE24: 126989.85 | AF24: 81851.46 | AG24: 84782.69 | AH24: 71483.67 | AI24: 88793.42 | AJ24: 97201.64 | AK24: 50380.49 | AL24: 63965.96 | AM24: 57574.69 | AN24: 66293.37 | AO24: 59846.65 | AP24: 49695.43 | AQ24: 213318.28 | AR24: 40045.21 | AS24: 149510.15 | AT24: 47011.18 | AU24: 60279.68 | AV24: 53940.2
D26: Elegível | H26: =SUMIFS([1]Recebimentos!$P:$P,[1]Recebimentos!$M:$M,"ELEGÍVEL",[1]Recebimentos!$F:$F,'Visão Geral'!$H$3) -> 49844.77 | K26: 53016.58 | L26: 285521.35 | M26: 50896.01 | N26: 69775.89 | O26: 84692.25 | P26: 96721.39 | Q26: 96145.56 | R26: 71587.17 | S26: 89179.21 | T26: 74813.81 | U26: 95690.66 | V26: 72058.73 | W26: 153553.87 | X26: 168069.65 | Y26: 102006.82 | Z26: 366683.67 | AA26: 68014.03 | AB26: 132351.51 | AC26: 126223.43 | AD26: 99409.09 | AE26: 126434.63 | AF26: 75536.7 | AG26: 82462.2 | AH26: 70471.39 | AI26: 88229.24 | AJ26: 97201.64 | AK26: 49833.56 | AL26: 54028.61 | AM26: 57055.02 | AN26: 66158.79 | AO26: 59846.65 | AP26: 45563.21 | AQ26: 208813.68 | AR26: 36017.37 | AS26: 147982.38 | AT26: 46634.14 | AU26: 58705.14 | AV26: 51278.6
D27: Inelegível | H27: =SUMIFS([1]Recebimentos!$P:$P,[1]Recebimentos!$M:$M,"INELEGÍVEL",[1]Recebimentos!$F:$F,'Visão Geral'!$H$3) -> 0 | K27: 0 | L27: 0 | M27: 0 | N27: 0 | O27: 0 | P27: 0 | Q27: 0 | R27: 0 | S27: 0 | T27: 0 | U27: 0 | V27: 0 | W27: 0 | X27: 0 | Y27: 5334.28 | Z27: 5324.91 | AA27: 5314.1 | AB27: 6317.51 | AC27: 563.68 | AD27: 414.25 | AE27: 555.22 | AF27: 6314.76 | AG27: 2320.49 | AH27: 1012.28 | AI27: 564.18 | AJ27: 0 | AK27: 546.93 | AL27: 9937.35 | AM27: 519.67 | AN27: 134.58 | AO27: 0 | AP27: 4132.22 | AQ27: 4504.6 | AR27: 4027.84 | AS27: 1527.77 | AT27: 377.04 | AU27: 1574.54 | AV27: 2661.6
C29: 7. | D29: Recebimentos com vencimento no mês | H29: =H31 -> 33340.16 | K29: 35557.7 | L29: 264342.43 | M29: 42184.85 | N29: 46481.62 | O29: 63697.89 | P29: 66967.22 | Q29: 73424.62 | R29: 57061.31 | S29: 54997.86 | T29: 56693.93 | U29: 77480.06 | V29: 63481.47 | W29: 119494.32 | X29: 148230.3 | Y29: 99448.55 | Z29: 351256.49 | AA29: 68086.47 | AB29: 112071.98 | AC29: 115716.05 | AD29: 82495.75 | AE29: 61745.58 | AF29: 59652.11 | AG29: 66867.34 | AH29: 50278.17 | AI29: 57614.15 | AJ29: 85528.28 | AK29: 42001.04 | AL29: 55378.14 | AM29: 53764.91 | AN29: 41098.36 | AO29: 52728.55 | AP29: 41093.39 | AQ29: 200744.77 | AR29: 31585.85 | AS29: 134114.13 | AT29: 38382.63 | AU29: 52395.14 | AV29: 44995.66
D31: Carteira do Mês - Valor Total | H31: =SUMIFS([1]Recebimentos!$P:$P,[1]Recebimentos!$F:$F,'Visão Geral'!$H$3,[1]Recebimentos!$K:$K,"Mês") -> 33340.16 | K31: 35557.7 | L31: 264342.43 | M31: 42184.85 | N31: 46481.62 | O31: 63697.89 | P31: 66967.22 | Q31: 73424.62 | R31: 57061.31 | S31: 54997.86 | T31: 56693.93 | U31: 77480.06 | V31: 63481.47 | W31: 119494.32 | X31: 148230.3 | Y31: 99448.55 | Z31: 351256.49 | AA31: 68086.47 | AB31: 112071.98 | AC31: 115716.05 | AD31: 82495.75 | AE31: 61745.58 | AF31: 59652.11 | AG31: 66867.34 | AH31: 50278.17 | AI31: 57614.15 | AJ31: 85528.28 | AK31: 42001.04 | AL31: 55378.14 | AM31: 53764.91 | AN31: 41098.36 | AO31: 52728.55 | AP31: 41093.39 | AQ31: 200744.77 | AR31: 31585.85 | AS31: 134114.13 | AT31: 38382.63 | AU31: 52395.14 | AV31: 44995.66
D32: Carteira do Mês - Nº de Contratos | H32: 33 | K32: 33 | L32: 37 | M32: 37 | N32: 41 | O32: 46 | P32: 46 | Q32: 48 | R32: 52 | S32: 52 | T32: 50 | U32: 50 | V32: 52 | W32: 61 | X32: 63 | Y32: 63 | Z32: 66 | AA32: 68 | AB32: 68 | AC32: 64 | AD32: 64 | AE32: 73 | AF32: 70 | AG32: 68 | AH32: 68 | AI32: 69 | AJ32: 60 | AK32: 58 | AL32: 49 | AM32: 49 | AN32: 51 | AO32: 44 | AP32: 44 | AQ32: 46 | AR32: 42 | AS32: 54 | AT32: 57 | AU32: 32 | AV32: 32
C34: 8. | D34: Recebimentos - Antecipações | H34: =SUMIFS([1]Recebimentos!P:P,[1]Recebimentos!K:K,"Antecipação",[1]Recebimentos!F:F,'Visão Geral'!H3) -> 0 | K34: 0 | L34: 0 | M34: 0 | N34: 0 | O34: 0 | P34: 0 | Q34: 0 | R34: 0 | S34: 17039.79 | T34: 0 | U34: 0 | V34: 0 | W34: 0 | X34: 0 | Y34: 0 | Z34: 0 | AA34: 0 | AB34: 0 | AC34: 0 | AD34: 4341.85 | AE34: 0 | AF34: 0 | AG34: 0 | AH34: 0 | AI34: 0 | AJ34: 0 | AK34: 0 | AL34: 0 | AM34: 0 | AN34: 0 | AO34: 0 | AP34: 0 | AQ34: 0 | AR34: 0 | AS34: 0 | AT34: 0 | AU34: 0 | AV34: 0
C36: 9. | D36: Recebimentos - Parcelas em atraso | H36: =SUMIFS([1]Recebimentos!P:P,[1]Recebimentos!K:K,"Atraso",[1]Recebimentos!F:F,H3) -> 16504.61 | K36: 17458.88 | L36: 21178.92 | M36: 8711.16 | N36: 23294.27 | O36: 20994.36 | P36: 29754.17 | Q36: 22720.94 | R36: 14525.86 | S36: 17141.56 | T36: 18119.88 | U36: 18210.6 | V36: 8577.26 | W36: 34059.55 | X36: 19839.35 | Y36: 7892.55 | Z36: 20752.09 | AA36: 5241.66 | AB36: 26597.04 | AC36: 11071.06 | AD36: 12985.74 | AE36: 65244.27 | AF36: 22199.35 | AG36: 17915.35 | AH36: 21205.5 | AI36: 31179.27 | AJ36: 135252.08 | AK36: 8379.45 | AL36: 8587.82 | AM36: 3809.78 | AN36: 25195.01 | AO36: 7118.1 | AP36: 8602.04 | AQ36: 12573.51 | AR36: 8459.36 | AS36: 15396.02 | AT36: 8628.55 | AU36: 7884.54 | AV36: 8944.54
C38: 10. | D38: Inadimplência | H38: =[1]Inadimplência!$J$10 -> 13846447 | K38: 903592.8 | L38: 409237.84 | M38: 548005.53 | N38: 527145.5 | O38: 553729.27 | P38: 493293.66 | Q38: 291184.54 | R38: 109730.63 | S38: 139834.38 | T38: 169000.61 | U38: 307116.55 | V38: 315754.91 | W38: 258477.17 | X38: 778914.23 | Y38: 272712.58 | Z38: 407967.83 | AA38: 440224.32 | AB38: 478000.95 | AC38: 478341.46 | AD38: 463489.57 | AE38: 265016.48 | AF38: 248093.23 | AG38: 249708.48 | AH38: 424165.89 | AI38: 381903.55 | AJ38: 177453.58 | AK38: 145029.46 | AL38: 194150.57 | AM38: 137840.17 | AN38: 148045.11 | AO38: 193750.13 | AP38: 188585.73 | AQ38: 162745.14 | AR38: 161404.91 | AS38: 216729.29 | AT38: 251308.15 | AU38: 242924.21 | AV38: 207717.54
C39: OBS: Parcelas de financiamento previstas para janeiro devido previsão da data de entrega para o mesmo mês, devido não ter acontecido, parcelas permacenem vencidas e não pagas.
C40: 11. | D40: Total de contratos inadimplentes | H40: =[1]Inadimplência!$I$10 -> 73 | K40: 27 | L40: 18 | M40: 20 | N40: 18 | O40: 47 | P40: 13 | Q40: 12 | R40: 16 | S40: 18 | T40: 20 | U40: 27 | V40: 21 | W40: 31 | X40: 19 | Y40: 13 | Z40: 23 | AA40: 24 | AB40: 28 | AC40: 28 | AD40: 25 | AE40: 31 | AF40: 29 | AG40: 32 | AH40: 31 | AI40: 35 | AJ40: 27 | AK40: 22 | AL40: 75 | AM40: 19 | AN40: 23 | AO40: 25 | AP40: 26 | AQ40: 23 | AR40: 30 | AS40: 35 | AT40: 31 | AU40: 32 | AV40: 38
C42: 12. | D42: Inadimplência - Acima 3 parcelas em atraso | H42: ='[1]Atraso acima 3 Parcelas'!K11 -> 0 | K42: 1405634.7 | L42: 2783719 | M42: 1339171.2 | N42: 1002237.9 | O42: 998619.9 | P42: 685976.16 | Q42: 683595.06 | R42: 1016083.9 | S42: 1294754 | T42: 1140771.3 | U42: 1139269.3 | V42: 1092880.5 | W42: 913716.6 | X42: 929839 | Y42: 980612.22 | Z42: 1483028.2 | AA42: 1423189.5 | AB42: 1941077.7 | AC42: 1970521.5 | AD42: 2168380.2 | AE42: 2277812.6 | AF42: 2138412.4 | AG42: 1939319.1 | AH42: 1976061.1 | AI42: 1579517.2 | AJ42: 1565206.8 | AK42: 1384032.6 | AL42: 2021720.6 | AM42: 2027732.4 | AN42: 2194880.4 | AO42: 2430403.8 | AP42: 2430206.2 | AQ42: 2292541.5 | AR42: 2145435.9 | AS42: 2917623.3 | AT42: 3406345.9 | AU42: 3101690.7 | AV42: 3126872.4
D44: Saldo Vencido | H44: ='[1]Atraso acima 3 Parcelas'!J11 -> 0 | K44: 92162.53 | L44: 26770.99 | M44: 92765.42 | N44: 75561.23 | O44: 72956.34 | P44: 66831.62 | Q44: 65996.68 | R44: 76900.24 | S44: 107596.74 | T44: 102501.8 | U44: 102722.26 | V44: 112811.87 | W44: 171130.55 | X44: 153834.5 | Y44: 261502.34 | Z44: 167661.02 | AA44: 172746.15 | AB44: 211150.05 | AC44: 232531.94 | AD44: 227395.86 | AE44: 226165.75 | AF44: 207397.79 | AG44: 199465.83 | AH44: 183591.4 | AI44: 109115.3 | AJ44: 121548.32 | AK44: 90419.63 | AL44: 126656.99 | AM44: 120645.26 | AN44: 2194880.4 | AO44: 2430403.8 | AP44: 2430206.2 | AQ44: 2292541.5 | AR44: 2145435.9 | AS44: 2917623.3 | AT44: 3406345.9 | AU44: 3101690.7 | AV44: 3126872.4
D45: Saldo a Vencer | H45: ='[1]Atraso acima 3 Parcelas'!L11 -> 0 | K45: 1497797.2 | L45: 2810489.9 | M45: 1431936.6 | N45: 1077799.2 | O45: 1071576.2 | P45: 752807.78 | Q45: 749591.74 | R45: 1092984.1 | S45: 1402350.8 | T45: 1243273.1 | U45: 1241991.6 | V45: 1205692.4 | W45: 1084847.1 | X45: 1083673.5 | Y45: 1242114.6 | Z45: 1650689.2 | AA45: 1595935.6 | AB45: 2152227.8 | AC45: 2203053.4 | AD45: 2395776.1 | AE45: 2503978.3 | AF45: 2345810.2 | AG45: 2138784.9 | AH45: 2159652.5 | AI45: 1688632.5 | AJ45: 1686755.1 | AK45: 1474452.3 | AL45: 2148377.6 | AM45: 2148377.6 | AN45: 2328388.3 | AO45: 2611482.6 | AP45: 2601508.8 | AQ45: 2441198.5 | AR45: 2293769 | AS45: 3060924 | AT45: 3603924.1 | AU45: 3280226.8 | AV45: 3290772.2
C47: 13. | D47: Total de contratos inadimplentes - Atraso acima de 3 parcelas | H47: ='[1]Atraso acima 3 Parcelas'!B11 -> 0 | K47: 7 | L47: 15 | M47: 8 | N47: 6 | O47: 6 | P47: 4 | Q47: 4 | R47: 6 | S47: 8 | T47: 7 | U47: 7 | V47: 7 | W47: 7 | X47: 7 | Y47: 8 | Z47: 10 | AA47: 10 | AB47: 13 | AC47: 13 | AD47: 13 | AE47: 15 | AF47: 14 | AG47: 13 | AH47: 13 | AI47: 10 | AJ47: 10 | AK47: 9 | AL47: 13 | AM47: 16 | AN47: 16 | AO47: 18 | AP47: 19 | AQ47: 14 | AR47: 14 | AS47: 19 | AT47: 22 | AU47: 20 | AV47: 26
C49: 14. | D49: Participação da inadimplência acima de 3 parcelas em atraso sobre o saldo devedor da Carteira | H49: ='[1]Atraso acima 3 Parcelas'!M11 -> 0 | K49: 0.028119489 | L49: 0.0555956 | M49: 0.027827213 | N49: 0.021237699 | O49: 0.021611177 | P49: 0.015122366 | Q49: 0.015290263 | R49: 0.0224539 | S49: 0.029649077 | T49: 0.026285791 | U49: 0.027121167 | V49: 0.026688697 | W49: 0.024337777 | X49: 0.024562391 | Y49: 0.028383227 | Z49: 0.038183553 | AA49: 0.037157984 | AB49: 0.051052383 | AC49: 0.05336084 | AD49: 0.063708193 | AE49: 0.067927461 | AF49: 0.065325505 | AG49: 0.061420396 | AH49: 0.064255585 | AI49: 0.053924642 | AJ49: 0.055853963 | AK49: 0.052992071 | AL49: 0.080200146 | AM49: 0.08017309 | AN49: 0.092562761 | AO49: 0.12699719 | AP49: 0.15153252 | AQ49: 0.16168018 | AR49: 0.14790591 | AS49: 0.15456569 | AT49: 0.18229347 | AU49: 0.16291254 | AV49: 0.15518606
C51: 15. | D51: Contratos Vendidos no mês - Qtde | H51: =SUM(H53:H54) -> 2 | K51: 10 | L51: 0 | M51: 0 | N51: 2 | O51: 0 | P51: 3 | Q51: 2 | R51: 5 | S51: 0 | T51: 4 | U51: 1 | V51: 1 | W51: 1 | X51: 3 | Y51: 5 | Z51: 2 | AA51: 4 | AB51: 6 | AC51: 10 | AD51: 6 | AE51: 8 | AF51: 6 | AG51: 9 | AH51: 10 | AI51: 6 | AJ51: 14 | AK51: 8 | AL51: 0 | AM51: 11 | AN51: 13 | AO51: 14 | AP51: 11 | AQ51: 4 | AR51: 2 | AS51: 1 | AT51: 0 | AU51: 0 | AV51: 0
D53: 15.1 a vista | H53: =COUNTIF([1]Vendas!$J:$J,"a vista") -> 0 | K53: 1 | L53: 0 | M53: 0 | N53: 0 | O53: 0 | P53: 0 | Q53: 0 | R53: 0 | S53: 0 | T53: 0 | U53: 0 | V53: 0 | W53: 0 | X53: 1 | Y53: 0 | Z53: 0 | AA53: 0 | AB53: 0 | AC53: 0 | AD53: 0 | AE53: 0 | AF53: 0 | AG53: 0 | AH53: 0 | AI53: 0 | AJ53: 0 | AK53: 0 | AL53: 0 | AM53: 0 | AN53: 0 | AO53: 0 | AP53: 0 | AQ53: 0 | AR53: 0 | AS53: 0 | AT53: 0 | AU53: 0 | AV53: 0
D54: 15.1 a prazo | H54: =COUNTIF([1]Vendas!$J:$J,"a prazo") -> 2 | K54: 9 | L54: 0 | M54: 0 | N54: 2 | O54: 0 | P54: 3 | Q54: 2 | R54: 5 | S54: 0 | T54: 4 | U54: 1 | V54: 1 | W54: 1 | X54: 2 | Y54: 5 | Z54: 2 | AA54: 4 | AB54: 6 | AC54: 10 | AD54: 6 | AE54: 8 | AF54: 6 | AG54: 9 | AH54: 10 | AI54: 6 | AJ54: 14 | AK54: 8 | AL54: 0 | AM54: 11 | AN54: 13 | AO54: 14 | AP54: 11 | AQ54: 4 | AR54: 2 | AS54: 1 | AT54: 0 | AU54: 0 | AV54: 0
C56: 16. | D56: Contratos Vendidos no mês - Valor | H56: =SUM(H58:H59) -> 534494.22 | K56: 2666572.6 | L56: 0 | M56: 0 | N56: 545876.93 | O56: 0 | P56: 803680.11 | Q56: 530000 | R56: 1283429.7 | S56: 0 | T56: 949497.68 | U56: 224000.05 | V56: 177245.74 | W56: 224000.08 | X56: 691340.44 | Y56: 1089207.6 | Z56: 493768.93 | AA56: 883348.18 | AB56: 1283656.3 | AC56: 1909500.8 | AD56: 1094549.6 | AE56: 1461943.1 | AF56: 1084000 | AG56: 1649440 | AH56: 1840704.5 | AI56: 1112000.3 | AJ56: 2599717.1 | AK56: 1459641.1 | AL56: 0 | AM56: 2015867.5 | AN56: 2489864.9 | AO56: 2748455.6 | AP56: 2125685 | AQ56: 750126.84 | AR56: 343203.56 | AS56: 156825 | AT56: 0 | AU56: 0 | AV56: 0
D58: 16.1 a vista | H58: =SUMIFS([1]Vendas!$H:$H,[1]Vendas!$J:$J,"a vista") -> 0 | K58: 279635.52 | L58: 0 | M58: 0 | N58: 0 | O58: 0 | P58: 0 | Q58: 0 | R58: 0 | S58: 0 | T58: 0 | U58: 0 | V58: 0 | W58: 0 | X58: 224000.08 | Y58: 0 | Z58: 0 | AA58: 0 | AB58: 0 | AC58: 0 | AD58: 0 | AE58: 0 | AF58: 0 | AG58: 0 | AH58: 0 | AI58: 0 | AJ58: 0 | AK58: 0 | AL58: 0 | AM58: 0 | AN58: 0 | AO58: 0 | AP58: 0 | AQ58: 0 | AR58: 0 | AS58: 0 | AT58: 0 | AU58: 0 | AV58: 0
D59: 16.1 a prazo | H59: =SUMIFS([1]Vendas!$H:$H,[1]Vendas!$J:$J,"a prazo") -> 534494.22 | K59: 2386937 | L59: 0 | M59: 0 | N59: 545876.93 | O59: 0 | P59: 803680.11 | Q59: 530000 | R59: 1283429.7 | S59: 0 | T59: 949497.68 | U59: 224000.05 | V59: 177245.74 | W59: 224000.08 | X59: 467340.36 | Y59: 1089207.6 | Z59: 493768.93 | AA59: 883348.18 | AB59: 1283656.3 | AC59: 1909500.8 | AD59: 1094549.6 | AE59: 1461943.1 | AF59: 1084000 | AG59: 1649440 | AH59: 1840704.5 | AI59: 1112000.3 | AJ59: 2599717.1 | AK59: 1459641.1 | AL59: 0 | AM59: 2015867.5 | AN59: 2489864.9 | AO59: 2748455.6 | AP59: 2125685 | AQ59: 750126.84 | AR59: 343203.56 | AS59: 156825 | AT59: 0 | AU59: 0 | AV59: 0
C61: 17. | D61: Contratos Vendidos Cadastro Retroativo | H61: =SUM(H63:H64) -> 0 | K61: 0 | L61: 0 | M61: 809999 | N61: 255850 | O61: 0 | P61: 0 | Q61: 0 | R61: 0 | S61: 0 | T61: 925855.55 | U61: 667638.17 | V61: 484437.73 | W61: 234180.43 | X61: 0 | Y61: 805989.56 | Z61: 231001 | AA61: 632701.4 | AB61: 391903.84 | AC61: 0 | AD61: 1866998.3 | AE61: 0 | AF61: 0 | AG61: 551958.8 | AH61: 520303.16 | AI61: 180001 | AJ61: 0 | AK61: 0 | AL61: 0 | AM61: 0 | AN61: 2168852.5 | AO61: 976960
D63: 17.1 Qtde | H63: =COUNTIF([1]Vendas!$J:$J,"retroativo") -> 0 | K63: 0 | L63: 0 | M63: 3 | N63: 1 | O63: 0 | P63: 0 | Q63: 0 | R63: 0 | S63: 0 | T63: 4 | U63: 3 | V63: 2 | W63: 1 | X63: 0 | Y63: 4 | Z63: 1 | AA63: 3 | AB63: 2 | AC63: 0 | AD63: 10 | AE63: 0 | AF63: 0 | AG63: 3 | AH63: 3 | AI63: 1 | AJ63: 0 | AK63: 0 | AL63: 0 | AM63: 0 | AN63: 11 | AO63: 5
D64: 17.2 valor | H64: =SUMIFS([1]Vendas!$H:$H,[1]Vendas!$J:$J,"retroativo") -> 0 | K64: 0 | L64: 0 | M64: 809996 | N64: 255849 | O64: 0 | P64: 0 | Q64: 0 | R64: 0 | S64: 0 | T64: 925851.55 | U64: 667635.17 | V64: 484435.73 | W64: 234179.43 | X64: 0 | Y64: 805985.56 | Z64: 231000 | AA64: 632698.4 | AB64: 391901.84 | AC64: 0 | AD64: 1866988.3 | AE64: 0 | AF64: 0 | AG64: 551955.8 | AH64: 520300.16 | AI64: 180000 | AJ64: 0 | AK64: 0 | AL64: 0 | AM64: 0 | AN64: 2168841.5 | AO64: 976955
C66: 18. | D66: Distratos no mês | H66: =COUNT([1]Distrato!J:J) -> 2 | K66: 2 | L66: 6 | M66: 2 | N66: 0 | O66: 1 | P66: 1 | Q66: 2 | R66: 1 | S66: 0 | T66: 1 | U66: 1 | V66: 1 | W66: 0 | X66: 1 | Y66: 8 | Z66: 2 | AA66: 4 | AB66: 4 | AC66: 1 | AD66: 2 | AE66: 2 | AF66: 0 | AG66: 4 | AH66: 2 | AI66: 1 | AJ66: 1 | AK66: 2 | AL66: 1 | AM66: 2 | AN66: 1 | AO66: 2 | AP66: 2 | AQ66: 11 | AR66: 29 | AS66: 0 | AT66: 2 | AU66: 6 | AV66: 1
C68: 19. | D68: Análise do Mês - Realizado | H68: =H71/H70 -> 0.072749133 | K68: 0.0025561782 | L68: 0.83906466 | M68: 0.64564066 | N68: 0.66462159 | O68: 0.45552831 | P68: 0.65288464 | Q68: 0.14867703 | R68: 0.12345195 | S68: 0.71319535 | T68: 0.59315199 | U68: 0.81305099 | V68: 0.77194812 | W68: 0.24379757 | X68: 0.60051471 | Y68: 0.085855173 | Z68: 0.94949771 | AA68: 0.22784293 | AB68: 0.85679916 | AC68: 0.75645941 | AD68: 0.26404785 | AE68: 0.7034163 | AF68: 0.41671421 | AG68: 0.67332181 | AH68: 0.52627774 | AI68: 0.29753278 | AJ68: 0.56646043 | AK68: 0.46055221 | AL68: 0.46013611 | AM68: 0.79489771 | AN68: 0.16279117 | AO68: 0.81845278 | AP68: 0.47737544 | AQ68: 0.93706109 | AR68: 0.36094162 | AS68: 0.84032768 | AT68: 0.63589102 | AU68: 0.41432882 | AV68: 0.61860321
...
