Workbook
Name ajuste: #REF!
Name ajuste: #REF!
Name ajuste: #REF!
Name ajustemora: #REF!
Name ajustemora: #REF!
Name ajustemora: #REF!
Name AMT.SENIOR: OFFSET([2]Fluxo!$U$5,0,0,[2]Fluxo!$E$21)
Name AMT.SENIOR.CONS: OFFSET([2]Consolidado!$D$4,0,0,COUNTIF([2]Consolidado!$D:$D,">0"))
Name AMT.SUB: OFFSET([3]Fluxo!#REF!,0,0,[3]Fluxo!#REF!)
Name AMT.SUB.CONS: OFFSET([4]Consolidado!$H$4,0,0,COUNTIF([4]Consolidado!$H:$H,">0"))
Name ANO: OFFSET([2]Fluxo!$H$5,0,0,[2]Fluxo!$E$7)
Name ANO.CONS: OFFSET([2]Consolidado!$B$4,0,0,COUNTIF([2]Consolidado!$E:$E,">0"))
Name bbb: OFFSET([3]Fluxo!#REF!,0,0,[3]Fluxo!#REF!)
Name cahng: OFFSET([5]Fluxo!#REF!,0,0,[5]Fluxo!#REF!)
Name cccc: OFFSET([3]Fluxo!#REF!,0,0,[3]Fluxo!#REF!)
Name cccccc: OFFSET([3]Fluxo!#REF!,0,0,[3]Fluxo!#REF!)
Name CUSTO: OFFSET([2]Fluxo!$N$5,0,0,[2]Fluxo!$E$21-1)
Name CUSTO.CONS: OFFSET([2]Consolidado!$J$4,0,0,COUNTIF([2]Consolidado!$J:$J,">0"))
Name danalise: [6]PAINEL!$B$4
Name DATA: OFFSET([2]Fluxo!$I$5,0,0,[2]Fluxo!$E$7)
Name database: Template!$C$5
Name database: #REF!
Name datarecompra: #REF!
Name datarecompra: #REF!
Name datarecompra: #REF!
Name datarecompraabril: #REF!
Name datarecompraabril: #REF!
Name datarecompraabril: #REF!
Name dbase: [7]PAINEL!$B$5
Name e: OFFSET([5]Fluxo!#REF!,0,0,[5]Fluxo!#REF!)
Name f: OFFSET([3]Fluxo!#REF!,0,0,[3]Fluxo!#REF!)
Name Feriados: [2]Feriados!$A$2:$A$937
Name JUROS.SENIOR: OFFSET([2]Fluxo!$T$5,0,0,[2]Fluxo!$E$21)
Name JUROS.SENIOR.CONS: OFFSET([2]Consolidado!$C$4,0,0,COUNTIF([2]Consolidado!$C:$C,">0"))
Name JUROS.SUB: OFFSET([3]Fluxo!#REF!,0,0,[3]Fluxo!#REF!)
Name JUROS.SUB.CONS: OFFSET([4]Consolidado!$G$4,0,0,COUNTIF([4]Consolidado!$G:$G,">0"))
Name PERIODO: OFFSET([2]Fluxo!$G$5,0,0,[2]Fluxo!$E$7)
Name PMT.CARTEIRA: OFFSET([2]Fluxo!$K$5,0,0,[2]Fluxo!$E$7)
Name PMT.LIQUIDA: OFFSET([2]Fluxo!$P$5,0,0,[2]Fluxo!$E$7+1)
Name PMT.SENIOR: OFFSET([2]Fluxo!$V$5,0,0,[2]Fluxo!$E$21)
Name PMT.SENIOR.CONS: OFFSET([2]Consolidado!$E$4,0,0,COUNTIF([2]Consolidado!$E:$E,">0"))
Name PMT.SUB: OFFSET([3]Fluxo!#REF!,0,0,[3]Fluxo!#REF!)
Name PMT.SUB.CONS: OFFSET([4]Consolidado!$I$4,0,0,COUNTIF([4]Consolidado!$I:$I,">0"))
Name SD.RECEBIVEIS: OFFSET([2]Fluxo!$J$4,0,0,[2]Fluxo!$E$7+1)
Name SD.RESERVA: OFFSET([2]Fluxo!$O$5,0,0,[2]Fluxo!$E$21-1)
Name SD.SENIOR: OFFSET([2]Fluxo!$S$4,0,0,[2]Fluxo!$E$21)
Name SD.SUB: OFFSET([3]Fluxo!#REF!,0,0,[3]Fluxo!#REF!)
Name xvf: OFFSET(#REF!,0,0,#REF!-1)
Name zxcc: OFFSET(#REF!,0,0,#REF!)
Name zxcxz: OFFSET(#REF!,0,0,COUNTIF(#REF!,">0"))
Name zxcxzc: OFFSET(#REF!,0,0,#REF!+1)

Sheet Template
B2: COMPANHIA PROVÍNCIA DE SECURITIZAÇÃO
B3: Performance Mensal |CRI_94E01S_SWISS PARK
B5: Mês ano referencia | C5: 45747
B6: ID da Carteira | C6: CRI_94E01S_SWISS PARK
B7: Número de contratos ativos | C7: 91
B8: Total Empreendimento | C8: 502
B9: Esperado a receber no Mês de Juros | C9: 99922.25
B10: Esperado de receber no Mês de Amortização | C10: 418008.74
B11: Esperado a receber no Mês de Seguros | C11: 0
B12: Esperado a Receber no Mês Tx Administração | C12: 0
B13: Recebido no Mês de parcelas do Mês - Juros | C13: 91233.35
B14: Recebido no Mês de parcelas do Mês - Amortização | C14: 414166.59
B15: Recebido no Mês de parcelas do Mês - Seguros
B16: Recebido no Mês de parcelas do Mês - Tx Adm
B17: Recebido no Mês de Antecipação - Juros | C17: 8160.44
B18: Recebido no Mês de Antecipação - Amortização | C18: 36775.76
B19: Recebido no Mês de Antecipação - Seguro
B20: Recebido no Mês de Antecipação - Tx Adm
B21: Recebido no mês de Inadimplência - Juros | C21: 11238.45
B22: Recebido no mês de Inadimplência - Amortização | C22: 12404.56
B23: Recebido no mês de Inadimplência - Seguro
B24: Recebido no mês de Inadimplência - Tx Adm
B25: Rebebido no mês de Inadimplência - Tx de Cobrança
B26: Recebido no Mês de Juros e Mora | C26: 1228.5
B27: Saldo devedor da carteira Adimplente pré evento do mês | C27: 0
B28: Saldo devedor da carteira Inadimplente pré evento do mês | C28: 0
B29: Saldo devedor da carteira Adimplente pós evento do mês | C29: =SUM(FluxoFuturo!K3:K93) -> 22943714
B30: Saldo devedor da carteira Inadimplente pós evento do mês | C30: 20651.95
B31: Saldo Inadimplência Mês | C31: 20651.95
B32: Saldo Inadimplência Geral | C32: 20651.95
B33: Vencidos E Não Pagos Até 30 Dias | C33: =SUMIFS(Inadimplência!Q:Q,Inadimplência!V:V,Template!B33) -> 20651.95
B34: Vencidos E Não Pagos De 31 A 60 Dias | C34: 0
B35: Vencidos E Não Pagos De 61 A 90 Dias | C35: 0
B36: Vencidos E Não Pagos De 91 A 120 Dias | C36: 0
B37: Vencidos E Não Pagos De 121 A 150 Dias | C37: 0
B38: Vencidos E Não Pagos De 151 A 180 Dias | C38: 0
B39: Vencidos E Não Pagos Acima De 180 Dias | C39: 0
B40: Pagos Antecipadamente Até 30 Dias | C40: =SUMIFS(Recebimento!N:N,Recebimento!AK:AK,Template!B40) -> 16684.48
B41: Pagos Antecipadamente De 31 A 60 Dias | C41: =SUMIFS(Recebimento!N:N,Recebimento!AK:AK,Template!B41) -> 9194.71
B42: Pagos Antecipadamente De 61 A 90 Dias | C42: =SUMIFS(Recebimento!N:N,Recebimento!AK:AK,Template!B42) -> 0
...

Sheet Planilha5
A1: Crédito | B1: Maior Valor | C1: Saldo devedor | D1: Saldo Devedor dos creditos em atraso | E1: Qtade parcelas Atraso | F1: Saldo Devedor dos creditos em atraso - Por Parcela | G1: Inadimplencia | H1: VP | R1: Saldo Devedor dos creditos em atraso - Por Parcela
A2: 6388 | B2: =_xlfn.MAXIFS(Inadimplência!S:S,Planilha5!A:A,Planilha5!A2) -> 10 | C2: =VLOOKUP(A2,FluxoFuturo!B:L,10,0) -> 190842.48 | D2: =IF(B2<0,"Adimplente",IF(B2<=30,"Vencidos e Não Pagos Até 30 Dias",IF(B2<=61,"Vencidos e Não Pagos De 31 A 60 Dias",IF(B2<=90,"Vencidos E Não Pagos De 61 A 90 Dias",IF(B2<=120,"Vencidos e Não Pagos De 91 A 120 Dias",IF(B2<=150,"Vencidos e Não Pagos De 121 A 150 Dias",IF(B2<=180,"Vencidos e Não Pagos De 151 A 180 Dias",IF(B2>180,"Vencidos E Não Pagos Acima de 180 Dias","")))))))) -> Vencidos e Não Pagos Até 30 Dias | E2: 1 | F2: =IF(E2=1,$R$2,IF(E2=2,$R$3,IF(E2=3,$R$4,IF(E2=4,$R$5,IF(E2=5,$R$6,IF(E2=6,$R$7,IF(E2>6,$R$8))))))) -> 01 - Uma Parcela | G2: =VLOOKUP(A2,FluxoFuturo!B:J,9,0) -> 8137.32 | H2: =VLOOKUP(A2,FluxoFuturo!B:K,10,0) -> 190842.48 | R2: 01 - Uma Parcela
A3: 6394 | B3: =_xlfn.MAXIFS(Inadimplência!S:S,Planilha5!A:A,Planilha5!A3) -> 10 | C3: =VLOOKUP(A3,FluxoFuturo!B:L,10,0) -> 255389.83 | D3: =IF(B3<0,"Adimplente",IF(B3<=30,"Vencidos e Não Pagos Até 30 Dias",IF(B3<=61,"Vencidos e Não Pagos De 31 A 60 Dias",IF(B3<=90,"Vencidos E Não Pagos De 61 A 90 Dias",IF(B3<=120,"Vencidos e Não Pagos De 91 A 120 Dias",IF(B3<=150,"Vencidos e Não Pagos De 121 A 150 Dias",IF(B3<=180,"Vencidos e Não Pagos De 151 A 180 Dias",IF(B3>180,"Vencidos E Não Pagos Acima de 180 Dias","")))))))) -> Vencidos e Não Pagos Até 30 Dias | E3: 1 | F3: =IF(E3=1,$R$2,IF(E3=2,$R$3,IF(E3=3,$R$4,IF(E3=4,$R$5,IF(E3=5,$R$6,IF(E3=6,$R$7,IF(E3>6,$R$8))))))) -> 01 - Uma Parcela | G3: =VLOOKUP(A3,FluxoFuturo!B:J,9,0) -> 3019.18 | H3: =VLOOKUP(A3,FluxoFuturo!B:K,10,0) -> 255389.83 | R3: 02 - Duas Parcelas
A4: 6396 | B4: =_xlfn.MAXIFS(Inadimplência!S:S,Planilha5!A:A,Planilha5!A4) -> 10 | C4: =VLOOKUP(A4,FluxoFuturo!B:L,10,0) -> 270620.5 | D4: =IF(B4<0,"Adimplente",IF(B4<=30,"Vencidos e Não Pagos Até 30 Dias",IF(B4<=61,"Vencidos e Não Pagos De 31 A 60 Dias",IF(B4<=90,"Vencidos E Não Pagos De 61 A 90 Dias",IF(B4<=120,"Vencidos e Não Pagos De 91 A 120 Dias",IF(B4<=150,"Vencidos e Não Pagos De 121 A 150 Dias",IF(B4<=180,"Vencidos e Não Pagos De 151 A 180 Dias",IF(B4>180,"Vencidos E Não Pagos Acima de 180 Dias","")))))))) -> Vencidos e Não Pagos Até 30 Dias | E4: 1 | F4: =IF(E4=1,$R$2,IF(E4=2,$R$3,IF(E4=3,$R$4,IF(E4=4,$R$5,IF(E4=5,$R$6,IF(E4=6,$R$7,IF(E4>6,$R$8))))))) -> 01 - Uma Parcela | G4: =VLOOKUP(A4,FluxoFuturo!B:J,9,0) -> 3166.03 | H4: =VLOOKUP(A4,FluxoFuturo!B:K,10,0) -> 270620.5 | R4: 03 - Três Parcelas
A5: 6409 | B5: =_xlfn.MAXIFS(Inadimplência!S:S,Planilha5!A:A,Planilha5!A5) -> 10 | C5: =VLOOKUP(A5,FluxoFuturo!B:L,10,0) -> 270507.6 | D5: =IF(B5<0,"Adimplente",IF(B5<=30,"Vencidos e Não Pagos Até 30 Dias",IF(B5<=61,"Vencidos e Não Pagos De 31 A 60 Dias",IF(B5<=90,"Vencidos E Não Pagos De 61 A 90 Dias",IF(B5<=120,"Vencidos e Não Pagos De 91 A 120 Dias",IF(B5<=150,"Vencidos e Não Pagos De 121 A 150 Dias",IF(B5<=180,"Vencidos e Não Pagos De 151 A 180 Dias",IF(B5>180,"Vencidos E Não Pagos Acima de 180 Dias","")))))))) -> Vencidos e Não Pagos Até 30 Dias | E5: 1 | F5: =IF(E5=1,$R$2,IF(E5=2,$R$3,IF(E5=3,$R$4,IF(E5=4,$R$5,IF(E5=5,$R$6,IF(E5=6,$R$7,IF(E5>6,$R$8))))))) -> 01 - Uma Parcela | G5: =VLOOKUP(A5,FluxoFuturo!B:J,9,0) -> 3164.71 | H5: =VLOOKUP(A5,FluxoFuturo!B:K,10,0) -> 270507.6 | R5: 04 - Quatro Parcelas
A6: 6410 | B6: =_xlfn.MAXIFS(Inadimplência!S:S,Planilha5!A:A,Planilha5!A6) -> 10 | C6: =VLOOKUP(A6,FluxoFuturo!B:L,10,0) -> 270507.6 | D6: =IF(B6<0,"Adimplente",IF(B6<=30,"Vencidos e Não Pagos Até 30 Dias",IF(B6<=61,"Vencidos e Não Pagos De 31 A 60 Dias",IF(B6<=90,"Vencidos E Não Pagos De 61 A 90 Dias",IF(B6<=120,"Vencidos e Não Pagos De 91 A 120 Dias",IF(B6<=150,"Vencidos e Não Pagos De 121 A 150 Dias",IF(B6<=180,"Vencidos e Não Pagos De 151 A 180 Dias",IF(B6>180,"Vencidos E Não Pagos Acima de 180 Dias","")))))))) -> Vencidos e Não Pagos Até 30 Dias | E6: 1 | F6: =IF(E6=1,$R$2,IF(E6=2,$R$3,IF(E6=3,$R$4,IF(E6=4,$R$5,IF(E6=5,$R$6,IF(E6=6,$R$7,IF(E6>6,$R$8))))))) -> 01 - Uma Parcela | G6: =VLOOKUP(A6,FluxoFuturo!B:J,9,0) -> 3164.71 | H6: =VLOOKUP(A6,FluxoFuturo!B:K,10,0) -> 270507.6 | R6: 05 - Cinco Parcelas
R7: 06 - Seis parcelas
R8: Maior que seis parcelas

Sheet Resumo
E3: Relatório Consolidado
B6: Base do relatório Mensal | F6: Março/2025
B7: Total de unidades ativas | F7: 91
B8: Total de clientes quitados | F8: 3
B9: Recebimentos
B10: A receber (mês) | F10: 517930.99
B11: Valor recebido total | F11: 575207.65
B12: Diferença Recebimento Total x Recebimento Mês
B13: Recebimento Regular | F13: 506004.32
B14: Antecipação | F14: 44936.2
B15: Recebimento em atraso | F15: 24267.13
B16: Inadimplência
B17: Inadimplência (mês) | F17: 23242.43
B18: Inadimplência total | F18: 23242.43

Sheet Recebimento
N1: =SUM(SUBTOTAL(9,N3:N108)) -> 20272.5 | P1: =SUM(SUBTOTAL(9,P3:P108)) -> 0 | Q1: =SUM(SUBTOTAL(9,Q3:Q108)) -> 0 | AA1: =SUM(SUBTOTAL(9,AA3:AA108)) -> 20272.5 | AB1: =SUM(SUBTOTAL(9,AB3:AB108)) -> 0 | AG1: =SUM(SUBTOTAL(9,AG3:AG108)) -> 0 | AH1: =SUM(SUBTOTAL(9,AH3:AH108)) -> 0 | AJ1: =SUM(SUBTOTAL(9,AJ3:AJ108)) -> 20272.5
A2: No Parcela | B2: No Contrato | C2: Nome do mutuário | D2: CPF/CNPJ | E2: Taxa de Juros | F2: Carteira | G2: Empreendimento | H2: No Parcela | I2: Data de Vencimento Original | J2: Data de Pagamento | K2: Data do Crédito | L2: Dif. de Dias | M2: Valor Original | N2: Valor Creditado | O2: Valor Parceiro | P2: Multa | Q2: Juros de Mora | R2: Seguro | S2: Dif de Parcela | T2: Dif Parcela Creditada | U2: Taxa de Gestão | V2: Tipo de Recebimento | W2: Mês | X2: OBS | Y2: MIP | Z2: DFI | AA2: Amortização Creditada | AB2: Juros Creditado | AC2: MIP Creditado | AD2: DFI Creditado | AE2: Diferença Parcela Creditada | AF2: Gestão Creditada | AG2: Multa Creditada | AH2: Mora Creditada | AI2: Resíduo Parcela | AJ2: Total | AK2: Check Recebimento | AL2: Status Venda
A3: 2411097 | B3: 6351 | C3: Sidney Humberto De Souza | D3: 015.841.711-97 | E3: 0.1003 | F3: SWISS PARK ANAPOLIS | G3: Swiss Park Zurich - Anápolis | H3: 2411097 | I3: 45737 | J3: 45733 | K3: 45734 | L3: -3 | M3: 3092.56 | N3: 3092.56 | P3: 0 | Q3: 0 | R3: 0 | V3: Recebimento Regular | W3: Mar/2025 | AA3: 880.01 | AB3: 2212.55 | AE3: 0 | AG3: 0 | AH3: 0 | AJ3: 3092.56 | AK3: Adimplente | AL3: Parcelado
A4: 2411261 | B4: 6352 | C4: Victor Hugo Gomes Da Silva | D4: 029.838.141-90 | E4: 0.1003 | F4: SWISS PARK ANAPOLIS | G4: Swiss Park Zurich - Anápolis | H4: 2411261 | I4: 45726 | J4: 45726 | K4: 45727 | L4: 1 | M4: 3118.84 | N4: 3118.84 | P4: 0 | Q4: 0 | R4: 0 | V4: Recebimento Regular | W4: Mar/2025 | AA4: 887.48 | AB4: 2231.36 | AE4: 0 | AG4: 0 | AH4: 0 | AJ4: 3118.84 | AK4: Adimplente | AL4: Parcelado
A5: 2411425 | B5: 6353 | C5: Victor Hugo Gomes Da Silva | D5: 029.838.141-90 | E5: 0.1003 | F5: SWISS PARK ANAPOLIS | G5: Swiss Park Zurich - Anápolis | H5: 2411425 | I5: 45726 | J5: 45726 | K5: 45727 | L5: 1 | M5: 3099.68 | N5: 3099.68 | P5: 0 | Q5: 0 | R5: 0 | V5: Recebimento Regular | W5: Mar/2025 | AA5: 882.03 | AB5: 2217.65 | AE5: 0 | AG5: 0 | AH5: 0 | AJ5: 3099.68 | AK5: Adimplente | AL5: Parcelado
A6: 2411589 | B6: 6354 | C6: Flavia Silva Costa Galgane | D6: 023.803.371-60 | E6: 0 | F6: SWISS PARK ANAPOLIS | G6: Swiss Park Zurich - Anápolis | H6: 2411589 | I6: 45737 | J6: 45736 | K6: 45737 | L6: 0 | M6: 7951.79 | N6: 7951.79 | P6: 0 | Q6: 0 | R6: 0 | V6: Recebimento Regular | W6: Mar/2025 | AA6: 7951.79 | AB6: 0 | AE6: 0 | AG6: 0 | AH6: 0 | AJ6: 7951.79 | AK6: Adimplente | AL6: Parcelado
A7: 2411626 | B7: 6355 | C7: Guilherme Galgane Ferreira Ribeiro | D7: 017.100.711-50 | E7: 0 | F7: SWISS PARK ANAPOLIS | G7: Swiss Park Zurich - Anápolis | H7: 2411626 | I7: 45737 | J7: 45736 | K7: 45737 | L7: 0 | M7: 7951.79 | N7: 7951.79 | P7: 0 | Q7: 0 | R7: 0 | V7: Recebimento Regular | W7: Mar/2025 | AA7: 7951.79 | AB7: 0 | AE7: 0 | AG7: 0 | AH7: 0 | AJ7: 7951.79 | AK7: Adimplente | AL7: Parcelado
A8: 2411664 | B8: 6356 | C8: Samuel Yohei Kudo Da Silva | D8: 037.301.931-98 | E8: 0 | F8: SWISS PARK ANAPOLIS | G8: Swiss Park Zurich - Anápolis | H8: 2411664 | I8: 45726 | J8: 45723 | K8: 45726 | L8: 0 | M8: 6500 | N8: 6500 | P8: 0 | Q8: 0 | R8: 0 | V8: Recebimento Regular | W8: Mar/2025 | AA8: 6500 | AB8: 0 | AE8: 0 | AG8: 0 | AH8: 0 | AJ8: 6500 | AK8: Adimplente | AL8: Parcelado
A9: 2411689 | B9: 6357 | C9: Ronimiller Ferreira Franca | D9: 931.002.481-04 | E9: 0.1003 | F9: SWISS PARK ANAPOLIS | G9: Swiss Park Zurich - Anápolis | H9: 2411689 | I9: 45737 | J9: 45728 | K9: 45729 | L9: -8 | M9: 3869.33 | N9: 3869.33 | P9: 0 | Q9: 0 | R9: 0 | V9: Recebimento Regular | W9: Mar/2025 | AA9: 1110.25 | AB9: 2759.08 | AE9: 0 | AG9: 0 | AH9: 0 | AJ9: 3869.33 | AK9: Adimplente | AL9: Parcelado
A10: 2411816 | B10: 6357 | C10: Ronimiller Ferreira Franca | D10: 931.002.481-04 | E10: 0.1003 | F10: SWISS PARK ANAPOLIS | G10: Swiss Park Zurich - Anápolis | H10: 2411816 | I10: 49603 | J10: 45728 | K10: 45729 | L10: -3874 | M10: 1406.53 | N10: 1406.53 | P10: 0 | Q10: 0 | R10: 0 | V10: Antecipação | W10: Mar/2025 | AA10: 1143 | AB10: 263.53 | AE10: 0 | AG10: 0 | AH10: 0 | AJ10: 1406.53 | AK10: Pagos Antecipadamente Acima de 180 Dias | AL10: Parcelado
A11: 2411817 | B11: 6357 | C11: Ronimiller Ferreira Franca | D11: 931.002.481-04 | E11: 0.1003 | F11: SWISS PARK ANAPOLIS | G11: Swiss Park Zurich - Anápolis | H11: 2411817 | I11: 49634 | J11: 45728 | K11: 45729 | L11: -3905 | M11: 1395.36 | N11: 1395.36 | P11: 0 | Q11: 0 | R11: 0 | V11: Antecipação | W11: Mar/2025 | AA11: 1143.15 | AB11: 252.21 | AE11: 0 | AG11: 0 | AH11: 0 | AJ11: 1395.36 | AK11: Pagos Antecipadamente Acima de 180 Dias | AL11: Parcelado
A12: 2411818 | B12: 6357 | C12: Ronimiller Ferreira Franca | D12: 931.002.481-04 | E12: 0.1003 | F12: SWISS PARK ANAPOLIS | G12: Swiss Park Zurich - Anápolis | H12: 2411818 | I12: 49664 | J12: 45728 | K12: 45729 | L12: -3935 | M12: 1384.29 | N12: 1384.29 | P12: 0 | Q12: 0 | R12: 0 | V12: Antecipação | W12: Mar/2025 | AA12: 1143.29 | AB12: 241 | AE12: 0 | AG12: 0 | AH12: 0 | AJ12: 1384.29 | AK12: Pagos Antecipadamente Acima de 180 Dias | AL12: Parcelado
A13: 2411819 | B13: 6357 | C13: Ronimiller Ferreira Franca | D13: 931.002.481-04 | E13: 0.1003 | F13: SWISS PARK ANAPOLIS | G13: Swiss Park Zurich - Anápolis | H13: 2411819 | I13: 49695 | J13: 45728 | K13: 45729 | L13: -3966 | M13: 1373.3 | N13: 1373.3 | P13: 0 | Q13: 0 | R13: 0 | V13: Antecipação | W13: Mar/2025 | AA13: 1143.44 | AB13: 229.86 | AE13: 0 | AG13: 0 | AH13: 0 | AJ13: 1373.3 | AK13: Pagos Antecipadamente Acima de 180 Dias | AL13: Parcelado
A14: 2411820 | B14: 6357 | C14: Ronimiller Ferreira Franca | D14: 931.002.481-04 | E14: 0.1003 | F14: SWISS PARK ANAPOLIS | G14: Swiss Park Zurich - Anápolis | H14: 2411820 | I14: 49726 | J14: 45728 | K14: 45729 | L14: -3997 | M14: 1362.4 | N14: 1362.4 | P14: 0 | Q14: 0 | R14: 0 | V14: Antecipação | W14: Mar/2025 | AA14: 1143.58 | AB14: 218.82 | AE14: 0 | AG14: 0 | AH14: 0 | AJ14: 1362.4 | AK14: Pagos Antecipadamente Acima de 180 Dias | AL14: Parcelado
... A108: 2472359 | B108: 5406 | C108: Fábio Rodrigues Ribeiro | D108: 301.855.668-20 | E108: 0 | F108: SWISS PARK ANAPOLIS | G108: Swiss Park Zurich - Anápolis | H108: 2472359 | I108: 45737 | J108: 45737 | K108: 45740 | L108: 3 | M108: 7650 | N108: 7650 | P108: 0 | Q108: 0 | R108: 0 | V108: Recebimento Regular | W108: Mar/2025 | AA108: 7650 | AB108: 0 | AE108: 0 | AG108: 0 | AH108: 0 | AJ108: 7650 | AK108: Adimplente | AL108: Parcelado

Sheet Conciliação
A1: Data Crédito | B1: Fechamento | C1: Extrato | D1: Diferença | E1: Obs
A2: 01/03/2025 | B2: =SUMIFS(Recebimento!N:N,Recebimento!K:K,Conciliação!A2) -> 0 | C2: 0 | D2: =B2-C2 -> 0
A3: 02/03/2025 | B3: =SUMIFS(Recebimento!N:N,Recebimento!K:K,Conciliação!A3) -> 0 | C3: 0 | D3: =B3-C3 -> 0
A4: 03/03/2025 | B4: =SUMIFS(Recebimento!N:N,Recebimento!K:K,Conciliação!A4) -> 0 | C4: 0 | D4: =B4-C4 -> 0
A5: 04/03/2025 | B5: =SUMIFS(Recebimento!N:N,Recebimento!K:K,Conciliação!A5) -> 0 | C5: 0 | D5: =B5-C5 -> 0
A6: 05/03/2025 | B6: =SUMIFS(Recebimento!N:N,Recebimento!K:K,Conciliação!A6) -> 0 | C6: 0 | D6: =B6-C6 -> 0
A7: 06/03/2025 | B7: =SUMIFS(Recebimento!N:N,Recebimento!K:K,Conciliação!A7) -> 0 | C7: 0 | D7: =B7-C7 -> 0
A8: 07/03/2025 | B8: =SUMIFS(Recebimento!N:N,Recebimento!K:K,Conciliação!A8) -> 2407.89 | C8: 2407.89 | D8: =B8-C8 -> 0
A9: 08/03/2025 | B9: =SUMIFS(Recebimento!N:N,Recebimento!K:K,Conciliação!A9) -> 0 | C9: 0 | D9: =B9-C9 -> 0
A10: 09/03/2025 | B10: =SUMIFS(Recebimento!N:N,Recebimento!K:K,Conciliação!A10) -> 0 | C10: 0 | D10: =B10-C10 -> 0
A11: 10/03/2025 | B11: =SUMIFS(Recebimento!N:N,Recebimento!K:K,Conciliação!A11) -> 25168.52 | C11: 25168.52 | D11: =B11-C11 -> 0
A12: 11/03/2025 | B12: =SUMIFS(Recebimento!N:N,Recebimento!K:K,Conciliação!A12) -> 91627.26 | C12: 91627.26 | D12: =B12-C12 -> 0
A13: 12/03/2025 | B13: =SUMIFS(Recebimento!N:N,Recebimento!K:K,Conciliação!A13) -> 61772.77 | C13: 61772.77 | D13: =B13-C13 -> 0
... A32: 31/03/2025 | B32: =SUMIFS(Recebimento!N:N,Recebimento!K:K,Conciliação!A32) -> 16120.22 | C32: 16120.22 | D32: =B32-C32 -> 0
A33: 01/04/2025 | B33: =SUMIFS(Recebimento!N:N,Recebimento!K:K,Conciliação!A33) -> 16206.94 | C33: 16206.94

Sheet Inadimplência
A1: No Contrato | B1: Nome do Mutuáriuo | C1: CPF | D1: Carteira | E1: Empreendimento | F1: No parcela | G1: Data de Vencimento Original | H1: Amortização Corrigida | I1: Juros Corrigido | J1: MIP | K1: DFI | L1: Valor de Gestão Corrigido | M1: Dif. de Parcela | N1: Multa | O1: Mora | P1: Resíduo Parcela | Q1: Total Corrigido | R1: Seguro | S1: Dias em aberto | T1: Id do Crédito | U1: Faixa de Atraso | V1: Status
A2: 6388 | B2: Anderson Goncalves Moreira | C2: 731.599.561-72 | D2: SWISS PARK ANAPOLIS | E2: Swiss Park Zurich - Anápolis | F2: 2413845 | G2: 21/03/2025 | H2: 7951.77 | I2: 0 | N2: 159.04 | O2: 26.51 | Q2: 8137.32 | R2: 0 | S2: 10 | T2: 135618 | U2: Menor que 30 Dias | V2: Vencidos e Não Pagos Até 30 Dias
A3: 6394 | B3: Heber Guimaraes Da Cunha | C3: 766.927.601-00 | D3: SWISS PARK ANAPOLIS | E3: Swiss Park Zurich - Anápolis | F3: 2414246 | G3: 21/03/2025 | H3: 900.02 | I3: 2050.32 | N3: 59.01 | O3: 9.83 | Q3: 3019.18 | R3: 0 | S3: 10 | T3: 135644 | U3: Menor que 30 Dias | V3: Vencidos e Não Pagos Até 30 Dias
A4: 6396 | B4: Heber Guimaraes Da Cunha | C4: 766.927.601-00 | D4: SWISS PARK ANAPOLIS | E4: Swiss Park Zurich - Anápolis | F4: 2414504 | G4: 21/03/2025 | H4: 880.36 | I4: 2213.48 | N4: 61.88 | O4: 10.31 | Q4: 3166.03 | R4: 0 | S4: 10 | T4: 135645 | U4: Menor que 30 Dias | V4: Vencidos e Não Pagos Até 30 Dias
A5: 6409 | B5: Lucas Garcia Oliveira | C5: 253.190.908-70 | D5: SWISS PARK ANAPOLIS | E5: Swiss Park Zurich - Anápolis | F5: 2415737 | G5: 21/03/2025 | H5: 880 | I5: 2212.55 | N5: 61.85 | O5: 10.31 | Q5: 3164.71 | R5: 0 | S5: 10 | T5: 135661 | U5: Menor que 30 Dias | V5: Vencidos e Não Pagos Até 30 Dias
A6: 6410 | B6: Lucas Garcia Oliveira | C6: 253.190.908-70 | D6: SWISS PARK ANAPOLIS | E6: Swiss Park Zurich - Anápolis | F6: 2415901 | G6: 21/03/2025 | H6: 880 | I6: 2212.55 | N6: 61.85 | O6: 10.31 | Q6: 3164.71 | R6: 0 | S6: 10 | T6: 135662 | U6: Menor que 30 Dias | V6: Vencidos e Não Pagos Até 30 Dias

Sheet FluxoFuturo
J1: =SUBTOTAL(9,J3:J92) -> 20651.95 | K1: =SUBTOTAL(9,K3:K93) -> 22943714 | L1: =SUBTOTAL(9,L3:L93) -> 22964366 | N1: =SUBTOTAL(9,N3:N92) -> 22919272 | O1: =SUBTOTAL(9,O3:O92) -> 20797616
A2: Cod Chronos | B2: Contrato | C2: Nome do mutuário | D2: CPF | E2: Taxa | F2: Carteira | G2: Empreendimento | H2: Elegibilidade | I2: Meses Remanescentes | J2: Inadimplência | K2: VP Fluxo Futuro | L2: Saldo Devedor | M2: Classificação | N2: Saldo Devedor PDD | O2: Saldo Devedor Taxa Cessão | P2: Média R$ m² | Q2: Área M² | R2: Valor De Venda Atualizado | S2: LTV % | T2: 04/2025 | U2: 05/2025 | V2: 06/2025 | W2: 07/2025 | X2: 08/2025 | Y2: 09/2025 | Z2: 10/2025 | AA2: 11/2025 | AB2: 12/2025 | AC2: 01/2026 | AD2: 02/2026 | AE2: 03/2026 | AF2: 04/2026 | AG2: 05/2026 | AH2: 06/2026 | AI2: 07/2026 | AJ2: 08/2026 | AK2: 09/2026 | AL2: 10/2026 | AM2: 11/2026 | AN2: 12/2026 | AO2: 01/2027 | AP2: 02/2027 | AQ2: 03/2027 | AR2: 04/2027 | AS2: 05/2027 | AT2: 06/2027 | AU2: 07/2027 | AV2: 08/2027 | AW2: 09/2027 | AX2: 10/2027 | AY2: 11/2027 | AZ2: 12/2027 | BA2: 01/2028 | BB2: 02/2028 | BC2: 03/2028 | BD2: 04/2028 | BE2: 05/2028 | BF2: 06/2028 | BG2: 07/2028 | BH2: 08/2028 | BI2: 09/2028 | BJ2: 10/2028 | BK2: 11/2028 | BL2: 12/2028 | BM2: 01/2029 | BN2: 02/2029 | BO2: 03/2029 | BP2: 04/2029 | BQ2: 05/2029 | BR2: 06/2029 | BS2: 07/2029 | BT2: 08/2029 | BU2: 09/2029 | BV2: 10/2029 | BW2: 11/2029 | BX2: 12/2029 | BY2: 01/2030 | BZ2: 02/2030 | CA2: 03/2030 | CB2: 04/2030 | CC2: 05/2030 | CD2: 06/2030 | CE2: 07/2030 | CF2: 08/2030 | CG2: 09/2030 | CH2: 10/2030 | CI2: 11/2030 | CJ2: 12/2030 | CK2: 01/2031 | CL2: 02/2031 | CM2: 03/2031 | CN2: 04/2031 | CO2: 05/2031 | CP2: 06/2031 | CQ2: 07/2031 | CR2: 08/2031 | CS2: 09/2031 | CT2: 10/2031 | CU2: 11/2031 | CV2: 12/2031 | CW2: 01/2032 | CX2: 02/2032 | CY2: 03/2032 | CZ2: 04/2032 | DA2: 05/2032 | DB2: 06/2032 | DC2: 07/2032 | DD2: 08/2032 | DE2: 09/2032 | DF2: 10/2032 | DG2: 11/2032 | DH2: 12/2032 | DI2: 01/2033 | DJ2: 02/2033 | DK2: 03/2033 | DL2: 04/2033 | DM2: 05/2033 | DN2: 06/2033 | DO2: 07/2033 | DP2: 08/2033 | DQ2: 09/2033 | DR2: 10/2033 | DS2: 11/2033 | DT2: 12/2033 | DU2: 01/2034 | DV2: 02/2034 | DW2: 03/2034 | DX2: 04/2034 | DY2: 05/2034 | DZ2: 06/2034 | EA2: 07/2034 | EB2: 08/2034 | EC2: 09/2034 | ED2: 10/2034 | EE2: 11/2034 | EF2: 12/2034 | EG2: 01/2035 | EH2: 02/2035 | EI2: 03/2035 | EJ2: 04/2035 | EK2: 05/2035 | EL2: 06/2035 | EM2: 07/2035 | EN2: 08/2035 | EO2: 09/2035 | EP2: 10/2035 | EQ2: 11/2035 | ER2: 12/2035 | ES2: 01/2036 | ET2: 02/2036 | EU2: 03/2036 | EV2: 04/2036 | EW2: 05/2036 | EX2: 06/2036 | EY2: 07/2036 | EZ2: 08/2036 | FA2: 09/2036 | FB2: 10/2036 | FC2: 11/2036 | FD2: 12/2036 | FE2: 01/2037 | FF2: 02/2037 | FG2: 03/2037 | FH2: 04/2037 | FI2: 05/2037 | FJ2: 06/2037 | FK2: 07/2037 | FL2: 08/2037 | FM2: 09/2037 | FN2: 10/2037 | FO2: 11/2037 | FP2: 12/2037 | FQ2: 01/2038 | FR2: 02/2038 | FS2: 03/2038 | FT2: 04/2038 | FU2: 05/2038 | FV2: 06/2038 | FW2: 07/2038 | FX2: 08/2038 | FY2: 09/2038 | FZ2: 10/2038 | GA2: 11/2038 | GB2: 12/2038 | GC2: 01/2039 | GD2: 02/2039 | GE2: 03/2039 | GF2: 04/2039 | GG2: 05/2039 | GH2: 06/2039 | GI2: 07/2039 | GJ2: Id do Crédito
A3: 135922 | B3: =VLOOKUP(A3,'[9]Fluxo por Unidade'!$G:$H,2,0) -> 6494 | C3: Filipe Junio De Oliveira | D3: 020.314.361-20 | E3: 0.100339 | F3: SWISS PARK ANAPOLIS | G3: Swiss Park Zurich - Anápolis | H3: =VLOOKUP(B3,Elegibilidade!A:I,9,0) -> Inelegível | I3: 162 | J3: =SUMIFS(Inadimplência!Q:Q,Inadimplência!A:A,FluxoFuturo!B3) -> 0 | K3: =NPV(0.8%,T3:GI3) -> 362747.67 | L3: =J3+K3 -> 362747.67 | M3: Adimplente | N3: 362747.67 | O3: =NPV((1+12%)^(1/12)-1,T3:FY3) -> 330869.05 | P3: =Vendas!$J$2 -> 886.38148 | Q3: =VLOOKUP(B3,Vendas!A:F,6,0) -> 413.88 | R3: =P3*Q3 -> 366855.57 | S3: =O3/R3 -> 0.90190549 | T3: 4445.92 | U3: 4445.92 | V3: 2835.06 | W3: 2835.06 | X3: 2835.06 | Y3: 2835.06 | Z3: 2835.06 | AA3: 2835.06 | AB3: 2835.06 | AC3: 2835.06 | AD3: 17805.66 | AE3: 2835.06 | AF3: 2835.06 | AG3: 2835.06 | AH3: 2835.06 | AI3: 2835.06 | AJ3: 2835.06 | AK3: 2835.06 | AL3: 2835.06 | AM3: 2835.06 | AN3: 2835.06 | AO3: 2835.06 | AP3: 17805.66 | AQ3: 2835.06 | AR3: 2835.06 | AS3: 2835.06 | AT3: 2835.06 | AU3: 2835.06 | AV3: 2835.06 | AW3: 2835.06 | AX3: 2835.06 | AY3: 2835.06 | AZ3: 2835.06 | BA3: 2835.06 | BB3: 17805.66 | BC3: 2835.06 | BD3: 2835.06 | BE3: 2835.06 | BF3: 2835.06 | BG3: 2835.06 | BH3: 2835.06 | BI3: 2835.06 | BJ3: 2835.06 | BK3: 2835.06 | BL3: 2835.06 | BM3: 2835.06 | BN3: 17805.66 | BO3: 2835.06 | BP3: 2835.06 | BQ3: 2835.06 | BR3: 2835.06 | BS3: 2835.06 | BT3: 2835.06 | BU3: 2835.06 | BV3: 2835.06 | BW3: 2835.06 | BX3: 2835.06 | BY3: 2835.06 | BZ3: 17805.66 | CA3: 2835.06 | CB3: 2835.06 | CC3: 2835.06 | CD3: 2835.06 | CE3: 2835.06 | CF3: 2835.06 | CG3: 2835.06 | CH3: 2835.06 | CI3: 2835.06 | CJ3: 2835.06 | CK3: 2835.06 | CL3: 17805.66 | CM3: 2835.06 | CN3: 2835.06 | CO3: 2835.06 | CP3: 2835.06 | CQ3: 2835.06 | CR3: 2835.06 | CS3: 2835.06 | CT3: 2835.06 | CU3: 2835.06 | CV3: 2835.06 | CW3: 2835.06 | CX3: 17805.66 | CY3: 2835.06 | CZ3: 2835.06 | DA3: 2835.06 | DB3: 2835.06 | DC3: 2835.06 | DD3: 2835.06 | DE3: 2835.06 | DF3: 2835.06 | DG3: 2835.06 | DH3: 2835.06 | DI3: 2835.06 | DJ3: 17805.66 | DK3: 2835.06 | DL3: 2835.06 | DM3: 2835.06 | DN3: 2835.06 | DO3: 2835.06 | DP3: 2835.06 | DQ3: 2835.06 | DR3: 2835.06 | DS3: 2835.06 | DT3: 2835.06 | DU3: 2835.06 | DV3: 17805.66 | DW3: 2835.06 | DX3: 2835.06 | DY3: 2835.06 | DZ3: 2835.06 | EA3: 2835.06 | EB3: 2835.06 | EC3: 2835.06 | ED3: 2835.06 | EE3: 2835.06 | EF3: 2835.06 | EG3: 2835.06 | EH3: 17805.66 | EI3: 2835.06 | EJ3: 2835.06 | EK3: 2835.06 | EL3: 2835.06 | EM3: 2835.06 | EN3: 2835.06 | EO3: 2835.06 | EP3: 2835.06 | EQ3: 2835.06 | ER3: 2835.06 | ES3: 2835.06 | ET3: 17805.66 | EU3: 2835.06 | EV3: 2835.06 | EW3: 2835.06 | EX3: 2835.06 | EY3: 2835.06 | EZ3: 2835.06 | FA3: 2835.06 | FB3: 2835.06 | FC3: 2835.06 | FD3: 2835.06 | FE3: 2835.06 | FF3: 17805.65 | FG3: 2835.06 | FH3: 2835.06 | FI3: 2835.06 | FJ3: 2835.06 | FK3: 2835.06 | FL3: 2835.06 | FM3: 2835.06 | FN3: 2835.06 | FO3: 2835.06 | FP3: 2835.06 | FQ3: 2835.06 | FR3: 2835.06 | FS3: 2835.06 | FT3: 2835.06 | FU3: 2835.06 | FV3: 2835.06 | FW3: 2835.06 | FX3: 2835.06 | FY3: 2834.61 | FZ3: 0 | GA3: 0 | GB3: 0 | GC3: 0 | GD3: 0 | GE3: 0 | GF3: 0 | GG3: 0 | GH3: 0 | GI3: 0 | GJ3: 135922
A4: 135688 | B4: =VLOOKUP(A4,'[9]Fluxo por Unidade'!$G:$H,2,0) -> 6451 | C4: Thiago Da Costa Moreira | D4: 036.528.931-07 | E4: 0.1003 | F4: SWISS PARK ANAPOLIS | G4: Swiss Park Zurich - Anápolis | H4: =VLOOKUP(B4,Elegibilidade!A:I,9,0) -> Elegível | I4: 156 | J4: =SUMIFS(Inadimplência!Q:Q,Inadimplência!A:A,FluxoFuturo!B4) -> 0 | K4: =NPV(0.8%,T4:GI4) -> 357253.74 | L4: =J4+K4 -> 357253.74 | M4: Adimplente | N4: 357253.74 | O4: =NPV((1+12%)^(1/12)-1,T4:FY4) -> 326318.49 | P4: =Vendas!$J$2 -> 886.38148 | Q4: =VLOOKUP(B4,Vendas!A:F,6,0) -> 408.49 | R4: =P4*Q4 -> 362077.97 | S4: =O4/R4 -> 0.90123816 | T4: 4016.95 | U4: 4016.95 | V4: 4016.95 | W4: 4016.95 | X4: 4016.95 | Y4: 4016.95 | Z4: 4016.95 | AA4: 4016.95 | AB4: 4016.95 | AC4: 4016.95 | AD4: 4016.95 | AE4: 4016.95 | AF4: 4016.95 | AG4: 4016.95 | AH4: 4016.95 | AI4: 4016.95 | AJ4: 4016.95 | AK4: 4016.95 | AL4: 4016.95 | AM4: 4016.95 | AN4: 4016.95 | AO4: 4016.95 | AP4: 4016.95 | AQ4: 4016.95 | AR4: 4016.95 | AS4: 4016.95 | AT4: 4016.95 | AU4: 4016.95 | AV4: 4016.95 | AW4: 4016.95 | AX4: 4016.95 | AY4: 4016.95 | AZ4: 4016.95 | BA4: 4016.95 | BB4: 4016.95 | BC4: 4016.95 | BD4: 4016.95 | BE4: 4016.95 | BF4: 4016.95 | BG4: 4016.95 | BH4: 4016.95 | BI4: 4016.95 | BJ4: 4016.95 | BK4: 4016.95 | BL4: 4016.95 | BM4: 4016.95 | BN4: 4016.95 | BO4: 4016.95 | BP4: 4016.95 | BQ4: 4016.95 | BR4: 4016.95 | BS4: 4016.95 | BT4: 4016.95 | BU4: 4016.95 | BV4: 4016.95 | BW4: 4016.95 | BX4: 4016.95 | BY4: 4016.95 | BZ4: 4016.95 | CA4: 4016.95 | CB4: 4016.95 | CC4: 4016.95 | CD4: 4016.95 | CE4: 4016.95 | CF4: 4016.95 | CG4: 4016.95 | CH4: 4016.95 | CI4: 4016.95 | CJ4: 4016.95 | CK4: 4016.95 | CL4: 4016.95 | CM4: 4016.95 | CN4: 4016.95 | CO4: 4016.95 | CP4: 4016.95 | CQ4: 4016.95 | CR4: 4016.95 | CS4: 4016.95 | CT4: 4016.95 | CU4: 4016.95 | CV4: 4016.95 | CW4: 4016.95 | CX4: 4016.95 | CY4: 4016.95 | CZ4: 4016.95 | DA4: 4016.95 | DB4: 4016.95 | DC4: 4016.95 | DD4: 4016.95 | DE4: 4016.95 | DF4: 4016.95 | DG4: 4016.95 | DH4: 4016.95 | DI4: 4016.95 | DJ4: 4016.95 | DK4: 4016.95 | DL4: 4016.95 | DM4: 4016.95 | DN4: 4016.95 | DO4: 4016.95 | DP4: 4016.95 | DQ4: 4016.95 | DR4: 4016.95 | DS4: 4016.95 | DT4: 4016.95 | DU4: 4016.95 | DV4: 4016.95 | DW4: 4016.95 | DX4: 4016.95 | DY4: 4016.95 | DZ4: 4016.95 | EA4: 4016.95 | EB4: 4016.95 | EC4: 4016.95 | ED4: 4016.95 | EE4: 4016.95 | EF4: 4016.95 | EG4: 4016.95 | EH4: 4016.95 | EI4: 4016.95 | EJ4: 4016.95 | EK4: 4016.95 | EL4: 4016.95 | EM4: 4016.95 | EN4: 4016.95 | EO4: 4016.95 | EP4: 4016.95 | EQ4: 4016.95 | ER4: 4016.95 | ES4: 4016.95 | ET4: 4016.95 | EU4: 4016.95 | EV4: 4016.95 | EW4: 4016.95 | EX4: 4016.95 | EY4: 4016.95 | EZ4: 4016.95 | FA4: 4016.95 | FB4: 4016.95 | FC4: 4016.95 | FD4: 4016.95 | FE4: 4016.95 | FF4: 4016.95 | FG4: 4016.95 | FH4: 4016.95 | FI4: 4016.95 | FJ4: 4016.95 | FK4: 4016.95 | FL4: 4016.95 | FM4: 4016.95 | FN4: 4016.95 | FO4: 4016.95 | FP4: 4016.95 | FQ4: 4016.95 | FR4: 4016.95 | FS4: 4016.86 | FT4: 0 | FU4: 0 | FV4: 0 | FW4: 0 | FX4: 0 | FY4: 0 | FZ4: 0 | GA4: 0 | GB4: 0 | GC4: 0 | GD4: 0 | GE4: 0 | GF4: 0 | GG4: 0 | GH4: 0 | GI4: 0 | GJ4: 135688
A5: 135667 | B5: =VLOOKUP(A5,'[9]Fluxo por Unidade'!$G:$H,2,0) -> 6402 | C5: Michael Molina | D5: 222.832.808-18 | E5: 0.1003 | F5: SWISS PARK ANAPOLIS | G5: Swiss Park Zurich - Anápolis | H5: =VLOOKUP(B5,Elegibilidade!A:I,9,0) -> Elegível | I5: 151 | J5: =SUMIFS(Inadimplência!Q:Q,Inadimplência!A:A,FluxoFuturo!B5) -> 0 | K5: =NPV(0.8%,T5:GI5) -> 346392.97 | L5: =J5+K5 -> 346392.97 | M5: Adimplente | N5: 346392.97 | O5: =NPV((1+12%)^(1/12)-1,T5:FY5) -> 317075.56 | P5: =Vendas!$J$2 -> 886.38148 | Q5: =VLOOKUP(B5,Vendas!A:F,6,0) -> 460.99 | R5: =P5*Q5 -> 408613 | S5: =O5/R5 -> 0.7759801 | T5: 3960.1 | U5: 3960.1 | V5: 3960.1 | W5: 3960.1 | X5: 3960.1 | Y5: 3960.1 | Z5: 3960.1 | AA5: 3960.1 | AB5: 3960.1 | AC5: 3960.1 | AD5: 3960.1 | AE5: 3960.1 | AF5: 3960.1 | AG5: 3960.1 | AH5: 3960.1 | AI5: 3960.1 | AJ5: 3960.1 | AK5: 3960.1 | AL5: 3960.1 | AM5: 3960.1 | AN5: 3960.1 | AO5: 3960.1 | AP5: 3960.1 | AQ5: 3960.1 | AR5: 3960.1 | AS5: 3960.1 | AT5: 3960.1 | AU5: 3960.1 | AV5: 3960.1 | AW5: 3960.1 | AX5: 3960.1 | AY5: 3960.1 | AZ5: 3960.1 | BA5: 3960.1 | BB5: 3960.1 | BC5: 3960.1 | BD5: 3960.1 | BE5: 3960.1 | BF5: 3960.1 | BG5: 3960.1 | BH5: 3960.1 | BI5: 3960.1 | BJ5: 3960.1 | BK5: 3960.1 | BL5: 3960.1 | BM5: 3960.1 | BN5: 3960.1 | BO5: 3960.1 | BP5: 3960.1 | BQ5: 3960.1 | BR5: 3960.1 | BS5: 3960.1 | BT5: 3960.1 | BU5: 3960.1 | BV5: 3960.1 | BW5: 3960.1 | BX5: 3960.1 | BY5: 3960.1 | BZ5: 3960.1 | CA5: 3960.1 | CB5: 3960.1 | CC5: 3960.1 | CD5: 3960.1 | CE5: 3960.1 | CF5: 3960.1 | CG5: 3960.1 | CH5: 3960.1 | CI5: 3960.1 | CJ5: 3960.1 | CK5: 3960.1 | CL5: 3960.1 | CM5: 3960.1 | CN5: 3960.1 | CO5: 3960.1 | CP5: 3960.1 | CQ5: 3960.1 | CR5: 3960.1 | CS5: 3960.1 | CT5: 3960.1 | CU5: 3960.1 | CV5: 3960.1 | CW5: 3960.1 | CX5: 3960.1 | CY5: 3960.1 | CZ5: 3960.1 | DA5: 3960.1 | DB5: 3960.1 | DC5: 3960.1 | DD5: 3960.1 | DE5: 3960.1 | DF5: 3960.1 | DG5: 3960.1 | DH5: 3960.1 | DI5: 3960.1 | DJ5: 3960.1 | DK5: 3960.1 | DL5: 3960.1 | DM5: 3960.1 | DN5: 3960.1 | DO5: 3960.1 | DP5: 3960.1 | DQ5: 3960.1 | DR5: 3960.1 | DS5: 3960.1 | DT5: 3960.1 | DU5: 3960.1 | DV5: 3960.1 | DW5: 3960.1 | DX5: 3960.1 | DY5: 3960.1 | DZ5: 3960.1 | EA5: 3960.1 | EB5: 3960.1 | EC5: 3960.1 | ED5: 3960.1 | EE5: 3960.1 | EF5: 3960.1 | EG5: 3960.1 | EH5: 3960.1 | EI5: 3960.1 | EJ5: 3960.1 | EK5: 3960.1 | EL5: 3960.1 | EM5: 3960.1 | EN5: 3960.1 | EO5: 3960.1 | EP5: 3960.1 | EQ5: 3960.1 | ER5: 3960.1 | ES5: 3960.1 | ET5: 3960.1 | EU5: 3960.1 | EV5: 3960.1 | EW5: 3960.1 | EX5: 3960.1 | EY5: 3960.1 | EZ5: 3960.1 | FA5: 3960.1 | FB5: 3960.1 | FC5: 3960.1 | FD5: 3960.1 | FE5: 3960.1 | FF5: 3960.1 | FG5: 3960.1 | FH5: 3960.1 | FI5: 3960.1 | FJ5: 3960.1 | FK5: 3960.1 | FL5: 3960.1 | FM5: 3960.1 | FN5: 3960.03 | FO5: 0 | FP5: 0 | FQ5: 0 | FR5: 0 | FS5: 0 | FT5: 0 | FU5: 0 | FV5: 0 | FW5: 0 | FX5: 0 | FY5: 0 | FZ5: 0 | GA5: 0 | GB5: 0 | GC5: 0 | GD5: 0 | GE5: 0 | GF5: 0 | GG5: 0 | GH5: 0 | GI5: 0 | GJ5: 135667
A6: 135924 | B6: =VLOOKUP(A6,'[9]Fluxo por Unidade'!$G:$H,2,0) -> 6498 | C6: Camila Moreira De Queiroz Alencar | D6: 054.505.581-47 | E6: 0.100339 | F6: SWISS PARK ANAPOLIS | G6: Swiss Park Zurich - Anápolis | H6: =VLOOKUP(B6,Elegibilidade!A:I,9,0) -> Inelegível | I6: 162 | J6: =SUMIFS(Inadimplência!Q:Q,Inadimplência!A:A,FluxoFuturo!B6) -> 0 | K6: =NPV(0.8%,T6:GI6) -> 332490.24 | L6: =J6+K6 -> 332490.24 | M6: Adimplente | N6: 332490.24 | O6: =NPV((1+12%)^(1/12)-1,T6:FY6) -> 303270.67 | P6: =Vendas!$J$2 -> 886.38148 | Q6: =VLOOKUP(B6,Vendas!A:F,6,0) -> 360.39 | R6: =P6*Q6 -> 319443.02 | S6: =O6/R6 -> 0.94937327 | T6: 4075.08 | U6: 4075.07 | V6: 2598.58 | W6: 2598.58 | X6: 2598.58 | Y6: 2598.58 | Z6: 2598.58 | AA6: 2598.58 | AB6: 2598.58 | AC6: 2598.58 | AD6: 16320.48 | AE6: 2598.58 | AF6: 2598.58 | AG6: 2598.58 | AH6: 2598.58 | AI6: 2598.58 | AJ6: 2598.58 | AK6: 2598.58 | AL6: 2598.58 | AM6: 2598.58 | AN6: 2598.58 | AO6: 2598.58 | AP6: 16320.48 | AQ6: 2598.58 | AR6: 2598.58 | AS6: 2598.58 | AT6: 2598.58 | AU6: 2598.58 | AV6: 2598.58 | AW6: 2598.58 | AX6: 2598.58 | AY6: 2598.58 | AZ6: 2598.58 | BA6: 2598.58 | BB6: 16320.48 | BC6: 2598.58 | BD6: 2598.58 | BE6: 2598.58 | BF6: 2598.58 | BG6: 2598.58 | BH6: 2598.58 | BI6: 2598.58 | BJ6: 2598.58 | BK6: 2598.58 | BL6: 2598.58 | BM6: 2598.58 | BN6: 16320.48 | BO6: 2598.58 | BP6: 2598.58 | BQ6: 2598.58 | BR6: 2598.58 | BS6: 2598.58 | BT6: 2598.58 | BU6: 2598.58 | BV6: 2598.58 | BW6: 2598.58 | BX6: 2598.58 | BY6: 2598.58 | BZ6: 16320.48 | CA6: 2598.58 | CB6: 2598.58 | CC6: 2598.58 | CD6: 2598.58 | CE6: 2598.58 | CF6: 2598.58 | CG6: 2598.58 | CH6: 2598.58 | CI6: 2598.58 | CJ6: 2598.58 | CK6: 2598.58 | CL6: 16320.48 | CM6: 2598.58 | CN6: 2598.58 | CO6: 2598.58 | CP6: 2598.58 | CQ6: 2598.58 | CR6: 2598.58 | CS6: 2598.58 | CT6: 2598.58 | CU6: 2598.58 | CV6: 2598.58 | CW6: 2598.58 | CX6: 16320.48 | CY6: 2598.58 | CZ6: 2598.58 | DA6: 2598.58 | DB6: 2598.58 | DC6: 2598.58 | DD6: 2598.58 | DE6: 2598.58 | DF6: 2598.58 | DG6: 2598.58 | DH6: 2598.58 | DI6: 2598.58 | DJ6: 16320.48 | DK6: 2598.58 | DL6: 2598.58 | DM6: 2598.58 | DN6: 2598.58 | DO6: 2598.58 | DP6: 2598.58 | DQ6: 2598.58 | DR6: 2598.58 | DS6: 2598.58 | DT6: 2598.58 | DU6: 2598.58 | DV6: 16320.48 | DW6: 2598.58 | DX6: 2598.58 | DY6: 2598.58 | DZ6: 2598.58 | EA6: 2598.58 | EB6: 2598.58 | EC6: 2598.58 | ED6: 2598.58 | EE6: 2598.58 | EF6: 2598.58 | EG6: 2598.58 | EH6: 16320.48 | EI6: 2598.58 | EJ6: 2598.58 | EK6: 2598.58 | EL6: 2598.58 | EM6: 2598.58 | EN6: 2598.58 | EO6: 2598.58 | EP6: 2598.58 | EQ6: 2598.58 | ER6: 2598.58 | ES6: 2598.58 | ET6: 16320.48 | EU6: 2598.58 | EV6: 2598.58 | EW6: 2598.58 | EX6: 2598.58 | EY6: 2598.58 | EZ6: 2598.58 | FA6: 2598.58 | FB6: 2598.58 | FC6: 2598.58 | FD6: 2598.58 | FE6: 2598.58 | FF6: 16320.44 | FG6: 2598.58 | FH6: 2598.58 | FI6: 2598.58 | FJ6: 2598.58 | FK6: 2598.58 | FL6: 2598.58 | FM6: 2598.58 | FN6: 2598.58 | FO6: 2598.58 | FP6: 2598.58 | FQ6: 2598.58 | FR6: 2598.58 | FS6: 2598.58 | FT6: 2598.58 | FU6: 2598.58 | FV6: 2598.58 | FW6: 2598.58 | FX6: 2598.58 | FY6: 2598.45 | FZ6: 0 | GA6: 0 | GB6: 0 | GC6: 0 | GD6: 0 | GE6: 0 | GF6: 0 | GG6: 0 | GH6: 0 | GI6: 0 | GJ6: 135924
A7: 135654 | B7: =VLOOKUP(A7,'[9]Fluxo por Unidade'!$G:$H,2,0) -> 6379 | C7: Jorge Miguel Gonzales Dutra | D7: 011.205.931-74 | E7: 0.1003 | F7: SWISS PARK ANAPOLIS | G7: Swiss Park Zurich - Anápolis | H7: =VLOOKUP(B7,Elegibilidade!A:I,9,0) -> Elegível | I7: 146 | J7: =SUMIFS(Inadimplência!Q:Q,Inadimplência!A:A,FluxoFuturo!B7) -> 0 | K7: =NPV(0.8%,T7:GI7) -> 332212.44 | L7: =J7+K7 -> 332212.44 | M7: Adimplente | N7: 332212.44 | O7: =NPV((1+12%)^(1/12)-1,T7:FY7) -> 304760.01 | P7: =Vendas!$J$2 -> 886.38148 | Q7: =VLOOKUP(B7,Vendas!A:F,6,0) -> 453.7 | R7: =P7*Q7 -> 402151.28 | S7: =O7/R7 -> 0.7578243 | T7: 3865.39 | U7: 3865.39 | V7: 3865.39 | W7: 3865.39 | X7: 3865.39 | Y7: 3865.39 | Z7: 3865.39 | AA7: 3865.39 | AB7: 3865.39 | AC7: 3865.39 | AD7: 3865.39 | AE7: 3865.39 | AF7: 3865.39 | AG7: 3865.39 | AH7: 3865.39 | AI7: 3865.39 | AJ7: 3865.39 | AK7: 3865.39 | AL7: 3865.39 | AM7: 3865.39 | AN7: 3865.39 | AO7: 3865.39 | AP7: 3865.39 | AQ7: 3865.39 | AR7: 3865.39 | AS7: 3865.39 | AT7: 3865.39 | AU7: 3865.39 | AV7: 3865.39 | AW7: 3865.39 | AX7: 3865.39 | AY7: 3865.39 | AZ7: 3865.39 | BA7: 3865.39 | BB7: 3865.39 | BC7: 3865.39 | BD7: 3865.39 | BE7: 3865.39 | BF7: 3865.39 | BG7: 3865.39 | BH7: 3865.39 | BI7: 3865.39 | BJ7: 3865.39 | BK7: 3865.39 | BL7: 3865.39 | BM7: 3865.39 | BN7: 3865.39 | BO7: 3865.39 | BP7: 3865.39 | BQ7: 3865.39 | BR7: 3865.39 | BS7: 3865.39 | BT7: 3865.39 | BU7: 3865.39 | BV7: 3865.39 | BW7: 3865.39 | BX7: 3865.39 | BY7: 3865.39 | BZ7: 3865.39 | CA7: 3865.39 | CB7: 3865.39 | CC7: 3865.39 | CD7: 3865.39 | CE7: 3865.39 | CF7: 3865.39 | CG7: 3865.39 | CH7: 3865.39 | CI7: 3865.39 | CJ7: 3865.39 | CK7: 3865.39 | CL7: 3865.39 | CM7: 3865.39 | CN7: 3865.39 | CO7: 3865.39 | CP7: 3865.39 | CQ7: 3865.39 | CR7: 3865.39 | CS7: 3865.39 | CT7: 3865.39 | CU7: 3865.39 | CV7: 3865.39 | CW7: 3865.39 | CX7: 3865.39 | CY7: 3865.39 | CZ7: 3865.39 | DA7: 3865.39 | DB7: 3865.39 | DC7: 3865.39 | DD7: 3865.39 | DE7: 3865.39 | DF7: 3865.39 | DG7: 3865.39 | DH7: 3865.39 | DI7: 3865.39 | DJ7: 3865.39 | DK7: 3865.39 | DL7: 3865.39 | DM7: 3865.39 | DN7: 3865.39 | DO7: 3865.39 | DP7: 3865.39 | DQ7: 3865.39 | DR7: 3865.39 | DS7: 3865.39 | DT7: 3865.39 | DU7: 3865.39 | DV7: 3865.39 | DW7: 3865.39 | DX7: 3865.39 | DY7: 3865.39 | DZ7: 3865.39 | EA7: 3865.39 | EB7: 3865.39 | EC7: 3865.39 | ED7: 3865.39 | EE7: 3865.39 | EF7: 3865.39 | EG7: 3865.39 | EH7: 3865.39 | EI7: 3865.39 | EJ7: 3865.39 | EK7: 3865.39 | EL7: 3865.39 | EM7: 3865.39 | EN7: 3865.39 | EO7: 3865.39 | EP7: 3865.39 | EQ7: 3865.39 | ER7: 3865.39 | ES7: 3865.39 | ET7: 3865.39 | EU7: 3865.39 | EV7: 3865.39 | EW7: 3865.39 | EX7: 3865.39 | EY7: 3865.39 | EZ7: 3865.39 | FA7: 3865.39 | FB7: 3865.39 | FC7: 3865.39 | FD7: 3865.39 | FE7: 3865.39 | FF7: 3865.39 | FG7: 3865.39 | FH7: 3865.39 | FI7: 3865.39 | FJ7: 0 | FK7: 0 | FL7: 0 | FM7: 0 | FN7: 0 | FO7: 0 | FP7: 0 | FQ7: 0 | FR7: 0 | FS7: 0 | FT7: 0 | FU7: 0 | FV7: 0 | FW7: 0 | FX7: 0 | FY7: 0 | FZ7: 0 | GA7: 0 | GB7: 0 | GC7: 0 | GD7: 0 | GE7: 0 | GF7: 0 | GG7: 0 | GH7: 0 | GI7: 0 | GJ7: 135654
A8: 135663 | B8: =VLOOKUP(A8,'[9]Fluxo por Unidade'!$G:$H,2,0) -> 6417 | C8: Luciene Cassia Viana | D8: 857.816.301-04 | E8: 0.1003 | F8: SWISS PARK ANAPOLIS | G8: Swiss Park Zurich - Anápolis | H8: =VLOOKUP(B8,Elegibilidade!A:I,9,0) -> Elegível | I8: 152 | J8: =SUMIFS(Inadimplência!Q:Q,Inadimplência!A:A,FluxoFuturo!B8) -> 0 | K8: =NPV(0.8%,T8:GI8) -> 331983.16 | L8: =J8+K8 -> 331983.16 | M8: Adimplente | N8: 331983.16 | O8: =NPV((1+12%)^(1/12)-1,T8:FY8) -> 304887.5 | P8: =Vendas!$J$2 -> 886.38148 | Q8: =VLOOKUP(B8,Vendas!A:F,6,0) -> 386.22 | R8: =P8*Q8 -> 342338.26 | S8: =O8/R8 -> 0.89060307 | T8: 17022.52 | U8: 2558.8 | V8: 2558.8 | W8: 2558.8 | X8: 2558.8 | Y8: 2558.8 | Z8: 2558.8 | AA8: 2558.8 | AB8: 2558.8 | AC8: 2558.8 | AD8: 2558.8 | AE8: 2558.8 | AF8: 17022.52 | AG8: 2558.8 | AH8: 2558.8 | AI8: 2558.8 | AJ8: 2558.8 | AK8: 2558.8 | AL8: 2558.8 | AM8: 2558.8 | AN8: 2558.8 | AO8: 2558.8 | AP8: 2558.8 | AQ8: 2558.8 | AR8: 17022.52 | AS8: 2558.8 | AT8: 2558.8 | AU8: 2558.8 | AV8: 2558.8 | AW8: 2558.8 | AX8: 2558.8 | AY8: 2558.8 | AZ8: 2558.8 | BA8: 2558.8 | BB8: 2558.8 | BC8: 2558.8 | BD8: 17022.52 | BE8: 2558.8 | BF8: 2558.8 | BG8: 2558.8 | BH8: 2558.8 | BI8: 2558.8 | BJ8: 2558.8 | BK8: 2558.8 | BL8: 2558.8 | BM8: 2558.8 | BN8: 2558.8 | BO8: 2558.8 | BP8: 17022.52 | BQ8: 2558.8 | BR8: 2558.8 | BS8: 2558.8 | BT8: 2558.8 | BU8: 2558.8 | BV8: 2558.8 | BW8: 2558.8 | BX8: 2558.8 | BY8: 2558.8 | BZ8: 2558.8 | CA8: 2558.8 | CB8: 17022.52 | CC8: 2558.8 | CD8: 2558.8 | CE8: 2558.8 | CF8: 2558.8 | CG8: 2558.8 | CH8: 2558.8 | CI8: 2558.8 | CJ8: 2558.8 | CK8: 2558.8 | CL8: 2558.8 | CM8: 2558.8 | CN8: 17022.52 | CO8: 2558.8 | CP8: 2558.8 | CQ8: 2558.8 | CR8: 2558.8 | CS8: 2558.8 | CT8: 2558.8 | CU8: 2558.8 | CV8: 2558.8 | CW8: 2558.8 | CX8: 2558.8 | CY8: 2558.8 | CZ8: 17022.52 | DA8: 2558.8 | DB8: 2558.8 | DC8: 2558.8 | DD8: 2558.8 | DE8: 2558.8 | DF8: 2558.8 | DG8: 2558.8 | DH8: 2558.8 | DI8: 2558.8 | DJ8: 2558.8 | DK8: 2558.8 | DL8: 17022.52 | DM8: 2558.8 | DN8: 2558.8 | DO8: 2558.8 | DP8: 2558.8 | DQ8: 2558.8 | DR8: 2558.8 | DS8: 2558.8 | DT8: 2558.8 | DU8: 2558.8 | DV8: 2558.8 | DW8: 2558.8 | DX8: 17022.52 | DY8: 2558.8 | DZ8: 2558.8 | EA8: 2558.8 | EB8: 2558.8 | EC8: 2558.8 | ED8: 2558.8 | EE8: 2558.8 | EF8: 2558.8 | EG8: 2558.8 | EH8: 2558.8 | EI8: 2558.8 | EJ8: 17022.52 | EK8: 2558.8 | EL8: 2558.8 | EM8: 2558.8 | EN8: 2558.8 | EO8: 2558.8 | EP8: 2558.8 | EQ8: 2558.8 | ER8: 2558.8 | ES8: 2558.8 | ET8: 2558.8 | EU8: 2558.8 | EV8: 17022.52 | EW8: 2558.8 | EX8: 2558.8 | EY8: 2558.8 | EZ8: 2558.8 | FA8: 2558.8 | FB8: 2558.8 | FC8: 2558.8 | FD8: 2558.8 | FE8: 2558.8 | FF8: 2558.8 | FG8: 2558.8 | FH8: 2558.8 | FI8: 2558.8 | FJ8: 2558.8 | FK8: 2558.8 | FL8: 2558.8 | FM8: 2558.8 | FN8: 2558.8 | FO8: 2558.33 | FP8: 0 | FQ8: 0 | FR8: 0 | FS8: 0 | FT8: 0 | FU8: 0 | FV8: 0 | FW8: 0 | FX8: 0 | FY8: 0 | FZ8: 0 | GA8: 0 | GB8: 0 | GC8: 0 | GD8: 0 | GE8: 0 | GF8: 0 | GG8: 0 | GH8: 0 | GI8: 0 | GJ8: 135663
A9: 135923 | B9: =VLOOKUP(A9,'[9]Fluxo por Unidade'!$G:$H,2,0) -> 6497 | C9: Moises Elias De Souza Alves | D9: 042.851.991-14 | E9: 0.100339 | F9: SWISS PARK ANAPOLIS | G9: Swiss Park Zurich - Anápolis | H9: =VLOOKUP(B9,Elegibilidade!A:I,9,0) -> Inelegível | I9: 162 | J9: =SUMIFS(Inadimplência!Q:Q,Inadimplência!A:A,FluxoFuturo!B9) -> 0 | K9: =NPV(0.8%,T9:GI9) -> 330248.38 | L9: =J9+K9 -> 330248.38 | M9: Adimplente | N9: 330248.38 | O9: =NPV((1+12%)^(1/12)-1,T9:FY9) -> 301225.83 | P9: =Vendas!$J$2 -> 886.38148 | Q9: =VLOOKUP(B9,Vendas!A:F,6,0) -> 376.8 | R9: =P9*Q9 -> 333988.54 | S9: =O9/R9 -> 0.90190469 | T9: 4047.61 | U9: 4047.61 | V9: 2581.06 | W9: 2581.06 | X9: 2581.06 | Y9: 2581.06 | Z9: 2581.06 | AA9: 2581.06 | AB9: 2581.06 | AC9: 2581.06 | AD9: 16210.43 | AE9: 2581.06 | AF9: 2581.06 | AG9: 2581.06 | AH9: 2581.06 | AI9: 2581.06 | AJ9: 2581.06 | AK9: 2581.06 | AL9: 2581.06 | AM9: 2581.06 | AN9: 2581.06 | AO9: 2581.06 | AP9: 16210.43 | AQ9: 2581.06 | AR9: 2581.06 | AS9: 2581.06 | AT9: 2581.06 | AU9: 2581.06 | AV9: 2581.06 | AW9: 2581.06 | AX9: 2581.06 | AY9: 2581.06 | AZ9: 2581.06 | BA9: 2581.06 | BB9: 16210.43 | BC9: 2581.06 | BD9: 2581.06 | BE9: 2581.06 | BF9: 2581.06 | BG9: 2581.06 | BH9: 2581.06 | BI9: 2581.06 | BJ9: 2581.06 | BK9: 2581.06 | BL9: 2581.06 | BM9: 2581.06 | BN9: 16210.43 | BO9: 2581.06 | BP9: 2581.06 | BQ9: 2581.06 | BR9: 2581.06 | BS9: 2581.06 | BT9: 2581.06 | BU9: 2581.06 | BV9: 2581.06 | BW9: 2581.06 | BX9: 2581.06 | BY9: 2581.06 | BZ9: 16210.43 | CA9: 2581.06 | CB9: 2581.06 | CC9: 2581.06 | CD9: 2581.06 | CE9: 2581.06 | CF9: 2581.06 | CG9: 2581.06 | CH9: 2581.06 | CI9: 2581.06 | CJ9: 2581.06 | CK9: 2581.06 | CL9: 16210.43 | CM9: 2581.06 | CN9: 2581.06 | CO9: 2581.06 | CP9: 2581.06 | CQ9: 2581.06 | CR9: 2581.06 | CS9: 2581.06 | CT9: 2581.06 | CU9: 2581.06 | CV9: 2581.06 | CW9: 2581.06 | CX9: 16210.43 | CY9: 2581.06 | CZ9: 2581.06 | DA9: 2581.06 | DB9: 2581.06 | DC9: 2581.06 | DD9: 2581.06 | DE9: 2581.06 | DF9: 2581.06 | DG9: 2581.06 | DH9: 2581.06 | DI9: 2581.06 | DJ9: 16210.43 | DK9: 2581.06 | DL9: 2581.06 | DM9: 2581.06 | DN9: 2581.06 | DO9: 2581.06 | DP9: 2581.06 | DQ9: 2581.06 | DR9: 2581.06 | DS9: 2581.06 | DT9: 2581.06 | DU9: 2581.06 | DV9: 16210.43 | DW9: 2581.06 | DX9: 2581.06 | DY9: 2581.06 | DZ9: 2581.06 | EA9: 2581.06 | EB9: 2581.06 | EC9: 2581.06 | ED9: 2581.06 | EE9: 2581.06 | EF9: 2581.06 | EG9: 2581.06 | EH9: 16210.43 | EI9: 2581.06 | EJ9: 2581.06 | EK9: 2581.06 | EL9: 2581.06 | EM9: 2581.06 | EN9: 2581.06 | EO9: 2581.06 | EP9: 2581.06 | EQ9: 2581.06 | ER9: 2581.06 | ES9: 2581.06 | ET9: 16210.43 | EU9: 2581.06 | EV9: 2581.06 | EW9: 2581.06 | EX9: 2581.06 | EY9: 2581.06 | EZ9: 2581.06 | FA9: 2581.06 | FB9: 2581.06 | FC9: 2581.06 | FD9: 2581.06 | FE9: 2581.06 | FF9: 16210.4 | FG9: 2581.06 | FH9: 2581.06 | FI9: 2581.06 | FJ9: 2581.06 | FK9: 2581.06 | FL9: 2581.06 | FM9: 2581.06 | FN9: 2581.06 | FO9: 2581.06 | FP9: 2581.06 | FQ9: 2581.06 | FR9: 2581.06 | FS9: 2581.06 | FT9: 2581.06 | FU9: 2581.06 | FV9: 2581.06 | FW9: 2581.06 | FX9: 2581.06 | FY9: 2580.63 | FZ9: 0 | GA9: 0 | GB9: 0 | GC9: 0 | GD9: 0 | GE9: 0 | GF9: 0 | GG9: 0 | GH9: 0 | GI9: 0 | GJ9: 135923
A10: 135652 | B10: =VLOOKUP(A10,'[9]Fluxo por Unidade'!$G:$H,2,0) -> 6414 | C10: Joao Vitor Florian | D10: 753.943.751-00 | E10: 0.1003 | F10: SWISS PARK ANAPOLIS | G10: Swiss Park Zurich - Anápolis | H10: =VLOOKUP(B10,Elegibilidade!A:I,9,0) -> Elegível | I10: 154 | J10: =SUMIFS(Inadimplência!Q:Q,Inadimplência!A:A,FluxoFuturo!B10) -> 0 | K10: =NPV(0.8%,T10:GI10) -> 329777.54 | L10: =J10+K10 -> 329777.54 | M10: Adimplente | N10: 329777.54 | O10: =NPV((1+12%)^(1/12)-1,T10:FY10) -> 301477.66 | P10: =Vendas!$J$2 -> 886.38148 | Q10: =VLOOKUP(B10,Vendas!A:F,6,0) -> 385.77 | R10: =P10*Q10 -> 341939.38 | S10: =O10/R10 -> 0.88166991 | T10: 3732.32 | U10: 3732.32 | V10: 3732.32 | W10: 3732.32 | X10: 3732.32 | Y10: 3732.32 | Z10: 3732.32 | AA10: 3732.32 | AB10: 3732.32 | AC10: 3732.32 | AD10: 3732.32 | AE10: 3732.32 | AF10: 3732.32 | AG10: 3732.32 | AH10: 3732.32 | AI10: 3732.32 | AJ10: 3732.32 | AK10: 3732.32 | AL10: 3732.32 | AM10: 3732.32 | AN10: 3732.32 | AO10: 3732.32 | AP10: 3732.32 | AQ10: 3732.32 | AR10: 3732.32 | AS10: 3732.32 | AT10: 3732.32 | AU10: 3732.32 | AV10: 3732.32 | AW10: 3732.32 | AX10: 3732.32 | AY10: 3732.32 | AZ10: 3732.32 | BA10: 3732.32 | BB10: 3732.32 | BC10: 3732.32 | BD10: 3732.32 | BE10: 3732.32 | BF10: 3732.32 | BG10: 3732.32 | BH10: 3732.32 | BI10: 3732.32 | BJ10: 3732.32 | BK10: 3732.32 | BL10: 3732.32 | BM10: 3732.32 | BN10: 3732.32 | BO10: 3732.32 | BP10: 3732.32 | BQ10: 3732.32 | BR10: 3732.32 | BS10: 3732.32 | BT10: 3732.32 | BU10: 3732.32 | BV10: 3732.32 | BW10: 3732.32 | BX10: 3732.32 | BY10: 3732.32 | BZ10: 3732.32 | CA10: 3732.32 | CB10: 3732.32 | CC10: 3732.32 | CD10: 3732.32 | CE10: 3732.32 | CF10: 3732.32 | CG10: 3732.32 | CH10: 3732.32 | CI10: 3732.32 | CJ10: 3732.32 | CK10: 3732.32 | CL10: 3732.32 | CM10: 3732.32 | CN10: 3732.32 | CO10: 3732.32 | CP10: 3732.32 | CQ10: 3732.32 | CR10: 3732.32 | CS10: 3732.32 | CT10: 3732.32 | CU10: 3732.32 | CV10: 3732.32 | CW10: 3732.32 | CX10: 3732.32 | CY10: 3732.32 | CZ10: 3732.32 | DA10: 3732.32 | DB10: 3732.32 | DC10: 3732.32 | DD10: 3732.32 | DE10: 3732.32 | DF10: 3732.32 | DG10: 3732.32 | DH10: 3732.32 | DI10: 3732.32 | DJ10: 3732.32 | DK10: 3732.32 | DL10: 3732.32 | DM10: 3732.32 | DN10: 3732.32 | DO10: 3732.32 | DP10: 3732.32 | DQ10: 3732.32 | DR10: 3732.32 | DS10: 3732.32 | DT10: 3732.32 | DU10: 3732.32 | DV10: 3732.32 | DW10: 3732.32 | DX10: 3732.32 | DY10: 3732.32 | DZ10: 3732.32 | EA10: 3732.32 | EB10: 3732.32 | EC10: 3732.32 | ED10: 3732.32 | EE10: 3732.32 | EF10: 3732.32 | EG10: 3732.32 | EH10: 3732.32 | EI10: 3732.32 | EJ10: 3732.32 | EK10: 3732.32 | EL10: 3732.32 | EM10: 3732.32 | EN10: 3732.32 | EO10: 3732.32 | EP10: 3732.32 | EQ10: 3732.32 | ER10: 3732.32 | ES10: 3732.32 | ET10: 3732.32 | EU10: 3732.32 | EV10: 3732.32 | EW10: 3732.32 | EX10: 3732.32 | EY10: 3732.32 | EZ10: 3732.32 | FA10: 3732.32 | FB10: 3732.32 | FC10: 3732.32 | FD10: 3732.32 | FE10: 3732.32 | FF10: 3732.32 | FG10: 3732.32 | FH10: 3732.32 | FI10: 3732.32 | FJ10: 3732.32 | FK10: 3732.32 | FL10: 3732.32 | FM10: 3732.32 | FN10: 3732.32 | FO10: 3732.32 | FP10: 3732.32 | FQ10: 3732.35 | FR10: 0 | FS10: 0 | FT10: 0 | FU10: 0 | FV10: 0 | FW10: 0 | FX10: 0 | FY10: 0 | FZ10: 0 | GA10: 0 | GB10: 0 | GC10: 0 | GD10: 0 | GE10: 0 | GF10: 0 | GG10: 0 | GH10: 0 | GI10: 0 | GJ10: 135652
A11: 135672 | B11: =VLOOKUP(A11,'[9]Fluxo por Unidade'!$G:$H,2,0) -> 6453 | C11: Pamella Suelley Gino Ribeiro | D11: 006.433.111-30 | E11: 0.1003 | F11: SWISS PARK ANAPOLIS | G11: Swiss Park Zurich - Anápolis | H11: =VLOOKUP(B11,Elegibilidade!A:I,9,0) -> Elegível | I11: 153 | J11: =SUMIFS(Inadimplência!Q:Q,Inadimplência!A:A,FluxoFuturo!B11) -> 0 | K11: =NPV(0.8%,T11:GI11) -> 326296.89 | L11: =J11+K11 -> 326296.89 | M11: Adimplente | N11: 326296.89 | O11: =NPV((1+12%)^(1/12)-1,T11:FY11) -> 298423.33 | P11: =Vendas!$J$2 -> 886.38148 | Q11: =VLOOKUP(B11,Vendas!A:F,6,0) -> 376.79 | R11: =P11*Q11 -> 333979.68 | S11: =O11/R11 -> 0.89353738 | T11: 3705.22 | U11: 3705.22 | V11: 3705.22 | W11: 3705.22 | X11: 3705.22 | Y11: 3705.22 | Z11: 3705.22 | AA11: 3705.22 | AB11: 3705.22 | AC11: 3705.22 | AD11: 3705.22 | AE11: 3705.22 | AF11: 3705.22 | AG11: 3705.22 | AH11: 3705.22 | AI11: 3705.22 | AJ11: 3705.22 | AK11: 3705.22 | AL11: 3705.22 | AM11: 3705.22 | AN11: 3705.22 | AO11: 3705.22 | AP11: 3705.22 | AQ11: 3705.22 | AR11: 3705.22 | AS11: 3705.22 | AT11: 3705.22 | AU11: 3705.22 | AV11: 3705.22 | AW11: 3705.22 | AX11: 3705.22 | AY11: 3705.22 | AZ11: 3705.22 | BA11: 3705.22 | BB11: 3705.22 | BC11: 3705.22 | BD11: 3705.22 | BE11: 3705.22 | BF11: 3705.22 | BG11: 3705.22 | BH11: 3705.22 | BI11: 3705.22 | BJ11: 3705.22 | BK11: 3705.22 | BL11: 3705.22 | BM11: 3705.22 | BN11: 3705.22 | BO11: 3705.22 | BP11: 3705.22 | BQ11: 3705.22 | BR11: 3705.22 | BS11: 3705.22 | BT11: 3705.22 | BU11: 3705.22 | BV11: 3705.22 | BW11: 3705.22 | BX11: 3705.22 | BY11: 3705.22 | BZ11: 3705.22 | CA11: 3705.22 | CB11: 3705.22 | CC11: 3705.22 | CD11: 3705.22 | CE11: 3705.22 | CF11: 3705.22 | CG11: 3705.22 | CH11: 3705.22 | CI11: 3705.22 | CJ11: 3705.22 | CK11: 3705.22 | CL11: 3705.22 | CM11: 3705.22 | CN11: 3705.22 | CO11: 3705.22 | CP11: 3705.22 | CQ11: 3705.22 | CR11: 3705.22 | CS11: 3705.22 | CT11: 3705.22 | CU11: 3705.22 | CV11: 3705.22 | CW11: 3705.22 | CX11: 3705.22 | CY11: 3705.22 | CZ11: 3705.22 | DA11: 3705.22 | DB11: 3705.22 | DC11: 3705.22 | DD11: 3705.22 | DE11: 3705.22 | DF11: 3705.22 | DG11: 3705.22 | DH11: 3705.22 | DI11: 3705.22 | DJ11: 3705.22 | DK11: 3705.22 | DL11: 3705.22 | DM11: 3705.22 | DN11: 3705.22 | DO11: 3705.22 | DP11: 3705.22 | DQ11: 3705.22 | DR11: 3705.22 | DS11: 3705.22 | DT11: 3705.22 | DU11: 3705.22 | DV11: 3705.22 | DW11: 3705.22 | DX11: 3705.22 | DY11: 3705.22 | DZ11: 3705.22 | EA11: 3705.22 | EB11: 3705.22 | EC11: 3705.22 | ED11: 3705.22 | EE11: 3705.22 | EF11: 3705.22 | EG11: 3705.22 | EH11: 3705.22 | EI11: 3705.22 | EJ11: 3705.22 | EK11: 3705.22 | EL11: 3705.22 | EM11: 3705.22 | EN11: 3705.22 | EO11: 3705.22 | EP11: 3705.22 | EQ11: 3705.22 | ER11: 3705.22 | ES11: 3705.22 | ET11: 3705.22 | EU11: 3705.22 | EV11: 3705.22 | EW11: 3705.22 | EX11: 3705.22 | EY11: 3705.22 | EZ11: 3705.22 | FA11: 3705.22 | FB11: 3705.22 | FC11: 3705.22 | FD11: 3705.22 | FE11: 3705.22 | FF11: 3705.22 | FG11: 3705.22 | FH11: 3705.22 | FI11: 3705.22 | FJ11: 3705.22 | FK11: 3705.22 | FL11: 3705.22 | FM11: 3705.22 | FN11: 3705.22 | FO11: 3705.22 | FP11: 3705.22 | FQ11: 0 | FR11: 0 | FS11: 0 | FT11: 0 | FU11: 0 | FV11: 0 | FW11: 0 | FX11: 0 | FY11: 0 | FZ11: 0 | GA11: 0 | GB11: 0 | GC11: 0 | GD11: 0 | GE11: 0 | GF11: 0 | GG11: 0 | GH11: 0 | GI11: 0 | GJ11: 135672
A12: 135634 | B12: =VLOOKUP(A12,'[9]Fluxo por Unidade'!$G:$H,2,0) -> 6427 | C12: Fabiana Faria Flor Sabino | D12: 936.975.461-04 | E12: 0.1003 | F12: SWISS PARK ANAPOLIS | G12: Swiss Park Zurich - Anápolis | H12: =VLOOKUP(B12,Elegibilidade!A:I,9,0) -> Elegível | I12: 151 | J12: =SUMIFS(Inadimplência!Q:Q,Inadimplência!A:A,FluxoFuturo!B12) -> 0 | K12: =NPV(0.8%,T12:GI12) -> 323536.31 | L12: =J12+K12 -> 323536.31 | M12: Adimplente | N12: 323536.31 | O12: =NPV((1+12%)^(1/12)-1,T12:FY12) -> 297218.88 | P12: =Vendas!$J$2 -> 886.38148 | Q12: =VLOOKUP(B12,Vendas!A:F,6,0) -> 377.26 | R12: =P12*Q12 -> 334396.28 | S12: =O12/R12 -> 0.88882235 | T12: 16627.59 | U12: 2499.43 | V12: 2499.43 | W12: 2499.43 | X12: 2499.43 | Y12: 2499.43 | Z12: 2499.43 | AA12: 2499.43 | AB12: 2499.43 | AC12: 2499.43 | AD12: 2499.43 | AE12: 2499.43 | AF12: 16627.59 | AG12: 2499.43 | AH12: 2499.43 | AI12: 2499.43 | AJ12: 2499.43 | AK12: 2499.43 | AL12: 2499.43 | AM12: 2499.43 | AN12: 2499.43 | AO12: 2499.43 | AP12: 2499.43 | AQ12: 2499.43 | AR12: 16627.59 | AS12: 2499.43 | AT12: 2499.43 | AU12: 2499.43 | AV12: 2499.43 | AW12: 2499.43 | AX12: 2499.43 | AY12: 2499.43 | AZ12: 2499.43 | BA12: 2499.43 | BB12: 2499.43 | BC12: 2499.43 | BD12: 16627.59 | BE12: 2499.43 | BF12: 2499.43 | BG12: 2499.43 | BH12: 2499.43 | BI12: 2499.43 | BJ12: 2499.43 | BK12: 2499.43 | BL12: 2499.43 | BM12: 2499.43 | BN12: 2499.43 | BO12: 2499.43 | BP12: 16627.59 | BQ12: 2499.43 | BR12: 2499.43 | BS12: 2499.43 | BT12: 2499.43 | BU12: 2499.43 | BV12: 2499.43 | BW12: 2499.43 | BX12: 2499.43 | BY12: 2499.43 | BZ12: 2499.43 | CA12: 2499.43 | CB12: 16627.59 | CC12: 2499.43 | CD12: 2499.43 | CE12: 2499.43 | CF12: 2499.43 | CG12: 2499.43 | CH12: 2499.43 | CI12: 2499.43 | CJ12: 2499.43 | CK12: 2499.43 | CL12: 2499.43 | CM12: 2499.43 | CN12: 16627.59 | CO12: 2499.43 | CP12: 2499.43 | CQ12: 2499.43 | CR12: 2499.43 | CS12: 2499.43 | CT12: 2499.43 | CU12: 2499.43 | CV12: 2499.43 | CW12: 2499.43 | CX12: 2499.43 | CY12: 2499.43 | CZ12: 16627.59 | DA12: 2499.43 | DB12: 2499.43 | DC12: 2499.43 | DD12: 2499.43 | DE12: 2499.43 | DF12: 2499.43 | DG12: 2499.43 | DH12: 2499.43 | DI12: 2499.43 | DJ12: 2499.43 | DK12: 2499.43 | DL12: 16627.59 | DM12: 2499.43 | DN12: 2499.43 | DO12: 2499.43 | DP12: 2499.43 | DQ12: 2499.43 | DR12: 2499.43 | DS12: 2499.43 | DT12: 2499.43 | DU12: 2499.43 | DV12: 2499.43 | DW12: 2499.43 | DX12: 16627.59 | DY12: 2499.43 | DZ12: 2499.43 | EA12: 2499.43 | EB12: 2499.43 | EC12: 2499.43 | ED12: 2499.43 | EE12: 2499.43 | EF12: 2499.43 | EG12: 2499.43 | EH12: 2499.43 | EI12: 2499.43 | EJ12: 16627.59 | EK12: 2499.43 | EL12: 2499.43 | EM12: 2499.43 | EN12: 2499.43 | EO12: 2499.43 | EP12: 2499.43 | EQ12: 2499.43 | ER12: 2499.43 | ES12: 2499.43 | ET12: 2499.43 | EU12: 2499.43 | EV12: 16627.59 | EW12: 2499.43 | EX12: 2499.43 | EY12: 2499.43 | EZ12: 2499.43 | FA12: 2499.43 | FB12: 2499.43 | FC12: 2499.43 | FD12: 2499.43 | FE12: 2499.43 | FF12: 2499.43 | FG12: 2499.43 | FH12: 2499.43 | FI12: 2499.43 | FJ12: 2499.43 | FK12: 2499.43 | FL12: 2499.43 | FM12: 2499.43 | FN12: 2499.43 | FO12: 0 | FP12: 0 | FQ12: 0 | FR12: 0 | FS12: 0 | FT12: 0 | FU12: 0 | FV12: 0 | FW12: 0 | FX12: 0 | FY12: 0 | FZ12: 0 | GA12: 0 | GB12: 0 | GC12: 0 | GD12: 0 | GE12: 0 | GF12: 0 | GG12: 0 | GH12: 0 | GI12: 0 | GJ12: 135634
A13: 135616 | B13: =VLOOKUP(A13,'[9]Fluxo por Unidade'!$G:$H,2,0) -> 6399 | C13: Ancor Construtora Ltda | D13: 28.241.797/0001-38 | E13: 0.1003 | F13: SWISS PARK ANAPOLIS | G13: Swiss Park Zurich - Anápolis | H13: =VLOOKUP(B13,Elegibilidade!A:I,9,0) -> Elegível | I13: 150 | J13: =SUMIFS(Inadimplência!Q:Q,Inadimplência!A:A,FluxoFuturo!B13) -> 0 | K13: =NPV(0.8%,T13:GI13) -> 322829.09 | L13: =J13+K13 -> 322829.09 | M13: Adimplente | N13: 322829.09 | O13: =NPV((1+12%)^(1/12)-1,T13:FY13) -> 295634.05 | P13: =Vendas!$J$2 -> 886.38148 | Q13: =VLOOKUP(B13,Vendas!A:F,6,0) -> 434.56 | R13: =P13*Q13 -> 385185.94 | S13: =O13/R13 -> 0.76750999 | T13: 3703.42 | U13: 3703.42 | V13: 3703.42 | W13: 3703.42 | X13: 3703.42 | Y13: 3703.42 | Z13: 3703.42 | AA13: 3703.42 | AB13: 3703.42 | AC13: 3703.42 | AD13: 3703.42 | AE13: 3703.42 | AF13: 3703.42 | AG13: 3703.42 | AH13: 3703.42 | AI13: 3703.42 | AJ13: 3703.42 | AK13: 3703.42 | AL13: 3703.42 | AM13: 3703.42 | AN13: 3703.42 | AO13: 3703.42 | AP13: 3703.42 | AQ13: 3703.42 | AR13: 3703.42 | AS13: 3703.42 | AT13: 3703.42 | AU13: 3703.42 | AV13: 3703.42 | AW13: 3703.42 | AX13: 3703.42 | AY13: 3703.42 | AZ13: 3703.42 | BA13: 3703.42 | BB13: 3703.42 | BC13: 3703.42 | BD13: 3703.42 | BE13: 3703.42 | BF13: 3703.42 | BG13: 3703.42 | BH13: 3703.42 | BI13: 3703.42 | BJ13: 3703.42 | BK13: 3703.42 | BL13: 3703.42 | BM13: 3703.42 | BN13: 3703.42 | BO13: 3703.42 | BP13: 3703.42 | BQ13: 3703.42 | BR13: 3703.42 | BS13: 3703.42 | BT13: 3703.42 | BU13: 3703.42 | BV13: 3703.42 | BW13: 3703.42 | BX13: 3703.42 | BY13: 3703.42 | BZ13: 3703.42 | CA13: 3703.42 | CB13: 3703.42 | CC13: 3703.42 | CD13: 3703.42 | CE13: 3703.42 | CF13: 3703.42 | CG13: 3703.42 | CH13: 3703.42 | CI13: 3703.42 | CJ13: 3703.42 | CK13: 3703.42 | CL13: 3703.42 | CM13: 3703.42 | CN13: 3703.42 | CO13: 3703.42 | CP13: 3703.42 | CQ13: 3703.42 | CR13: 3703.42 | CS13: 3703.42 | CT13: 3703.42 | CU13: 3703.42 | CV13: 3703.42 | CW13: 3703.42 | CX13: 3703.42 | CY13: 3703.42 | CZ13: 3703.42 | DA13: 3703.42 | DB13: 3703.42 | DC13: 3703.42 | DD13: 3703.42 | DE13: 3703.42 | DF13: 3703.42 | DG13: 3703.42 | DH13: 3703.42 | DI13: 3703.42 | DJ13: 3703.42 | DK13: 3703.42 | DL13: 3703.42 | DM13: 3703.42 | DN13: 3703.42 | DO13: 3703.42 | DP13: 3703.42 | DQ13: 3703.42 | DR13: 3703.42 | DS13: 3703.42 | DT13: 3703.42 | DU13: 3703.42 | DV13: 3703.42 | DW13: 3703.42 | DX13: 3703.42 | DY13: 3703.42 | DZ13: 3703.42 | EA13: 3703.42 | EB13: 3703.42 | EC13: 3703.42 | ED13: 3703.42 | EE13: 3703.42 | EF13: 3703.42 | EG13: 3703.42 | EH13: 3703.42 | EI13: 3703.42 | EJ13: 3703.42 | EK13: 3703.42 | EL13: 3703.42 | EM13: 3703.42 | EN13: 3703.42 | EO13: 3703.42 | EP13: 3703.42 | EQ13: 3703.42 | ER13: 3703.42 | ES13: 3703.42 | ET13: 3703.42 | EU13: 3703.42 | EV13: 3703.42 | EW13: 3703.42 | EX13: 3703.42 | EY13: 3703.42 | EZ13: 3703.42 | FA13: 3703.42 | FB13: 3703.42 | FC13: 3703.42 | FD13: 3703.42 | FE13: 3703.42 | FF13: 3703.42 | FG13: 3703.42 | FH13: 3703.42 | FI13: 3703.42 | FJ13: 3703.42 | FK13: 3703.42 | FL13: 3703.42 | FM13: 3703.38 | FN13: 0 | FO13: 0 | FP13: 0 | FQ13: 0 | FR13: 0 | FS13: 0 | FT13: 0 | FU13: 0 | FV13: 0 | FW13: 0 | FX13: 0 | FY13: 0 | FZ13: 0 | GA13: 0 | GB13: 0 | GC13: 0 | GD13: 0 | GE13: 0 | GF13: 0 | GG13: 0 | GH13: 0 | GI13: 0 | GJ13: 135616
