Workbook
Name __MAIN__: #REF!
Name __memParams__: #REF!
Name __qryTitLiq__: #REF!
Name AMORTIZACAO: OFFSET(#REF!,0,0,COUNT(#REF!),1)
Name DATA: #REF!
Name FF: #REF!
Name ffb: #REF!
Name JUROS: OFFSET(#REF!,0,0,COUNT(#REF!),1)
Name LISTA: #REF!
Name parcelas: OFFSET(#REF!,0,0,COUNT(#REF!),1)
Name RATING: #REF!
Name Record_Data_Cutoff: #REF!
Name Todos: #REF!
Name TotalGeral: #REF!

Sheet Visão Geral
B2: Relatório de Monitoramento Mensal - CRI 72E01S Porteira de Ferro | H2: HISTÓRICO
F3: 45627 | H3: 45597 | I3: 45566 | J3: 45536
B5: 1. | C5: Saldo Devedor da Carteira Full (Valor Nominal) | F5: =[1]Recebíveis!I9 -> 79955094 | H5: 85906879 | I5: 84063790 | J5: 84265396
B7: 1.1 | C7: Por tipo de parcela | F7: =[1]Recebíveis!I9 -> 79955094 | H7: 85906879 | I7: 84063790 | J7: 84265396
C8: Sinal | F8: =SUMIFS([1]Recebíveis!$I:$I,[1]Recebíveis!$H:$H,'Visão Geral'!C8) -> 0 | H8: 0 | I8: 0 | J8: 0
C9: Anual | F9: =SUMIFS([1]Recebíveis!$I:$I,[1]Recebíveis!$H:$H,'Visão Geral'!C9) -> 0 | H9: 0 | I9: 0 | J9: 0
C10: Mensal | F10: =SUMIFS([1]Recebíveis!$I:$I,[1]Recebíveis!$H:$H,'Visão Geral'!C10) -> 79955094 | H10: 85906879 | I10: 84063790 | J10: 84265396
C11: Única | F11: =SUMIFS([1]Recebíveis!$I:$I,[1]Recebíveis!$H:$H,'Visão Geral'!C11) -> 0 | H11: 0 | I11: 0 | J11: 0
C12: Semestral | F12: =SUMIFS([1]Recebíveis!$I:$I,[1]Recebíveis!$H:$H,'Visão Geral'!C12) -> 0 | H12: 0 | I12: 0 | J12: 0
C13: Permuta | F13: =SUMIFS([1]Recebíveis!$I:$I,[1]Recebíveis!$H:$H,'Visão Geral'!C13) -> 0 | H13: 0 | I13: 0 | J13: 0
B15: 2. | C15: Saldo Devedor da Carteira Full (Valor Presente - Taxa da Operação - IPCA + 10,85% a.a.) | F15: =[1]Recebíveis!K9 -> 60862637 | H15: 65080957 | I15: 63653918 | J15: 63487913
B17: 2.1 | C17: Por tipo de parcela | F17: =[1]Recebíveis!K9 -> 60862637 | H17: 65080957 | I17: 63653918 | J17: 63487913
C18: Sinal | F18: =SUMIFS([1]Recebíveis!$K:$K,[1]Recebíveis!$H:$H,'Visão Geral'!C18) -> 0 | H18: 0 | I18: 0 | J18: 0
C19: Anual | F19: =SUMIFS([1]Recebíveis!$K:$K,[1]Recebíveis!$H:$H,'Visão Geral'!C19) -> 0 | H19: 0 | I19: 0 | J19: 0
C20: Mensal | F20: =SUMIFS([1]Recebíveis!$K:$K,[1]Recebíveis!$H:$H,'Visão Geral'!C20) -> 60862637 | H20: 65080957 | I20: 63653918 | J20: 63487913
C21: Única | F21: =SUMIFS([1]Recebíveis!$K:$K,[1]Recebíveis!$H:$H,'Visão Geral'!C21) -> 0 | H21: 0 | I21: 0 | J21: 0
C22: Semestral | F22: =SUMIFS([1]Recebíveis!$K:$K,[1]Recebíveis!$H:$H,'Visão Geral'!C22) -> 0 | H22: 0 | I22: 0 | J22: 0
C23: Permuta | F23: =SUMIFS([1]Recebíveis!$K:$K,[1]Recebíveis!$H:$H,'Visão Geral'!C23) -> 0 | H23: 0 | I23: 0 | J23: 0
B25: 3. | C25: Disponibilidade do Empreendimento | F25: =F26+F27+F28+F29 -> 104 | H25: 104 | I25: 104 | J25: 104
C26: Unidades Vendidas e Cedidas à Operação com fluxo | F26: =[1]Estoque!H2 -> 84 | H26: 86 | I26: 83 | J26: 82
C27: Unidades Quitadas | F27: =[1]Estoque!H5 -> 7 | H27: 7 | I27: 7 | J27: 7
C28: Disponíveis | F28: =[1]Estoque!H4 -> 13 | H28: 11 | I28: 14 | J28: 15
C29: Fora de Venda e/ou Dacionados | F29: =[1]Estoque!H3 -> 0 | H29: 0 | I29: 0 | J29: 0
B31: 4. | C31: Vendas - Qtde | F31: =COUNTIFS('[1]Vendas no Mês'!$G:$G,"Operação") -> 0 | H31: 3 | I31: 1 | J31: 0
B33: 5. | C33: Vendas - Valor | F33: =SUM('[1]Vendas no Mês'!$F$10:$F$1048576) -> 0 | H33: 2691135.3 | I33: 1273939.2 | J33: 0
B35: 6. | C35: Distratos no mês | F35: =COUNTIFS('[1]Distrato no Mês'!$G:$G,"Distrato") -> 2 | H35: 0 | I35: 0 | J35: 0
B37: 7. | C37: Recebimentos - Total | F37: ='[1]Recebimentos - Mês'!L8 -> 2641747.9 | H37: 1957909.4 | I37: 1643649.7 | J37: 2798307.3
B39: 7.1 | C39: Categoria do Recebimento | F39: ='[1]Recebimentos - Mês'!L8 -> 2641747.9 | H39: 1957909.4 | I39: 1643649.7 | J39: 2798307.3
C40: Em Dia | F40: =SUMIFS('[1]Recebimentos - Mês'!$L:$L,'[1]Recebimentos - Mês'!$N:$N,'Visão Geral'!C40) -> 2615281.7 | H40: 1945507.6 | I40: 1581294.9 | J40: 2643506.3
C42: Atrasado | F42: =SUMIFS('[1]Recebimentos - Mês'!$L:$L,'[1]Recebimentos - Mês'!$N:$N,'Visão Geral'!C42) -> 26466.19 | H42: 12401.8 | I42: 62354.86 | J42: 154800.96
C43: 1 a 30 dias | F43: =SUMIFS('[1]Recebimentos - Mês'!$L:$L,'[1]Recebimentos - Mês'!$N:$N,'Visão Geral'!$C$42,'[1]Recebimentos - Mês'!$O:$O,'Visão Geral'!C43) -> 13875.51 | H43: 0 | I43: 0 | J43: 92472
C44: 31 a 60 dias | F44: =SUMIFS('[1]Recebimentos - Mês'!$L:$L,'[1]Recebimentos - Mês'!$N:$N,'Visão Geral'!$C$42,'[1]Recebimentos - Mês'!$O:$O,'Visão Geral'!C44) -> 12590.68 | H44: 12401.8 | I44: 23278.89 | J44: 12328.96
C45: 61 a 90 dias | F45: =SUMIFS('[1]Recebimentos - Mês'!$L:$L,'[1]Recebimentos - Mês'!$N:$N,'Visão Geral'!$C$42,'[1]Recebimentos - Mês'!$O:$O,'Visão Geral'!C45) -> 0 | H45: 0 | I45: 11143.43 | J45: 0
C46: 91 a 120 dias | F46: =SUMIFS('[1]Recebimentos - Mês'!$L:$L,'[1]Recebimentos - Mês'!$N:$N,'Visão Geral'!$C$42,'[1]Recebimentos - Mês'!$O:$O,'Visão Geral'!C46) -> 0 | H46: 0 | I46: 27932.54 | J46: 50000
C47: 121 a 150 dias | F47: =SUMIFS('[1]Recebimentos - Mês'!$L:$L,'[1]Recebimentos - Mês'!$N:$N,'Visão Geral'!$C$42,'[1]Recebimentos - Mês'!$O:$O,'Visão Geral'!C47) -> 0 | H47: 0 | I47: 0 | J47: 0
C48: 151 a 180 dias | F48: =SUMIFS('[1]Recebimentos - Mês'!$L:$L,'[1]Recebimentos - Mês'!$N:$N,'Visão Geral'!$C$42,'[1]Recebimentos - Mês'!$O:$O,'Visão Geral'!C48) -> 0 | H48: 0 | I48: 0 | J48: 0
C49: Acima de 180 dias | F49: =SUMIFS('[1]Recebimentos - Mês'!$L:$L,'[1]Recebimentos - Mês'!$N:$N,'Visão Geral'!$C$42,'[1]Recebimentos - Mês'!$O:$O,'Visão Geral'!C49) -> 0 | H49: 0 | I49: 0 | J49: 0
C51: Antecipado | F51: =SUMIFS('[1]Recebimentos - Mês'!$L:$L,'[1]Recebimentos - Mês'!$N:$N,'Visão Geral'!C51) -> 0 | H51: 0 | I51: 0 | J51: 0
C52: 1 a 30 dias | F52: =SUMIFS('[1]Recebimentos - Mês'!$L:$L,'[1]Recebimentos - Mês'!$N:$N,'Visão Geral'!$C$51,'[1]Recebimentos - Mês'!$O:$O,'Visão Geral'!C52) -> 0 | H52: 0 | I52: 0 | J52: 0
C53: 31 a 60 dias | F53: =SUMIFS('[1]Recebimentos - Mês'!$L:$L,'[1]Recebimentos - Mês'!$N:$N,'Visão Geral'!$C$51,'[1]Recebimentos - Mês'!$O:$O,'Visão Geral'!C53) -> 0 | H53: 0 | I53: 0 | J53: 0
C54: 61 a 90 dias | F54: =SUMIFS('[1]Recebimentos - Mês'!$L:$L,'[1]Recebimentos - Mês'!$N:$N,'Visão Geral'!$C$51,'[1]Recebimentos - Mês'!$O:$O,'Visão Geral'!C54) -> 0 | H54: 0 | I54: 0 | J54: 0
C55: 91 a 120 dias | F55: =SUMIFS('[1]Recebimentos - Mês'!$L:$L,'[1]Recebimentos - Mês'!$N:$N,'Visão Geral'!$C$51,'[1]Recebimentos - Mês'!$O:$O,'Visão Geral'!C55) -> 0 | H55: 0 | I55: 0 | J55: 0
C56: 121 a 150 dias | F56: =SUMIFS('[1]Recebimentos - Mês'!$L:$L,'[1]Recebimentos - Mês'!$N:$N,'Visão Geral'!$C$51,'[1]Recebimentos - Mês'!$O:$O,'Visão Geral'!C56) -> 0 | H56: 0 | I56: 0 | J56: 0
C57: 151 a 180 dias | F57: =SUMIFS('[1]Recebimentos - Mês'!$L:$L,'[1]Recebimentos - Mês'!$N:$N,'Visão Geral'!$C$51,'[1]Recebimentos - Mês'!$O:$O,'Visão Geral'!C57) -> 0 | H57: 0 | I57: 0 | J57: 0
C58: Acima de 180 dias | F58: =SUMIFS('[1]Recebimentos - Mês'!$L:$L,'[1]Recebimentos - Mês'!$N:$N,'Visão Geral'!$C$51,'[1]Recebimentos - Mês'!$O:$O,'Visão Geral'!C58) -> 0 | H58: 0 | I58: 0 | J58: 0
B60: 8. | C60: Contas de Recebimentos | F60: =SUM(F61:F62) -> 2641747.9 | H60: 1957909.4 | I60: 1643649.7 | J60: 2798307.3
C61: Conta Vinculada | F61: =SUMIFS('[1]Recebimentos - Mês'!L:L,'[1]Recebimentos - Mês'!P:P,'Visão Geral'!C61) -> 2641747.9 | H61: 1957909.4 | I61: 0 | J61: 0
C62: Conta da Emitente | F62: =SUMIFS('[1]Recebimentos - Mês'!L:L,'[1]Recebimentos - Mês'!P:P,'Visão Geral'!C62) -> 0 | H62: 0 | I62: 1643649.7 | J62: 2798307.3
B64: 9. | C64: Inadimplência | F64: =[1]Inadimplência!H14 -> 0 | H64: 0 | I64: 0 | J64: 0
C65: 1 a 30 dias | F65: =SUMIFS([1]Inadimplência!$H:$H,[1]Inadimplência!$F:$F,'Visão Geral'!C65) -> 0 | H65: 0 | I65: 0 | J65: 0
C66: 31 a 60 dias | F66: =SUMIFS([1]Inadimplência!$H:$H,[1]Inadimplência!$F:$F,'Visão Geral'!C66) -> 0 | H66: 0 | I66: 0 | J66: 0
C67: 61 a 90 dias | F67: =SUMIFS([1]Inadimplência!$H:$H,[1]Inadimplência!$F:$F,'Visão Geral'!C67) -> 0 | H67: 0 | I67: 0 | J67: 0
C68: 91 a 120 dias | F68: =SUMIFS([1]Inadimplência!$H:$H,[1]Inadimplência!$F:$F,'Visão Geral'!C68) -> 0 | H68: 0 | I68: 0 | J68: 0
C69: 121 a 150 dias | F69: =SUMIFS([1]Inadimplência!$H:$H,[1]Inadimplência!$F:$F,'Visão Geral'!C69) -> 0 | H69: 0 | I69: 0 | J69: 0
C70: 151 a 180 dias | F70: =SUMIFS([1]Inadimplência!$H:$H,[1]Inadimplência!$F:$F,'Visão Geral'!C70) -> 0 | H70: 0 | I70: 0 | J70: 0
C71: Acima de 180 dias | F71: =SUMIFS([1]Inadimplência!$H:$H,[1]Inadimplência!$F:$F,'Visão Geral'!C71) -> 0 | H71: 0 | I71: 0 | J71: 0
B73: 10. | C73: Total de Contratos Inadimplentes | F73: =[1]Inadimplência!F6 -> 0 | H73: 0 | I73: 0 | J73: 0
B75: 11. | C75: Previsto x Realizado | F75: =F76/(F76+F77) -> 1 | H75: 1 | I75: 1 | J75: 1
C76: Pago | F76: =SUMIFS([1]PrevistoxRealizado!$H:$H,[1]PrevistoxRealizado!$J:$J,"Pago") -> 2615281.7 | H76: 1945507.6 | I76: 1581294.9 | J76: 2643506.3
C77: Em aberto | F77: =SUMIFS([1]PrevistoxRealizado!$H:$H,[1]PrevistoxRealizado!$J:$J,"Em Aberto") -> 0 | H77: 0 | I77: 0 | J77: 0
B79: 12. | C79: Razão de Garantia 1 (>= 142%) | F79: =(F80+F84)/F85 -> 1.4060826 | H79: 1.4144082 | I79: 1.4191115 | J79: 5.2217265
C80: Imóveis Garantia | F80: =SUM(F81:F83) -> 31560000 | H80: 31560000 | I80: 31560000 | J80: 31560000
C81: Valor de Avaliação - Imóvel 16.952 | F81: 5399256.9 | H81: 5399256.9 | I81: 5399256.9 | J81: 5399256.9
C82: Valor de Avaliação - Imóvel 16.953 | F82: 7529642.2 | H82: 7529642.2 | I82: 7529642.2 | J82: 7529642.2
C83: Valor de Avaliação - Imóvel 16.954 | F83: 18631101 | H83: 18631101 | I83: 18631101 | J83: 18631101
C84: Direitos Creditórios Elegíveis | F84: 0 | H84: 0 | I84: 0 | J84: 84265396
C85: Sado Devedor dos CRI | F85: 22445338 | G85: =F80/142% -> 22225352 | H85: 22313219 | I85: 22239267 | J85: 22181437
G86: =G85-F85 -> -219986.14
B87: 13. | C87: Razão de Garantia 2 (>= 142%) | F87: =F88/F89 -> 3.5622138 | H87: 3.8500442 | I87: 3.7799713 | J87: 0.12615537
C88: Recebimento Líquido dos Direitos Creditórios | F88: =F5 -> 79955094 | H88: 85906879 | I88: 84063790 | J88: 2798307.3
C89: Sado Devedor dos CRI | F89: =F85 -> 22445338 | H89: 22313219 | I89: 22239267 | J89: 22181437
