Workbook
Name __MAIN__: #REF!
Name __memParams__: #REF!
Name __qryTitLiq__: #REF!
Name AMORTIZACAO: OFFSET(#REF!,0,0,COUNT(#REF!),1)
Name DATA: #REF!
Name FF: #REF!
Name ffb: #REF!
Name JUROS: OFFSET(#REF!,0,0,COUNT(#REF!),1)
Name LISTA: #REF!
Name parcelas: OFFSET(#REF!,0,0,COUNT(#REF!),1)
Name RATING: #REF!
Name Record_Data_Cutoff: #REF!
Name Todos: #REF!
Name TotalGeral: #REF!

Sheet Visão Geral
B2: Relatório de Monitoramento Mensal - CRI 72E01S Porteira de Ferro | H2: HISTÓRICO
F3: 45627 | H3: 45597 | I3: 45566 | J3: 45536
B5: 1. | C5: Saldo Devedor da Carteira Full (Valor Nominal) | F5: =[1]Recebíveis!I9 -> 79955094 | H5: 85906879 | I5: 84063790 | J5: 84265396
B7: 1.1 | C7: Por tipo de parcela | F7: =[1]Recebíveis!I9 -> 79955094 | H7: 85906879 | I7: 84063790 | J7: 84265396
C8: Sinal | F8: =SUMIFS([1]Recebíveis!$I:$I,[1]Recebíveis!$H:$H,'Visão Geral'!C8) -> 0 | H8: 0 | I8: 0 | J8: 0
C9: Anual | F9: =SUMIFS([1]Recebíveis!$I:$I,[1]Recebíveis!$H:$H,'Visão Geral'!C9) -> 0 | H9: 0 | I9: 0 | J9: 0
C10: Mensal | F10: =SUMIFS([1]Recebíveis!$I:$I,[1]Recebíveis!$H:$H,'Visão Geral'!C10) -> 79955094 | H10: 85906879 | I10: 84063790 | J10: 84265396
C11: Única | F11: =SUMIFS([1]Recebíveis!$I:$I,[1]Recebíveis!$H:$H,'Visão Geral'!C11) -> 0 | H11: 0 | I11: 0 | J11: 0
C12: Semestral | F12: =SUMIFS([1]Recebíveis!$I:$I,[1]Recebíveis!$H:$H,'Visão Geral'!C12) -> 0 | H12: 0 | I12: 0 | J12: 0
C13: Permuta | F13: =SUMIFS([1]Recebíveis!$I:$I,[1]Recebíveis!$H:$H,'Visão Geral'!C13) -> 0 | H13: 0 | I13: 0 | J13: 0
B15: 2. | C15: Saldo Devedor da Carteira Full (Valor Presente - Taxa da Operação - IPCA + 10,85% a.a.) | F15: =[1]Recebíveis!K9 -> 60862637 | H15: 65080957 | I15: 63653918 | J15: 63487913
B17: 2.1 | C17: Por tipo de parcela | F17: =[1]Recebíveis!K9 -> 60862637 | H17: 65080957 | I17: 63653918 | J17: 63487913
C18: Sinal | F18: =SUMIFS([1]Recebíveis!$K:$K,[1]Recebíveis!$H:$H,'Visão Geral'!C18) -> 0 | H18: 0 | I18: 0 | J18: 0
C19: Anual | F19: =SUMIFS([1]Recebíveis!$K:$K,[1]Recebíveis!$H:$H,'Visão Geral'!C19) -> 0 | H19: 0 | I19: 0 | J19: 0
C20: Mensal | F20: =SUMIFS([1]Recebíveis!$K:$K,[1]Recebíveis!$H:$H,'Visão Geral'!C20) -> 60862637 | H20: 65080957 | I20: 63653918 | J20: 63487913
C21: Única | F21: =SUMIFS([1]Recebíveis!$K:$K,[1]Recebíveis!$H:$H,'Visão Geral'!C21) -> 0 | H21: 0 | I21: 0 | J21: 0
C22: Semestral | F22: =SUMIFS([1]Recebíveis!$K:$K,[1]Recebíveis!$H:$H,'Visão Geral'!C22) -> 0 | H22: 0 | I22: 0 | J22: 0
C23: Permuta | F23: =SUMIFS([1]Recebíveis!$K:$K,[1]Recebíveis!$H:$H,'Visão Geral'!C23) -> 0 | H23: 0 | I23: 0 | J23: 0
B25: 3. | C25: Disponibilidade do Empreendimento | F25: =F26+F27+F28+F29 -> 104 | H25: 104 | I25: 104 | J25: 104
C26: Unidades Vendidas e Cedidas à Operação com fluxo | F26: =[1]Estoque!H2 -> 84 | H26: 86 | I26: 83 | J26: 82
C27: Unidades Quitadas | F27: =[1]Estoque!H5 -> 7 | H27: 7 | I27: 7 | J27: 7
C28: Disponíveis | F28: =[1]Estoque!H4 -> 13 | H28: 11 | I28: 14 | J28: 15
C29: Fora de Venda e/ou Dacionados | F29: =[1]Estoque!H3 -> 0 | H29: 0 | I29: 0 | J29: 0
B31: 4. | C31: Vendas - Qtde | F31: =COUNTIFS('[1]Vendas no Mês'!$G:$G,"Operação") -> 0 | H31: 3 | I31: 1 | J31: 0
B33: 5. | C33: Vendas - Valor | F33: =SUM('[1]Vendas no Mês'!$F$10:$F$1048576) -> 0 | H33: 2691135.3 | I33: 1273939.2 | J33: 0
B35: 6. | C35: Distratos no mês | F35: =COUNTIFS('[1]Distrato no Mês'!$G:$G,"Distrato") -> 2 | H35: 0 | I35: 0 | J35: 0
B37: 7. | C37: Recebimentos - Total | F37: ='[1]Recebimentos - Mês'!L8 -> 2641747.9 | H37: 1957909.4 | I37: 1643649.7 | J37: 2798307.3
B39: 7.1 | C39: Categoria do Recebimento | F39: ='[1]Recebimentos - Mês'!L8 -> 2641747.9 | H39: 1957909.4 | I39: 1643649.7 | J39: 2798307.3
C40: Em Dia | F40: =SUMIFS('[1]Recebimentos - Mês'!$L:$L,'[1]Recebimentos - Mês'!$N:$N,'Visão Geral'!C40) -> 2615281.7 | H40: 1945507.6 | I40: 1581294.9 | J40: 2643506.3
C42: Atrasado | F42: =SUMIFS('[1]Recebimentos - Mês'!$L:$L,'[1]Recebimentos - Mês'!$N:$N,'Visão Geral'!C42) -> 26466.19 | H42: 12401.8 | I42: 62354.86 | J42: 154800.96
C43: 1 a 30 dias | F43: =SUMIFS('[1]Recebimentos - Mês'!$L:$L,'[1]Recebimentos - Mês'!$N:$N,'Visão Geral'!$C$42,'[1]Recebimentos - Mês'!$O:$O,'Visão Geral'!C43) -> 13875.51 | H43: 0 | I43: 0 | J43: 92472
C44: 31 a 60 dias | F44: =SUMIFS('[1]Recebimentos - Mês'!$L:$L,'[1]Recebimentos - Mês'!$N:$N,'Visão Geral'!$C$42,'[1]Recebimentos - Mês'!$O:$O,'Visão Geral'!C44) -> 12590.68 | H44: 12401.8 | I44: 23278.89 | J44: 12328.96
C45: 61 a 90 dias | F45: =SUMIFS('[1]Recebimentos - Mês'!$L:$L,'[1]Recebimentos - Mês'!$N:$N,'Visão Geral'!$C$42,'[1]Recebimentos - Mês'!$O:$O,'Visão Geral'!C45) -> 0 | H45: 0 | I45: 11143.43 | J45: 0
C46: 91 a 120 dias | F46: =SUMIFS('[1]Recebimentos - Mês'!$L:$L,'[1]Recebimentos - Mês'!$N:$N,'Visão Geral'!$C$42,'[1]Recebimentos - Mês'!$O:$O,'Visão Geral'!C46) -> 0 | H46: 0 | I46: 27932.54 | J46: 50000
C47: 121 a 150 dias | F47: =SUMIFS('[1]Recebimentos - Mês'!$L:$L,'[1]Recebimentos - Mês'!$N:$N,'Visão Geral'!$C$42,'[1]Recebimentos - Mês'!$O:$O,'Visão Geral'!C47) -> 0 | H47: 0 | I47: 0 | J47: 0
C48: 151 a 180 dias | F48: =SUMIFS('[1]Recebimentos - Mês'!$L:$L,'[1]Recebimentos - Mês'!$N:$N,'Visão Geral'!$C$42,'[1]Recebimentos - Mês'!$O:$O,'Visão Geral'!C48) -> 0 | H48: 0 | I48: 0 | J48: 0
C49: Acima de 180 dias | F49: =SUMIFS('[1]Recebimentos - Mês'!$L:$L,'[1]Recebimentos - Mês'!$N:$N,'Visão Geral'!$C$42,'[1]Recebimentos - Mês'!$O:$O,'Visão Geral'!C49) -> 0 | H49: 0 | I49: 0 | J49: 0
C51: Antecipado | F51: =SUMIFS('[1]Recebimentos - Mês'!$L:$L,'[1]Recebimentos - Mês'!$N:$N,'Visão Geral'!C51) -> 0 | H51: 0 | I51: 0 | J51: 0
C52: 1 a 30 dias | F52: =SUMIFS('[1]Recebimentos - Mês'!$L:$L,'[1]Recebimentos - Mês'!$N:$N,'Visão Geral'!$C$51,'[1]Recebimentos - Mês'!$O:$O,'Visão Geral'!C52) -> 0 | H52: 0 | I52: 0 | J52: 0
C53: 31 a 60 dias | F53: =SUMIFS('[1]Recebimentos - Mês'!$L:$L,'[1]Recebimentos - Mês'!$N:$N,'Visão Geral'!$C$51,'[1]Recebimentos - Mês'!$O:$O,'Visão Geral'!C53) -> 0 | H53: 0 | I53: 0 | J53: 0
...
