Workbook
Name ajuste: #REF!
Name ajuste: #REF!
Name ajustemora: #REF!
Name ajustemora: #REF!
Name AMT.SENIOR: OFFSET([2]Fluxo!$U$5,0,0,[2]Fluxo!$E$21)
Name AMT.SENIOR.CONS: OFFSET([2]Consolidado!$D$4,0,0,COUNTIF([2]Consolidado!$D:$D,">0"))
Name AMT.SUB: OFFSET([3]Fluxo!#REF!,0,0,[3]Fluxo!#REF!)
Name AMT.SUB.CONS: OFFSET([4]Consolidado!$H$4,0,0,COUNTIF([4]Consolidado!$H:$H,">0"))
Name ANO: OFFSET([2]Fluxo!$H$5,0,0,[2]Fluxo!$E$7)
Name ANO.CONS: OFFSET([2]Consolidado!$B$4,0,0,COUNTIF([2]Consolidado!$E:$E,">0"))
Name bbb: OFFSET([3]Fluxo!#REF!,0,0,[3]Fluxo!#REF!)
Name cahng: OFFSET([5]Fluxo!#REF!,0,0,[5]Fluxo!#REF!)
Name cccc: OFFSET([3]Fluxo!#REF!,0,0,[3]Fluxo!#REF!)
Name cccccc: OFFSET([3]Fluxo!#REF!,0,0,[3]Fluxo!#REF!)
Name CUSTO: OFFSET([2]Fluxo!$N$5,0,0,[2]Fluxo!$E$21-1)
Name CUSTO.CONS: OFFSET([2]Consolidado!$J$4,0,0,COUNTIF([2]Consolidado!$J:$J,">0"))
Name danalise: [6]PAINEL!$B$4
Name DATA: OFFSET([2]Fluxo!$I$5,0,0,[2]Fluxo!$E$7)
Name database: Template!$C$5
Name database: #REF!
Name datarecompra: #REF!
Name datarecompra: #REF!
Name datarecompraabril: #REF!
Name datarecompraabril: #REF!
Name dbase: [7]PAINEL!$B$5
Name e: OFFSET([5]Fluxo!#REF!,0,0,[5]Fluxo!#REF!)
Name f: OFFSET([3]Fluxo!#REF!,0,0,[3]Fluxo!#REF!)
Name Feriados: [2]Feriados!$A$2:$A$937
Name JUROS.SENIOR: OFFSET([2]Fluxo!$T$5,0,0,[2]Fluxo!$E$21)
Name JUROS.SENIOR.CONS: OFFSET([2]Consolidado!$C$4,0,0,COUNTIF([2]Consolidado!$C:$C,">0"))
Name JUROS.SUB: OFFSET([3]Fluxo!#REF!,0,0,[3]Fluxo!#REF!)
Name JUROS.SUB.CONS: OFFSET([4]Consolidado!$G$4,0,0,COUNTIF([4]Consolidado!$G:$G,">0"))
Name PERIODO: OFFSET([2]Fluxo!$G$5,0,0,[2]Fluxo!$E$7)
Name PMT.CARTEIRA: OFFSET([2]Fluxo!$K$5,0,0,[2]Fluxo!$E$7)
Name PMT.LIQUIDA: OFFSET([2]Fluxo!$P$5,0,0,[2]Fluxo!$E$7+1)
Name PMT.SENIOR: OFFSET([2]Fluxo!$V$5,0,0,[2]Fluxo!$E$21)
Name PMT.SENIOR.CONS: OFFSET([2]Consolidado!$E$4,0,0,COUNTIF([2]Consolidado!$E:$E,">0"))
Name PMT.SUB: OFFSET([3]Fluxo!#REF!,0,0,[3]Fluxo!#REF!)
Name PMT.SUB.CONS: OFFSET([4]Consolidado!$I$4,0,0,COUNTIF([4]Consolidado!$I:$I,">0"))
Name SD.RECEBIVEIS: OFFSET([2]Fluxo!$J$4,0,0,[2]Fluxo!$E$7+1)
Name SD.RESERVA: OFFSET([2]Fluxo!$O$5,0,0,[2]Fluxo!$E$21-1)
Name SD.SENIOR: OFFSET([2]Fluxo!$S$4,0,0,[2]Fluxo!$E$21)
Name SD.SUB: OFFSET([3]Fluxo!#REF!,0,0,[3]Fluxo!#REF!)
Name xvf: OFFSET(#REF!,0,0,#REF!-1)
Name zxcc: OFFSET(#REF!,0,0,#REF!)
Name zxcxz: OFFSET(#REF!,0,0,COUNTIF(#REF!,">0"))
Name zxcxzc: OFFSET(#REF!,0,0,#REF!+1)

Sheet Template
B2: COMPANHIA PROVÍNCIA DE SECURITIZAÇÃO
B3: Performance Mensal |CRI_94E01S_SWISS PARK
B5: Mês ano referencia | C5: 45808
B6: ID da Carteira | C6: CRI_94E01S_SWISS PARK
B7: Número de contratos ativos | C7: 99
B8: Total Empreendimento | C8: 502
B9: Esperado a receber no Mês de Juros | C9: 113967.75
B10: Esperado de receber no Mês de Amortização | C10: 373673.86
B11: Esperado a receber no Mês de Seguros | C11: 0
B12: Esperado a Receber no Mês Tx Administração | C12: 0
B13: Recebido no Mês de parcelas do Mês - Juros | C13: 99971.103
B14: Recebido no Mês de parcelas do Mês - Amortização | C14: 578465.16
B15: Recebido no Mês de parcelas do Mês - Seguros | C15: 0
B16: Recebido no Mês de parcelas do Mês - Tx Adm | C16: 0
B17: Recebido no Mês de Antecipação - Juros | C17: 160009.04
B18: Recebido no Mês de Antecipação - Amortização | C18: 230012.84
... B53: Créditos Vinculados Acima De 180 Dias | C53: 21537546
B54: Valor das garantias incorporadas ao PL do CRI
B55: Valor total de pré-pagamento no mês(Amort.+ juros)
B56: Saldo devedor Total | C56: =C29+C30 -> 24812624
B57: Devedor (>= 20%) Nome 1
B58: Devedor (>= 20%) CPF/CNPJ 1
B59: Devedor (>= 20%) Saldo 1
B60: Devedor (>= 20%) Nome 2
B61: Devedor (>= 20%) CPF/CNPJ 2
B62: Devedor (>= 20%) Saldo 2
B63: Devedor (>= 20%) Nome 3
B64: Devedor (>= 20%) CPF/CNPJ 3
B65: Devedor (>= 20%) Saldo 3
B66: Devedor (>= 20%) Nome 4
B67: Devedor (>= 20%) CPF/CNPJ 4
B68: Devedor (>= 20%) Saldo 4
... B71: Devedor (>= 20%) Saldo 5
B72: LTV | C72: 0.6869
B73: Duration Carteira (Anos) | C73: 14.25
B74: Duration Carteira (Meses) | C74: 171
B75: Taxa Média da Carteira | C75: 0.0588
A77: Saldo Devedor maiores devedores
A78: Cod | B78: Contrato | C78: Nome | D78: Total à Pagar Com/ Encargos | E78: Fluxo Futuro - (Parcelas Vincendas)
A79: 135922 | B79: 6494 | C79: Filipe Junio De Oliveira | D79: 366399.06 | E79: 366399.06
...

Sheet Resumo
E3: Relatório Consolidado
B6: Base do relatório Mensal | F6: Maio/2025
B7: Total de unidades ativas | F7: 97
B8: Total de clientes quitados | F8: 4
B9: Recebimentos
B10: A receber (mês) | F10: 761442.46
B11: Valor recebido total | F11: 1110497
B12: Diferença Recebimento Total x Recebimento Mês
B13: Recebimento Regular | F13: 682959.55
B14: Antecipação | F14: 393746.31
B15: Recebimento em atraso | F15: 33791.14
B16: Inadimplência
B17: Inadimplência (mês) | F17: 32892.37
B18: Inadimplência total | F18: 41263.46

Sheet Recebimento
N1: =SUBTOTAL(9,N3:N311) -> 1094756.9 | O1: 1173308.9 | Q1: =O1-N1 -> 78552 | AA1: =SUBTOTAL(9,AA3:AA311) -> 821589.9 | AB1: =SUBTOTAL(9,AB3:AB311) -> 272173.99 | AG1: =SUBTOTAL(9,AG3:AG311) -> 718.37 | AH1: =SUBTOTAL(9,AH3:AH311) -> 274.68 | AJ1: =SUBTOTAL(9,AJ3:AJ311) -> 1094756.9
A2: No Parcela | B2: No Contrato | C2: Nome do mutuário | D2: CPF/CNPJ | E2: Taxa de Juros | F2: Carteira | G2: Empreendimento | H2: No Parcela | I2: Data de Vencimento Original | J2: Data de Pagamento | K2: Data do Crédito | L2: Dif. de Dias | M2: Valor Original | N2: Valor Creditado | O2: Valor Parceiro | P2: Multa | Q2: Juros de Mora | R2: Seguro | S2: Dif de Parcela | T2: Dif Parcela Creditada | U2: Taxa de Gestão | V2: Tipo de Recebimento | W2: Mês | X2: OBS | Y2: MIP | Z2: DFI | AA2: Amortização Creditada | AB2: Juros Creditado | AC2: MIP Creditado | AD2: DFI Creditado | AE2: Diferença Parcela Creditada | AF2: Gestão Creditada | AG2: Multa Creditada | AH2: Mora Creditada | AI2: Resíduo Parcela | AJ2: Total | AK2: Check Recebimento | AL2: Status Venda
A3: 2411855 | B3: 6358 | C3: Alexandre Magno De Carvalho | D3: 037.957.411-06 | E3: 0 | F3: SWISS PARK ANAPOLIS | G3: Swiss Park Zurich - Anápolis | H3: 2411855 | I3: 45787 | J3: 45789 | K3: 45790 | L3: 3 | M3: 8297.78 | N3: 8297.78 | P3: 0 | Q3: 0 | R3: 0 | V3: Recebimento Regular | W3: Mai/2025 | AA3: 8297.78 | AB3: 0 | AE3: 0 | AG3: 0 | AH3: 0 | AJ3: 8297.78 | AK3: Adimplente | AL3: Parcelado
A4: 2415689 | B4: 6407 | C4: Alysson De Almeida Miclos | D4: 923.842.691-00 | E4: 0 | F4: SWISS PARK ANAPOLIS | G4: Swiss Park Zurich - Anápolis | H4: 2415689 | I4: 45798 | J4: 45789 | K4: 45790 | L4: -8 | M4: 8101.08 | N4: 8101.08 | P4: 0 | Q4: 0 | R4: 0 | V4: Recebimento Regular | W4: Mai/2025 | AA4: 8101.08 | AB4: 0 | AE4: 0 | AG4: 0 | AH4: 0 | AJ4: 8101.08 | AK4: Adimplente | AL4: Parcelado
A5: 2414682 | B5: 6398 | C5: Ancor Construtora Ltda | D5: 28.241.797/0001-38 | E5: 0.1003 | F5: SWISS PARK ANAPOLIS | G5: Swiss Park Zurich - Anápolis | H5: 2414682 | I5: 45757 | J5: 45785 | K5: 45786 | L5: 29 | M5: 3593.48 | N5: 3712.34 | P5: 85.35 | Q5: 33.51 | R5: 0 | V5: Recebimento em atraso | W5: Mai/2025 | AA5: 1055.52 | AB5: 2537.96 | AE5: 0 | AG5: 85.35 | AH5: 33.51 | AJ5: 3712.34 | AK5: Até 30 Dias | AL5: Parcelado
A6: 2414845 | B6: 6399 | C6: Ancor Construtora Ltda | D6: 28.241.797/0001-38 | E6: 0.1003 | F6: SWISS PARK ANAPOLIS | G6: Swiss Park Zurich - Anápolis | H6: 2414845 | I6: 45757 | J6: 45785 | K6: 45786 | L6: 29 | M6: 3772.97 | N6: 3897.09 | P6: 88.94 | Q6: 35.18 | R6: 0 | V6: Recebimento em atraso | W6: Mai/2025 | AA6: 1108.27 | AB6: 2664.7 | AE6: 0 | AG6: 88.94 | AH6: 35.18 | AJ6: 3897.09 | AK6: Até 30 Dias | AL6: Parcelado
A7: 2415008 | B7: 6400 | C7: Ancor Construtora Ltda | D7: 28.241.797/0001-38 | E7: 0.1003 | F7: SWISS PARK ANAPOLIS | G7: Swiss Park Zurich - Anápolis | H7: 2415008 | I7: 45757 | J7: 45785 | K7: 45786 | L7: 29 | M7: 3536.98 | N7: 3654.18 | P7: 84.22 | Q7: 32.98 | R7: 0 | V7: Recebimento em atraso | W7: Mai/2025 | AA7: 1038.95 | AB7: 2498.03 | AE7: 0 | AG7: 84.22 | AH7: 32.98 | AJ7: 3654.18 | AK7: Até 30 Dias | AL7: Parcelado
A8: 2413846 | B8: 6388 | C8: Anderson Goncalves Moreira | D8: 731.599.561-72 | E8: 0 | F8: SWISS PARK ANAPOLIS | G8: Swiss Park Zurich - Anápolis | H8: 2413846 | I8: 45768 | J8: 45806 | K8: 45807 | L8: 39 | M8: 8101.08 | N8: 8379.09 | P8: 175.5 | Q8: 102.51 | R8: 0 | V8: Recebimento em atraso | W8: Mai/2025 | AA8: 8101.08 | AB8: 0 | AE8: 0 | AG8: 175.5 | AH8: 102.51 | AJ8: 8379.09 | AK8: De 31 A 60 Dias | AL8: Parcelado
A9: 2413445 | B9: 6382 | C9: Andreyve Vieira Melo | D9: 019.961.151-38 | E9: 0.1003 | F9: SWISS PARK ANAPOLIS | G9: Swiss Park Zurich - Anápolis | H9: 2413445 | I9: 45798 | J9: 45797 | K9: 45798 | L9: 0 | M9: 4246.14 | N9: 4246.14 | P9: 0 | Q9: 0 | R9: 0 | V9: Recebimento Regular | W9: Mai/2025 | AA9: 2070.06 | AB9: 2176.08 | AE9: 0 | AG9: 0 | AH9: 0 | AJ9: 4246.14 | AK9: Adimplente | AL9: Parcelado
A10: 2413520 | B10: 6382 | C10: Andreyve Vieira Melo | D10: 019.961.151-38 | E10: 0.1003 | F10: SWISS PARK ANAPOLIS | G10: Swiss Park Zurich - Anápolis | H10: 2413520 | I10: 48081 | J10: 45797 | K10: 45798 | L10: -2283 | M10: 2335.9 | N10: 2335.9 | P10: 0 | Q10: 0 | R10: 0 | V10: Antecipação | W10: Mai/2025 | AA10: 2101.46 | AB10: 234.44 | AE10: 0 | AG10: 0 | AH10: 0 | AJ10: 2335.9 | AK10: Pagos Antecipadamente Acima de 180 Dias | AL10: Parcelado
A11: 2412002 | B11: 6366 | C11: Anna Paula Vieira De Sousa Alves | D11: 034.186.701-21 | E11: 0 | F11: SWISS PARK ANAPOLIS | G11: Swiss Park Zurich - Anápolis | H11: 2412002 | I11: 45798 | J11: 45797 | K11: 45798 | L11: 0 | M11: 8234.73 | N11: 8234.73 | P11: 0 | Q11: 0 | R11: 0 | V11: Recebimento Regular | W11: Mai/2025 | AA11: 8234.73 | AB11: 0 | AE11: 0 | AG11: 0 | AH11: 0 | AJ11: 8234.73 | AK11: Adimplente | AL11: Parcelado
A12: 2413645 | B12: 6385 | C12: Christian Alexandre Pereira | D12: 797.173.571-53 | E12: 0 | F12: SWISS PARK ANAPOLIS | G12: Swiss Park Zurich - Anápolis | H12: 2413645 | I12: 45798 | J12: 45798 | K12: 45799 | L12: 1 | M12: 8101.08 | N12: 8101.08 | P12: 0 | Q12: 0 | R12: 0 | V12: Recebimento Regular | W12: Mai/2025 | AA12: 8101.08 | AB12: 0 | AE12: 0 | AG12: 0 | AH12: 0 | AJ12: 8101.08 | AK12: Adimplente | AL12: Parcelado
A13: 2414049 | B13: 6390 | C13: Clary Merces De Oliveira Machado | D13: 617.316.171-00 | E13: 0 | F13: SWISS PARK ANAPOLIS | G13: Swiss Park Zurich - Anápolis | H13: 2414049 | I13: 45787 | J13: 45789 | K13: 45790 | L13: 3 | M13: 8379.88 | N13: 8379.88 | P13: 0 | Q13: 0 | R13: 0 | V13: Recebimento Regular | W13: Mai/2025 | AA13: 8379.88 | AB13: 0 | AE13: 0 | AG13: 0 | AH13: 0 | AJ13: 8379.88 | AK13: Adimplente | AL13: Parcelado
A14: 2413682 | B14: 6387 | C14: Claudio Carvalho Machado | D14: 576.129.351-04 | E14: 0.1003 | F14: SWISS PARK ANAPOLIS | G14: Swiss Park Zurich - Anápolis | H14: 2413682 | I14: 45787 | J14: 45789 | K14: 45790 | L14: 3 | M14: 3491.65 | N14: 3491.65 | P14: 0 | Q14: 0 | R14: 0 | V14: Recebimento Regular | W14: Mai/2025 | AA14: 1010.26 | AB14: 2481.39 | AE14: 0 | AG14: 0 | AH14: 0 | AJ14: 3491.65 | AK14: Adimplente | AL14: Parcelado
... A161: 2568046 | B161: 5435 | C161: Kléber Rodrigues Amorim | D161: 921.374.821-34 | E161: 0 | F161: SWISS PARK ANAPOLIS | G161: Swiss Park Zurich - Anápolis | H161: 2568046 | I161: 45807 | J161: 45807 | K161: 45807 | L161: 0 | M161: 7650 | N161: 7650 | P161: 0 | Q161: 0 | R161: 0 | V161: Recebimento Regular | W161: Mai/2025 | AA161: 7650 | AB161: 0 | AE161: 0 | AG161: 0 | AH161: 0 | AJ161: 7650 | AK161: Adimplente | AL161: Parcelado
A162: 2540210 | B162: 6396 | C162: Heber Guimaraes Da Cunha | D162: 766.927.601-00 | E162: 0.1003 | F162: SWISS PARK ANAPOLIS | G162: Swiss Park Zurich - Anápolis | H162: 2414506 | I162: 45798 | J162: 45797 | K162: 45798 | L162: 0 | M162: 3151.92 | N162: 3151.08 | P162: 0 | Q162: 0 | R162: 0 | V162: Recebimento Regular | W162: Mai/2025 | AA162: 911.72696 | AB162: 2239.353 | AC162: 0 | AD162: 0 | AE162: 0 | AF162: 0 | AG162: 0 | AH162: 0 | AI162: 0 | AJ162: 3151.08 | AK162: Adimplente | AL162: Parcelado
A163: 2540210 | B163: 6396 | C163: Heber Guimaraes Da Cunha | D163: 766.927.601-00 | E163: 0.1003 | F163: SWISS PARK ANAPOLIS | G163: Swiss Park Zurich - Anápolis | H163: 2414507 | I163: 45829 | J163: 45797 | K163: 45798 | L163: -31 | M163: 3151.92 | N163: 3126.08 | P163: 0 | Q163: 0 | R163: 0 | V163: Antecipação | W163: Mai/2025 | AA163: 912.06096 | AB163: 2214.019 | AC163: 0 | AD163: 0 | AE163: 0 | AF163: 0 | AG163: 0 | AH163: 0 | AI163: 0 | AJ163: 3126.08 | AK163: Pagos Antecipadamente De 31 A 60 Dias | AL163: Parcelado
A164: 2540210 | B164: 6396 | C164: Heber Guimaraes Da Cunha | D164: 766.927.601-00 | E164: 0.1003 | F164: SWISS PARK ANAPOLIS | G164: Swiss Park Zurich - Anápolis | H164: 2414508 | I164: 45859 | J164: 45797 | K164: 45798 | L164: -61 | M164: 3151.92 | N164: 3101.28 | P164: 0 | Q164: 0 | R164: 0 | V164: Antecipação | W164: Mai/2025 | AA164: 912.40163 | AB164: 2188.8784 | AC164: 0 | AD164: 0 | AE164: 0 | AF164: 0 | AG164: 0 | AH164: 0 | AI164: 0 | AJ164: 3101.28 | AK164: Pagos Antecipadamente De 61 A 90 Dias | AL164: Parcelado
A165: 2540210 | B165: 6396 | C165: Heber Guimaraes Da Cunha | D165: 766.927.601-00 | E165: 0.1003 | F165: SWISS PARK ANAPOLIS | G165: Swiss Park Zurich - Anápolis | H165: 2414509 | I165: 45890 | J165: 45797 | K165: 45798 | L165: -92 | M165: 3151.92 | N165: 3076.68 | P165: 0 | Q165: 0 | R165: 0 | V165: Antecipação | W165: Mai/2025 | AA165: 912.72927 | AB165: 2163.9507 | AC165: 0 | AD165: 0 | AE165: 0 | AF165: 0 | AG165: 0 | AH165: 0 | AI165: 0 | AJ165: 3076.68 | AK165: Pagos Antecipadamente De 91 A 120 Dias | AL165: Parcelado
A166: 2540210 | B166: 6396 | C166: Heber Guimaraes Da Cunha | D166: 766.927.601-00 | E166: 0.1003 | F166: SWISS PARK ANAPOLIS | G166: Swiss Park Zurich - Anápolis | H166: 2414510 | I166: 45921 | J166: 45797 | K166: 45798 | L166: -123 | M166: 3151.92 | N166: 3052.27 | P166: 0 | Q166: 0 | R166: 0 | V166: Antecipação | W166: Mai/2025 | AA166: 913.05087 | AB166: 2139.2191 | AC166: 0 | AD166: 0 | AE166: 0 | AF166: 0 | AG166: 0 | AH166: 0 | AI166: 0 | AJ166: 3052.27 | AK166: Pagos Antecipadamente De 121 A 150 Dias | AL166: Parcelado
A167: 2540210 | B167: 6396 | C167: Heber Guimaraes Da Cunha | D167: 766.927.601-00 | E167: 0.1003 | F167: SWISS PARK ANAPOLIS | G167: Swiss Park Zurich - Anápolis | H167: 2414511 | I167: 45951 | J167: 45797 | K167: 45798 | L167: -153 | M167: 3151.92 | N167: 3028.05 | P167: 0 | Q167: 0 | R167: 0 | V167: Antecipação | W167: Mai/2025 | AA167: 913.38566 | AB167: 2114.6643 | AC167: 0 | AD167: 0 | AE167: 0 | AF167: 0 | AG167: 0 | AH167: 0 | AI167: 0 | AJ167: 3028.05 | AK167: Pagos Antecipadamente De 151 A 180 Dias | AL167: Parcelado
A168: 2540210 | B168: 6396 | C168: Heber Guimaraes Da Cunha | D168: 766.927.601-00 | E168: 0.1003 | F168: SWISS PARK ANAPOLIS | G168: Swiss Park Zurich - Anápolis | H168: 2414650 | I168: 50181 | J168: 45797 | K168: 45798 | L168: -4383 | M168: 3151.92 | N168: 1000.75 | P168: 0 | Q168: 0 | R168: 0 | V168: Antecipação | W168: Mai/2025 | AA168: 940.7257 | AB168: 60.024299 | AC168: 0 | AD168: 0 | AE168: 0 | AF168: 0 | AG168: 0 | AH168: 0 | AI168: 0 | AJ168: 1000.75 | AK168: Pagos Antecipadamente Acima de 180 Dias | AL168: Parcelado
A169: 2540210 | B169: 6396 | C169: Heber Guimaraes Da Cunha | D169: 766.927.601-00 | E169: 0.1003 | F169: SWISS PARK ANAPOLIS | G169: Swiss Park Zurich - Anápolis | H169: 2414651 | I169: 50212 | J169: 45797 | K169: 45798 | L169: -4414 | M169: 3151.92 | N169: 992.81 | P169: 0 | Q169: 0 | R169: 0 | V169: Antecipação | W169: Mai/2025 | AA169: 940.8342 | AB169: 51.975805 | AC169: 0 | AD169: 0 | AE169: 0 | AF169: 0 | AG169: 0 | AH169: 0 | AI169: 0 | AJ169: 992.81 | AK169: Pagos Antecipadamente Acima de 180 Dias | AL169: Parcelado
A170: 2540210 | B170: 6396 | C170: Heber Guimaraes Da Cunha | D170: 766.927.601-00 | E170: 0.1003 | F170: SWISS PARK ANAPOLIS | G170: Swiss Park Zurich - Anápolis | H170: 2414652 | I170: 50242 | J170: 45797 | K170: 45798 | L170: -4444 | M170: 3151.92 | N170: 984.94 | P170: 0 | Q170: 0 | R170: 0 | V170: Antecipação | W170: Mai/2025 | AA170: 940.94469 | AB170: 43.995312 | AC170: 0 | AD170: 0 | AE170: 0 | AF170: 0 | AG170: 0 | AH170: 0 | AI170: 0 | AJ170: 984.94 | AK170: Pagos Antecipadamente Acima de 180 Dias | AL170: Parcelado
A171: 2540210 | B171: 6396 | C171: Heber Guimaraes Da Cunha | D171: 766.927.601-00 | E171: 0.1003 | F171: SWISS PARK ANAPOLIS | G171: Swiss Park Zurich - Anápolis | H171: 2414653 | I171: 50273 | J171: 45797 | K171: 45798 | L171: -4475 | M171: 3151.92 | N171: 977.12 | P171: 0 | Q171: 0 | R171: 0 | V171: Antecipação | W171: Mai/2025 | AA171: 941.04748 | AB171: 36.072516 | AC171: 0 | AD171: 0 | AE171: 0 | AF171: 0 | AG171: 0 | AH171: 0 | AI171: 0 | AJ171: 977.12 | AK171: Pagos Antecipadamente Acima de 180 Dias | AL171: Parcelado
A172: 2540210 | B172: 6396 | C172: Heber Guimaraes Da Cunha | D172: 766.927.601-00 | E172: 0.1003 | F172: SWISS PARK ANAPOLIS | G172: Swiss Park Zurich - Anápolis | H172: 2414654 | I172: 50304 | J172: 45797 | K172: 45798 | L172: -4506 | M172: 3151.92 | N172: 969.37 | P172: 0 | Q172: 0 | R172: 0 | V172: Antecipação | W172: Mai/2025 | AA172: 941.15853 | AB172: 28.211474 | AC172: 0 | AD172: 0 | AE172: 0 | AF172: 0 | AG172: 0 | AH172: 0 | AI172: 0 | AJ172: 969.37 | AK172: Pagos Antecipadamente Acima de 180 Dias | AL172: Parcelado
A173: 2540210 | B173: 6396 | C173: Heber Guimaraes Da Cunha | D173: 766.927.601-00 | E173: 0.1003 | F173: SWISS PARK ANAPOLIS | G173: Swiss Park Zurich - Anápolis | H173: 2414655 | I173: 50334 | J173: 45797 | K173: 45798 | L173: -4536 | M173: 3151.69 | N173: 961.61 | P173: 0 | Q173: 0 | R173: 0 | V173: Antecipação | W173: Mai/2025 | AA173: 941.18903 | AB173: 20.420967 | AC173: 0 | AD173: 0 | AE173: 0 | AF173: 0 | AG173: 0 | AH173: 0 | AI173: 0 | AJ173: 961.61 | AK173: Pagos Antecipadamente Acima de 180 Dias | AL173: Parcelado
... A311: 2540210 | B311: 6396 | C311: Heber Guimaraes Da Cunha | D311: 766.927.601-00 | E311: 0.1003 | F311: SWISS PARK ANAPOLIS | G311: Swiss Park Zurich - Anápolis | H311: 2414517 | I311: 46133 | J311: 45797 | K311: 45798 | L311: -335 | M311: 3151.92 | N311: 2886.74 | P311: 0 | Q311: 0 | R311: 0 | V311: Antecipação | W311: Mai/2025 | AA311: 915.27184 | AB311: 1971.4682 | AC311: 0 | AD311: 0 | AE311: 0 | AF311: 0 | AG311: 0 | AH311: 0 | AI311: 0 | AJ311: 2886.74 | AK311: Pagos Antecipadamente Acima de 180 Dias | AL311: Parcelado

Sheet Conciliação
A1: Data Crédito | B1: Fechamento | C1: Extrato | D1: Diferença | E1: Obs
A2: 03/05/2025 | B2: =SUMIFS(Recebimento!N:N,Recebimento!K:K,Conciliação!A2) -> 0 | C2: 0 | D2: =B2-C2 -> 0
A3: 04/05/2025 | B3: =SUMIFS(Recebimento!N:N,Recebimento!K:K,Conciliação!A3) -> 0 | C3: 0 | D3: =B3-C3 -> 0
A4: 05/05/2025 | B4: =SUMIFS(Recebimento!N:N,Recebimento!K:K,Conciliação!A4) -> 19721.55 | C4: 19721.55 | D4: =B4-C4 -> 0
A5: 06/05/2025 | B5: =SUMIFS(Recebimento!N:N,Recebimento!K:K,Conciliação!A5) -> 5354.22 | C5: 5354.22 | D5: =B5-C5 -> 0
A6: 07/05/2025 | B6: =SUMIFS(Recebimento!N:N,Recebimento!K:K,Conciliação!A6) -> 16857.71 | C6: 16857.71 | D6: =B6-C6 -> 0
A7: 08/05/2025 | B7: =SUMIFS(Recebimento!N:N,Recebimento!K:K,Conciliação!A7) -> 15163.27 | C7: 15163.27 | D7: =B7-C7 -> 0
A8: 09/05/2025 | B8: =SUMIFS(Recebimento!N:N,Recebimento!K:K,Conciliação!A8) -> 126062.4 | C8: 139988.34 | D8: =B8-C8 -> -13925.94 | E8: 1.250,65 (se refere a devolução de imposto de NF faturada incorretamente pela OT) - e-mail Swiss 12/05 12.675,29 (se trata da Servicer SP, referente ao Recibo 520186 e da Nota fiscal 10858) - e-mail 06/05
A9: 10/05/2025 | B9: =SUMIFS(Recebimento!N:N,Recebimento!K:K,Conciliação!A9) -> 0 | C9: 0 | D9: =B9-C9 -> 0
A10: 11/05/2025 | B10: =SUMIFS(Recebimento!N:N,Recebimento!K:K,Conciliação!A10) -> 0 | C10: 0 | D10: =B10-C10 -> 0
A11: 12/05/2025 | B11: =SUMIFS(Recebimento!N:N,Recebimento!K:K,Conciliação!A11) -> 30204.77 | C11: 30204.77 | D11: =B11-C11 -> 0
A12: 13/05/2025 | B12: =SUMIFS(Recebimento!N:N,Recebimento!K:K,Conciliação!A12) -> 87212.9 | C12: 87212.9 | D12: =B12-C12 -> 0
A13: 14/05/2025 | B13: =SUMIFS(Recebimento!N:N,Recebimento!K:K,Conciliação!A13) -> 0 | C13: 0 | D13: =B13-C13 -> 0
A14: 15/05/2025 | B14: =SUMIFS(Recebimento!N:N,Recebimento!K:K,Conciliação!A14) -> 8807.79 | C14: 8807.79 | D14: =B14-C14 -> 0
A15: 16/05/2025 | B15: =SUMIFS(Recebimento!N:N,Recebimento!K:K,Conciliação!A15) -> 16496.01 | C15: 16496.01 | D15: =B15-C15 -> 0
A16: 17/05/2025 | B16: =SUMIFS(Recebimento!N:N,Recebimento!K:K,Conciliação!A16) -> 0 | C16: 0 | D16: =B16-C16 -> 0
A17: 18/05/2025 | B17: =SUMIFS(Recebimento!N:N,Recebimento!K:K,Conciliação!A17) -> 0 | C17: 0 | D17: =B17-C17 -> 0
A18: 19/05/2025 | B18: =SUMIFS(Recebimento!N:N,Recebimento!K:K,Conciliação!A18) -> 39633.25 | C18: 39633.25 | D18: =B18-C18 -> 0
A19: 20/05/2025 | B19: =SUMIFS(Recebimento!N:N,Recebimento!K:K,Conciliação!A19) -> 20300.47 | C19: 20300.47 | D19: =B19-C19 -> 0
A20: 21/05/2025 | B20: =SUMIFS(Recebimento!N:N,Recebimento!K:K,Conciliação!A20) -> 308834.95 | C20: 308834.95 | D20: =B20-C20 -> 0
... A32: 02/06/2025 | B32: =SUMIFS(Recebimento!N:N,Recebimento!K:K,Conciliação!A32) -> 0 | C32: 0 | D32: =B32-C32 -> 0

Sheet Inadimplência
Q1: =SUM(Q3:Q9) -> 28580.78
A2: No Contrato | B2: Nome do Mutuáriuo | C2: CPF | D2: Carteira | E2: Empreendimento | F2: No parcela | G2: Data de Vencimento Original | H2: Amortização Corrigida | I2: Juros Corrigido | J2: MIP | K2: DFI | L2: Valor de Gestão Corrigido | M2: Dif. de Parcela | N2: Multa | O2: Mora | P2: Resíduo Parcela | Q2: Total Corrigido | R2: Seguro | S2: Dias em aberto | T2: Id do Crédito | U2: Faixa de Atraso | V2: Status
A3: 6398 | B3: Ancor Construtora Ltda | C3: 28.241.797/0001-38 | D3: SWISS PARK ANAPOLIS | E3: Swiss Park Zurich - Anápolis | F3: 2414683 | G3: 10/05/2025 | H3: 1064.24 | I3: 2529.25 | N3: 71.87 | O3: 25.15 | Q3: 3690.51 | R3: 0 | S3: 21 | T3: 135615 | U3: Menor que 30 Dias | V3: Vencidos e Não Pagos Até 30 Dias
A4: 6399 | B4: Ancor Construtora Ltda | C4: 28.241.797/0001-38 | D4: SWISS PARK ANAPOLIS | E4: Swiss Park Zurich - Anápolis | F4: 2414846 | G4: 10/05/2025 | H4: 1117.38 | I4: 2655.57 | N4: 75.46 | O4: 26.41 | Q4: 3874.82 | R4: 0 | S4: 21 | T4: 135616 | U4: Menor que 30 Dias | V4: Vencidos e Não Pagos Até 30 Dias
A5: 6400 | B5: Ancor Construtora Ltda | C5: 28.241.797/0001-38 | D5: SWISS PARK ANAPOLIS | E5: Swiss Park Zurich - Anápolis | F5: 2415009 | G5: 10/05/2025 | H5: 1047.5 | I5: 2489.47 | N5: 70.74 | O5: 24.76 | Q5: 3632.47 | R5: 0 | S5: 21 | T5: 135617 | U5: Menor que 30 Dias | V5: Vencidos e Não Pagos Até 30 Dias
A6: 6388 | B6: Anderson Goncalves Moreira | C6: 731.599.561-72 | D6: SWISS PARK ANAPOLIS | E6: Swiss Park Zurich - Anápolis | F6: 2413847 | G6: 21/05/2025 | H6: 8101.06 | I6: 0 | N6: 162.02 | O6: 27 | Q6: 8290.08 | R6: 0 | S6: 10 | T6: 135618 | U6: Menor que 30 Dias | V6: Vencidos e Não Pagos Até 30 Dias
A7: 6441 | B7: Camilo El Bazi Filho | C7: 757.022.151-68 | D7: SWISS PARK ANAPOLIS | E7: Swiss Park Zurich - Anápolis | F7: 2417858 | G7: 21/05/2025 | H7: 740.64 | I7: 1843.72 | N7: 51.69 | O7: 8.61 | Q7: 2644.66 | R7: 0 | S7: 10 | T7: 135621 | U7: Menor que 30 Dias | V7: Vencidos e Não Pagos Até 30 Dias
A8: 6409 | B8: Lucas Garcia Oliveira | C8: 253.190.908-70 | D8: SWISS PARK ANAPOLIS | E8: Swiss Park Zurich - Anápolis | F8: 2415739 | G8: 21/05/2025 | H8: 911.59 | I8: 2239.02 | N8: 63.01 | O8: 10.5 | Q8: 3224.12 | R8: 0 | S8: 10 | T8: 135661 | U8: Menor que 30 Dias | V8: Vencidos e Não Pagos Até 30 Dias
A9: 6410 | B9: Lucas Garcia Oliveira | C9: 253.190.908-70 | D9: SWISS PARK ANAPOLIS | E9: Swiss Park Zurich - Anápolis | F9: 2415903 | G9: 21/05/2025 | H9: 911.59 | I9: 2239.02 | N9: 63.01 | O9: 10.5 | Q9: 3224.12 | R9: 0 | S9: 10 | T9: 135662 | U9: Menor que 30 Dias | V9: Vencidos e Não Pagos Até 30 Dias
A10: 5420 | B10: Vagner Ricardo de Souza Godoi | C10: 040.227.541-17 | D10: SWISS PARK ANAPOLIS | E10: Swiss Park Zurich - Anápolis | F10: 2513762 | G10: 21/05/2025 | H10: 584.91 | I10: 1681.71 | N10: 45.33 | O10: 7.56 | Q10: 2319.51 | R10: 0 | S10: 10 | T10: 136100 | U10: Menor que 30 Dias | V10: Vencidos e Não Pagos Até 30 Dias | W10: Proposta - Aguardando Escritura
A11: 5423 | B11: Priscilla Ribeiro Freire Campos | C11: 262.513.558-16 | D11: SWISS PARK ANAPOLIS | E11: Swiss Park Zurich - Anápolis | F11: 2536471 | G11: 21/05/2025 | H11: 502.34 | I11: 1444.32 | N11: 38.93 | O11: 6.49 | Q11: 1992.08 | R11: 0 | S11: 10 | T11: 136248 | U11: Menor que 30 Dias | V11: Vencidos e Não Pagos Até 30 Dias | W11: Proposta - Aguardando Escritura

Sheet Planilha4
A1: Crédito | B1: Maior Valor | C1: Saldo devedor | D1: Saldo Devedor dos creditos em atraso | E1: Qtade parcelas Atraso | F1: Saldo Devedor dos creditos em atraso - Por Parcela | G1: Inadimplencia | H1: VP | R1: Saldo Devedor dos creditos em atraso - Por Parcela
A2: 6398 | B2: =_xlfn.MAXIFS(Inadimplência!S:S,Inadimplência!A:A,Planilha4!A2) -> 21 | C2: =VLOOKUP(A2,FluxoFuturo!B:L,11,0) -> 314753.13 | D2: =IF(B2<0,"Adimplente",IF(B2<=30,"Vencidos e Não Pagos Até 30 Dias",IF(B2<=61,"Vencidos e Não Pagos De 31 A 60 Dias",IF(B2<=90,"Vencidos E Não Pagos De 61 A 90 Dias",IF(B2<=120,"Vencidos e Não Pagos De 91 A 120 Dias",IF(B2<=150,"Vencidos e Não Pagos De 121 A 150 Dias",IF(B2<=180,"Vencidos e Não Pagos De 151 A 180 Dias",IF(B2>180,"Vencidos E Não Pagos Acima de 180 Dias","")))))))) -> Vencidos e Não Pagos Até 30 Dias | E2: =COUNTIFS(Inadimplência!A:A,Planilha4!A2) -> 1 | F2: =IF(E2=1,$R$2,IF(E2=2,$R$3,IF(E2=3,$R$4,IF(E2=4,$R$5,IF(E2=5,#REF!,IF(E2=6,$R$6,IF(E2>6,$R$7))))))) -> 01 - Uma Parcela | G2: =VLOOKUP(A2,FluxoFuturo!B:J,9,0) -> 3690.51 | H2: =VLOOKUP(A2,FluxoFuturo!B:K,10,0) -> 311062.62 | R2: 01 - Uma Parcela
A3: 6399 | B3: =_xlfn.MAXIFS(Inadimplência!S:S,Inadimplência!A:A,Planilha4!A3) -> 21 | C3: =VLOOKUP(A3,FluxoFuturo!B:L,11,0) -> 330472.09 | D3: =IF(B3<0,"Adimplente",IF(B3<=30,"Vencidos e Não Pagos Até 30 Dias",IF(B3<=61,"Vencidos e Não Pagos De 31 A 60 Dias",IF(B3<=90,"Vencidos E Não Pagos De 61 A 90 Dias",IF(B3<=120,"Vencidos e Não Pagos De 91 A 120 Dias",IF(B3<=150,"Vencidos e Não Pagos De 121 A 150 Dias",IF(B3<=180,"Vencidos e Não Pagos De 151 A 180 Dias",IF(B3>180,"Vencidos E Não Pagos Acima de 180 Dias","")))))))) -> Vencidos e Não Pagos Até 30 Dias | E3: =COUNTIFS(Inadimplência!A:A,Planilha4!A3) -> 1 | F3: =IF(E3=1,$R$2,IF(E3=2,$R$3,IF(E3=3,$R$4,IF(E3=4,$R$5,IF(E3=5,#REF!,IF(E3=6,$R$6,IF(E3>6,$R$7))))))) -> 01 - Uma Parcela | G3: =VLOOKUP(A3,FluxoFuturo!B:J,9,0) -> 3874.82 | H3: =VLOOKUP(A3,FluxoFuturo!B:K,10,0) -> 326597.27 | R3: 02 - Duas Parcelas
A4: 6400 | B4: =_xlfn.MAXIFS(Inadimplência!S:S,Inadimplência!A:A,Planilha4!A4) -> 21 | C4: =VLOOKUP(A4,FluxoFuturo!B:L,11,0) -> 309802.54 | D4: =IF(B4<0,"Adimplente",IF(B4<=30,"Vencidos e Não Pagos Até 30 Dias",IF(B4<=61,"Vencidos e Não Pagos De 31 A 60 Dias",IF(B4<=90,"Vencidos E Não Pagos De 61 A 90 Dias",IF(B4<=120,"Vencidos e Não Pagos De 91 A 120 Dias",IF(B4<=150,"Vencidos e Não Pagos De 121 A 150 Dias",IF(B4<=180,"Vencidos e Não Pagos De 151 A 180 Dias",IF(B4>180,"Vencidos E Não Pagos Acima de 180 Dias","")))))))) -> Vencidos e Não Pagos Até 30 Dias | E4: =COUNTIFS(Inadimplência!A:A,Planilha4!A4) -> 1 | F4: =IF(E4=1,$R$2,IF(E4=2,$R$3,IF(E4=3,$R$4,IF(E4=4,$R$5,IF(E4=5,#REF!,IF(E4=6,$R$6,IF(E4>6,$R$7))))))) -> 01 - Uma Parcela | G4: =VLOOKUP(A4,FluxoFuturo!B:J,9,0) -> 3632.47 | H4: =VLOOKUP(A4,FluxoFuturo!B:K,10,0) -> 306170.07 | R4: 03 - Três Parcelas
A5: 6388 | B5: =_xlfn.MAXIFS(Inadimplência!S:S,Inadimplência!A:A,Planilha4!A5) -> 10 | C5: =VLOOKUP(A5,FluxoFuturo!B:L,11,0) -> 186513.4 | D5: =IF(B5<0,"Adimplente",IF(B5<=30,"Vencidos e Não Pagos Até 30 Dias",IF(B5<=61,"Vencidos e Não Pagos De 31 A 60 Dias",IF(B5<=90,"Vencidos E Não Pagos De 61 A 90 Dias",IF(B5<=120,"Vencidos e Não Pagos De 91 A 120 Dias",IF(B5<=150,"Vencidos e Não Pagos De 121 A 150 Dias",IF(B5<=180,"Vencidos e Não Pagos De 151 A 180 Dias",IF(B5>180,"Vencidos E Não Pagos Acima de 180 Dias","")))))))) -> Vencidos e Não Pagos Até 30 Dias | E5: =COUNTIFS(Inadimplência!A:A,Planilha4!A5) -> 1 | F5: =IF(E5=1,$R$2,IF(E5=2,$R$3,IF(E5=3,$R$4,IF(E5=4,$R$5,IF(E5=5,#REF!,IF(E5=6,$R$6,IF(E5>6,$R$7))))))) -> 01 - Uma Parcela | G5: =VLOOKUP(A5,FluxoFuturo!B:J,9,0) -> 8290.08 | H5: =VLOOKUP(A5,FluxoFuturo!B:K,10,0) -> 178223.32 | R5: 04 - Quatro Parcelas
A6: 6441 | B6: =_xlfn.MAXIFS(Inadimplência!S:S,Inadimplência!A:A,Planilha4!A6) -> 10 | C6: =VLOOKUP(A6,FluxoFuturo!B:L,11,0) -> 329645.36 | D6: =IF(B6<0,"Adimplente",IF(B6<=30,"Vencidos e Não Pagos Até 30 Dias",IF(B6<=61,"Vencidos e Não Pagos De 31 A 60 Dias",IF(B6<=90,"Vencidos E Não Pagos De 61 A 90 Dias",IF(B6<=120,"Vencidos e Não Pagos De 91 A 120 Dias",IF(B6<=150,"Vencidos e Não Pagos De 121 A 150 Dias",IF(B6<=180,"Vencidos e Não Pagos De 151 A 180 Dias",IF(B6>180,"Vencidos E Não Pagos Acima de 180 Dias","")))))))) -> Vencidos e Não Pagos Até 30 Dias | E6: =COUNTIFS(Inadimplência!A:A,Planilha4!A6) -> 1 | F6: =IF(E6=1,$R$2,IF(E6=2,$R$3,IF(E6=3,$R$4,IF(E6=4,$R$5,IF(E6=5,#REF!,IF(E6=6,$R$6,IF(E6>6,$R$7))))))) -> 01 - Uma Parcela | G6: =VLOOKUP(A6,FluxoFuturo!B:J,9,0) -> 2644.66 | H6: =VLOOKUP(A6,FluxoFuturo!B:K,10,0) -> 327000.7 | R6: 05 - Cinco Parcelas
A7: 6409 | B7: =_xlfn.MAXIFS(Inadimplência!S:S,Inadimplência!A:A,Planilha4!A7) -> 10 | C7: =VLOOKUP(A7,FluxoFuturo!B:L,11,0) -> 276910.87 | D7: =IF(B7<0,"Adimplente",IF(B7<=30,"Vencidos e Não Pagos Até 30 Dias",IF(B7<=61,"Vencidos e Não Pagos De 31 A 60 Dias",IF(B7<=90,"Vencidos E Não Pagos De 61 A 90 Dias",IF(B7<=120,"Vencidos e Não Pagos De 91 A 120 Dias",IF(B7<=150,"Vencidos e Não Pagos De 121 A 150 Dias",IF(B7<=180,"Vencidos e Não Pagos De 151 A 180 Dias",IF(B7>180,"Vencidos E Não Pagos Acima de 180 Dias","")))))))) -> Vencidos e Não Pagos Até 30 Dias | E7: =COUNTIFS(Inadimplência!A:A,Planilha4!A7) -> 1 | F7: =IF(E7=1,$R$2,IF(E7=2,$R$3,IF(E7=3,$R$4,IF(E7=4,$R$5,IF(E7=5,#REF!,IF(E7=6,$R$6,IF(E7>6,$R$7))))))) -> 01 - Uma Parcela | G7: =VLOOKUP(A7,FluxoFuturo!B:J,9,0) -> 3224.12 | H7: =VLOOKUP(A7,FluxoFuturo!B:K,10,0) -> 273686.75 | R7: 06 - Seis parcelas
A8: 6410 | B8: =_xlfn.MAXIFS(Inadimplência!S:S,Inadimplência!A:A,Planilha4!A8) -> 10 | C8: =VLOOKUP(A8,FluxoFuturo!B:L,11,0) -> 276910.87 | D8: =IF(B8<0,"Adimplente",IF(B8<=30,"Vencidos e Não Pagos Até 30 Dias",IF(B8<=61,"Vencidos e Não Pagos De 31 A 60 Dias",IF(B8<=90,"Vencidos E Não Pagos De 61 A 90 Dias",IF(B8<=120,"Vencidos e Não Pagos De 91 A 120 Dias",IF(B8<=150,"Vencidos e Não Pagos De 121 A 150 Dias",IF(B8<=180,"Vencidos e Não Pagos De 151 A 180 Dias",IF(B8>180,"Vencidos E Não Pagos Acima de 180 Dias","")))))))) -> Vencidos e Não Pagos Até 30 Dias | E8: =COUNTIFS(Inadimplência!A:A,Planilha4!A8) -> 1 | F8: =IF(E8=1,$R$2,IF(E8=2,$R$3,IF(E8=3,$R$4,IF(E8=4,$R$5,IF(E8=5,#REF!,IF(E8=6,$R$6,IF(E8>6,$R$7))))))) -> 01 - Uma Parcela | G8: =VLOOKUP(A8,FluxoFuturo!B:J,9,0) -> 3224.12 | H8: =VLOOKUP(A8,FluxoFuturo!B:K,10,0) -> 273686.75 | R8: Maior que seis parcelas

Sheet FluxoFuturo
J1: =SUBTOTAL(9,J3:J101) -> 28580.78 | K1: =SUBTOTAL(9,K3:K101) -> 24784043 | L1: =SUBTOTAL(9,L3:L101) -> 24812624 | N1: =SUBTOTAL(9,N3:N101) -> 24784647 | O1: =SUBTOTAL(9,O3:O101) -> 22587901
A2: Cod Chronos | B2: Contrato | C2: Nome do mutuário | D2: CPF | E2: Taxa | F2: Carteira | G2: Empreendimento | H2: Elegibilidade | I2: Meses Remanescentes | J2: Inadimplência | K2: VP Fluxo Futuro | L2: Saldo Devedor | M2: Classificação | N2: Saldo Devedor PDD | O2: Saldo Devedor Taxa Cessão | P2: Média R$ m² | Q2: Área M² | R2: Valor De Venda Atualizado | S2: LTV % | T2: 06/2025 | U2: 07/2025 | V2: 08/2025 | W2: 09/2025 | X2: 10/2025 | Y2: 11/2025 | Z2: 12/2025 | AA2: 01/2026 | AB2: 02/2026 | AC2: 03/2026 | AD2: 04/2026 | AE2: 05/2026 | AF2: 06/2026 | AG2: 07/2026 | AH2: 08/2026 | AI2: 09/2026 | AJ2: 10/2026 | AK2: 11/2026 | AL2: 12/2026 | AM2: 01/2027 | AN2: 02/2027 | AO2: 03/2027 | AP2: 04/2027 | AQ2: 05/2027 | AR2: 06/2027 | AS2: 07/2027 | AT2: 08/2027 | AU2: 09/2027 | AV2: 10/2027 | AW2: 11/2027 | AX2: 12/2027 | AY2: 01/2028 | AZ2: 02/2028 | BA2: 03/2028 | BB2: 04/2028 | BC2: 05/2028 | BD2: 06/2028 | BE2: 07/2028 | BF2: 08/2028 | BG2: 09/2028 | BH2: 10/2028 | BI2: 11/2028 | BJ2: 12/2028 | BK2: 01/2029 | BL2: 02/2029 | BM2: 03/2029 | BN2: 04/2029 | BO2: 05/2029 | BP2: 06/2029 | BQ2: 07/2029 | BR2: 08/2029 | BS2: 09/2029 | BT2: 10/2029 | BU2: 11/2029 | BV2: 12/2029 | BW2: 01/2030 | BX2: 02/2030 | BY2: 03/2030 | BZ2: 04/2030 | CA2: 05/2030 | CB2: 06/2030 | CC2: 07/2030 | CD2: 08/2030 | CE2: 09/2030 | CF2: 10/2030 | CG2: 11/2030 | CH2: 12/2030 | CI2: 01/2031 | CJ2: 02/2031 | CK2: 03/2031 | CL2: 04/2031 | CM2: 05/2031 | CN2: 06/2031 | CO2: 07/2031 | CP2: 08/2031 | CQ2: 09/2031 | CR2: 10/2031 | CS2: 11/2031 | CT2: 12/2031 | CU2: 01/2032 | CV2: 02/2032 | CW2: 03/2032 | CX2: 04/2032 | CY2: 05/2032 | CZ2: 06/2032 | DA2: 07/2032 | DB2: 08/2032 | DC2: 09/2032 | DD2: 10/2032 | DE2: 11/2032 | DF2: 12/2032 | DG2: 01/2033 | DH2: 02/2033 | DI2: 03/2033 | DJ2: 04/2033 | DK2: 05/2033 | DL2: 06/2033 | DM2: 07/2033 | DN2: 08/2033 | DO2: 09/2033 | DP2: 10/2033 | DQ2: 11/2033 | DR2: 12/2033 | DS2: 01/2034 | DT2: 02/2034 | DU2: 03/2034 | DV2: 04/2034 | DW2: 05/2034 | DX2: 06/2034 | DY2: 07/2034 | DZ2: 08/2034 | EA2: 09/2034 | EB2: 10/2034 | EC2: 11/2034 | ED2: 12/2034 | EE2: 01/2035 | EF2: 02/2035 | EG2: 03/2035 | EH2: 04/2035 | EI2: 05/2035 | EJ2: 06/2035 | EK2: 07/2035 | EL2: 08/2035 | EM2: 09/2035 | EN2: 10/2035 | EO2: 11/2035 | EP2: 12/2035 | EQ2: 01/2036 | ER2: 02/2036 | ES2: 03/2036 | ET2: 04/2036 | EU2: 05/2036 | EV2: 06/2036 | EW2: 07/2036 | EX2: 08/2036 | EY2: 09/2036 | EZ2: 10/2036 | FA2: 11/2036 | FB2: 12/2036 | FC2: 01/2037 | FD2: 02/2037 | FE2: 03/2037 | FF2: 04/2037 | FG2: 05/2037 | FH2: 06/2037 | FI2: 07/2037 | FJ2: 08/2037 | FK2: 09/2037 | FL2: 10/2037 | FM2: 11/2037 | FN2: 12/2037 | FO2: 01/2038 | FP2: 02/2038 | FQ2: 03/2038 | FR2: 04/2038 | FS2: 05/2038 | FT2: 06/2038 | FU2: 07/2038 | FV2: 08/2038 | FW2: 09/2038 | FX2: 10/2038 | FY2: 11/2038 | FZ2: 12/2038 | GA2: 01/2039 | GB2: 02/2039 | GC2: 03/2039 | GD2: 04/2039 | GE2: 05/2039 | GF2: 06/2039 | GG2: 07/2039 | GH2: 08/2039 | GI2: Id do Crédito
A3: 135922 | B3: =_xlfn.XLOOKUP(A3,[9]Planilha1!$L:$L,[9]Planilha1!$B:$B,,0) -> 6494 | C3: Filipe Junio De Oliveira | D3: 020.314.361-20 | E3: 0.100339 | F3: SWISS PARK ANAPOLIS | G3: Swiss Park Zurich - Anápolis | H3: =VLOOKUP(B3,Elegibilidade!A:I,9,0) -> Elegível | I3: 160 | J3: 0 | K3: =NPV(0.8%,T3:GH3) -> 366399.06 | L3: =J3+K3 -> 366399.06 | M3: Adimplente | N3: =VLOOKUP(M3,Base!A:B,2,0)*L3 -> 366399.06 | O3: =NPV((1+12%)^(1/12)-1,T3:GH3) -> 334406 | P3: =Vendas!$J$1 -> 880.37366 | Q3: =VLOOKUP(A3,[10]FluxoFuturo!$A:$Q,17,0) -> 413.88 | R3: =P3*Q3 -> 364369.05 | S3: =O3/R3 -> 0.91776729 | T3: 2888.28 | U3: 2888.28 | V3: 2888.28 | W3: 2888.28 | X3: 2888.28 | Y3: 2888.28 | Z3: 2888.28 | AA3: 2888.28 | AB3: 18139.95 | AC3: 2888.28 | AD3: 2888.28 | AE3: 2888.28 | AF3: 2888.28 | AG3: 2888.28 | AH3: 2888.28 | AI3: 2888.28 | AJ3: 2888.28 | AK3: 2888.28 | AL3: 2888.28 | AM3: 2888.28 | AN3: 18139.95 | AO3: 2888.28 | AP3: 2888.28 | AQ3: 2888.28 | AR3: 2888.28 | AS3: 2888.28 | AT3: 2888.28 | AU3: 2888.28 | AV3: 2888.28 | AW3: 2888.28 | AX3: 2888.28 | AY3: 2888.28 | AZ3: 18139.95 | BA3: 2888.28 | BB3: 2888.28 | BC3: 2888.28 | BD3: 2888.28 | BE3: 2888.28 | BF3: 2888.28 | BG3: 2888.28 | BH3: 2888.28 | BI3: 2888.28 | BJ3: 2888.28 | BK3: 2888.28 | BL3: 18139.95 | BM3: 2888.28 | BN3: 2888.28 | BO3: 2888.28 | BP3: 2888.28 | BQ3: 2888.28 | BR3: 2888.28 | BS3: 2888.28 | BT3: 2888.28 | BU3: 2888.28 | BV3: 2888.28 | BW3: 2888.28 | BX3: 18139.95 | BY3: 2888.28 | BZ3: 2888.28 | CA3: 2888.28 | CB3: 2888.28 | CC3: 2888.28 | CD3: 2888.28 | CE3: 2888.28 | CF3: 2888.28 | CG3: 2888.28 | CH3: 2888.28 | CI3: 2888.28 | CJ3: 18139.95 | CK3: 2888.28 | CL3: 2888.28 | CM3: 2888.28 | CN3: 2888.28 | CO3: 2888.28 | CP3: 2888.28 | CQ3: 2888.28 | CR3: 2888.28 | CS3: 2888.28 | CT3: 2888.28 | CU3: 2888.28 | CV3: 18139.95 | CW3: 2888.28 | CX3: 2888.28 | CY3: 2888.28 | CZ3: 2888.28 | DA3: 2888.28 | DB3: 2888.28 | DC3: 2888.28 | DD3: 2888.28 | DE3: 2888.28 | DF3: 2888.28 | DG3: 2888.28 | DH3: 18139.95 | DI3: 2888.28 | DJ3: 2888.28 | DK3: 2888.28 | DL3: 2888.28 | DM3: 2888.28 | DN3: 2888.28 | DO3: 2888.28 | DP3: 2888.28 | DQ3: 2888.28 | DR3: 2888.28 | DS3: 2888.28 | DT3: 18139.95 | DU3: 2888.28 | DV3: 2888.28 | DW3: 2888.28 | DX3: 2888.28 | DY3: 2888.28 | DZ3: 2888.28 | EA3: 2888.28 | EB3: 2888.28 | EC3: 2888.28 | ED3: 2888.28 | EE3: 2888.28 | EF3: 18139.95 | EG3: 2888.28 | EH3: 2888.28 | EI3: 2888.28 | EJ3: 2888.28 | EK3: 2888.28 | EL3: 2888.28 | EM3: 2888.28 | EN3: 2888.28 | EO3: 2888.28 | EP3: 2888.28 | EQ3: 2888.28 | ER3: 18139.95 | ES3: 2888.28 | ET3: 2888.28 | EU3: 2888.28 | EV3: 2888.28 | EW3: 2888.28 | EX3: 2888.28 | EY3: 2888.28 | EZ3: 2888.28 | FA3: 2888.28 | FB3: 2888.28 | FC3: 2888.28 | FD3: 18139.94 | FE3: 2888.28 | FF3: 2888.28 | FG3: 2888.28 | FH3: 2888.28 | FI3: 2888.28 | FJ3: 2888.28 | FK3: 2888.28 | FL3: 2888.28 | FM3: 2888.28 | FN3: 2888.28 | FO3: 2888.28 | FP3: 2888.28 | FQ3: 2888.28 | FR3: 2888.28 | FS3: 2888.28 | FT3: 2888.28 | FU3: 2888.28 | FV3: 2888.28 | FW3: 2887.83 | FX3: 0 | FY3: 0 | FZ3: 0 | GA3: 0 | GB3: 0 | GC3: 0 | GD3: 0 | GE3: 0 | GF3: 0 | GG3: 0 | GH3: 0 | GI3: 135922
A4: 135688 | B4: =_xlfn.XLOOKUP(A4,[9]Planilha1!$L:$L,[9]Planilha1!$B:$B,,0) -> 6451 | C4: Thiago Da Costa Moreira | D4: 036.528.931-07 | E4: 0.1003 | F4: SWISS PARK ANAPOLIS | G4: Swiss Park Zurich - Anápolis | H4: =VLOOKUP(B4,Elegibilidade!A:I,9,0) -> Elegível | I4: 154 | J4: 0 | K4: =NPV(0.8%,T4:GH4) -> 361589.65 | L4: =J4+K4 -> 361589.65 | M4: Adimplente | N4: =VLOOKUP(M4,Base!A:B,2,0)*L4 -> 361589.65 | O4: =NPV((1+12%)^(1/12)-1,T4:GH4) -> 330559.82 | P4: =Vendas!$J$1 -> 880.37366 | Q4: =VLOOKUP(A4,[10]FluxoFuturo!$A:$Q,17,0) -> 408.49 | R4: =P4*Q4 -> 359623.84 | S4: =O4/R4 -> 0.91918217 | T4: 4092.36 | U4: 4092.36 | V4: 4092.36 | W4: 4092.36 | X4: 4092.36 | Y4: 4092.36 | Z4: 4092.36 | AA4: 4092.36 | AB4: 4092.36 | AC4: 4092.36 | AD4: 4092.36 | AE4: 4092.36 | AF4: 4092.36 | AG4: 4092.36 | AH4: 4092.36 | AI4: 4092.36 | AJ4: 4092.36 | AK4: 4092.36 | AL4: 4092.36 | AM4: 4092.36 | AN4: 4092.36 | AO4: 4092.36 | AP4: 4092.36 | AQ4: 4092.36 | AR4: 4092.36 | AS4: 4092.36 | AT4: 4092.36 | AU4: 4092.36 | AV4: 4092.36 | AW4: 4092.36 | AX4: 4092.36 | AY4: 4092.36 | AZ4: 4092.36 | BA4: 4092.36 | BB4: 4092.36 | BC4: 4092.36 | BD4: 4092.36 | BE4: 4092.36 | BF4: 4092.36 | BG4: 4092.36 | BH4: 4092.36 | BI4: 4092.36 | BJ4: 4092.36 | BK4: 4092.36 | BL4: 4092.36 | BM4: 4092.36 | BN4: 4092.36 | BO4: 4092.36 | BP4: 4092.36 | BQ4: 4092.36 | BR4: 4092.36 | BS4: 4092.36 | BT4: 4092.36 | BU4: 4092.36 | BV4: 4092.36 | BW4: 4092.36 | BX4: 4092.36 | BY4: 4092.36 | BZ4: 4092.36 | CA4: 4092.36 | CB4: 4092.36 | CC4: 4092.36 | CD4: 4092.36 | CE4: 4092.36 | CF4: 4092.36 | CG4: 4092.36 | CH4: 4092.36 | CI4: 4092.36 | CJ4: 4092.36 | CK4: 4092.36 | CL4: 4092.36 | CM4: 4092.36 | CN4: 4092.36 | CO4: 4092.36 | CP4: 4092.36 | CQ4: 4092.36 | CR4: 4092.36 | CS4: 4092.36 | CT4: 4092.36 | CU4: 4092.36 | CV4: 4092.36 | CW4: 4092.36 | CX4: 4092.36 | CY4: 4092.36 | CZ4: 4092.36 | DA4: 4092.36 | DB4: 4092.36 | DC4: 4092.36 | DD4: 4092.36 | DE4: 4092.36 | DF4: 4092.36 | DG4: 4092.36 | DH4: 4092.36 | DI4: 4092.36 | DJ4: 4092.36 | DK4: 4092.36 | DL4: 4092.36 | DM4: 4092.36 | DN4: 4092.36 | DO4: 4092.36 | DP4: 4092.36 | DQ4: 4092.36 | DR4: 4092.36 | DS4: 4092.36 | DT4: 4092.36 | DU4: 4092.36 | DV4: 4092.36 | DW4: 4092.36 | DX4: 4092.36 | DY4: 4092.36 | DZ4: 4092.36 | EA4: 4092.36 | EB4: 4092.36 | EC4: 4092.36 | ED4: 4092.36 | EE4: 4092.36 | EF4: 4092.36 | EG4: 4092.36 | EH4: 4092.36 | EI4: 4092.36 | EJ4: 4092.36 | EK4: 4092.36 | EL4: 4092.36 | EM4: 4092.36 | EN4: 4092.36 | EO4: 4092.36 | EP4: 4092.36 | EQ4: 4092.36 | ER4: 4092.36 | ES4: 4092.36 | ET4: 4092.36 | EU4: 4092.36 | EV4: 4092.36 | EW4: 4092.36 | EX4: 4092.36 | EY4: 4092.36 | EZ4: 4092.36 | FA4: 4092.36 | FB4: 4092.36 | FC4: 4092.36 | FD4: 4092.36 | FE4: 4092.36 | FF4: 4092.36 | FG4: 4092.36 | FH4: 4092.36 | FI4: 4092.36 | FJ4: 4092.36 | FK4: 4092.36 | FL4: 4092.36 | FM4: 4092.36 | FN4: 4092.36 | FO4: 4092.36 | FP4: 4092.36 | FQ4: 4092.27 | FR4: 0 | FS4: 0 | FT4: 0 | FU4: 0 | FV4: 0 | FW4: 0 | FX4: 0 | FY4: 0 | FZ4: 0 | GA4: 0 | GB4: 0 | GC4: 0 | GD4: 0 | GE4: 0 | GF4: 0 | GG4: 0 | GH4: 0 | GI4: 135688
A5: 136446 | B5: =_xlfn.XLOOKUP(A5,[9]Planilha1!$L:$L,[9]Planilha1!$B:$B,,0) -> 5429 | C5: Pedro Henrique Rufo Chagas | D5: 700.642.461-59 | E5: 0 | F5: SWISS PARK ANAPOLIS | G5: Swiss Park Zurich - Anápolis | H5: =VLOOKUP(B5,Elegibilidade!A:I,9,0) -> Inelegível | I5: 22 | J5: 0 | K5: =SUM(T5:GH5) -> 357779.84 | L5: =J5+K5 -> 357779.84 | M5: Adimplente | N5: =VLOOKUP(M5,Base!A:B,2,0)*L5 -> 357779.84 | O5: =NPV((1+12%)^(1/12)-1,T5:GH5) -> 321534.7 | P5: =Vendas!$J$1 -> 880.37366 | Q5: 490.65 | R5: =P5*Q5 -> 431955.34 | S5: =O5/R5 -> 0.74437025 | T5: 16262.72 | U5: 16262.72 | V5: 16262.72 | W5: 16262.72 | X5: 16262.72 | Y5: 16262.72 | Z5: 16262.72 | AA5: 16262.72 | AB5: 16262.72 | AC5: 16262.72 | AD5: 16262.72 | AE5: 16262.72 | AF5: 16262.72 | AG5: 16262.72 | AH5: 16262.72 | AI5: 16262.72 | AJ5: 16262.72 | AK5: 16262.72 | AL5: 16262.72 | AM5: 16262.72 | AN5: 16262.72 | AO5: 16262.72 | AP5: 0 | AQ5: 0 | AR5: 0 | AS5: 0 | AT5: 0 | AU5: 0 | AV5: 0 | AW5: 0 | AX5: 0 | AY5: 0 | AZ5: 0 | BA5: 0 | BB5: 0 | BC5: 0 | BD5: 0 | BE5: 0 | BF5: 0 | BG5: 0 | BH5: 0 | BI5: 0 | BJ5: 0 | BK5: 0 | BL5: 0 | BM5: 0 | BN5: 0 | BO5: 0 | BP5: 0 | BQ5: 0 | BR5: 0 | BS5: 0 | BT5: 0 | BU5: 0 | BV5: 0 | BW5: 0 | BX5: 0 | BY5: 0 | BZ5: 0 | CA5: 0 | CB5: 0 | CC5: 0 | CD5: 0 | CE5: 0 | CF5: 0 | CG5: 0 | CH5: 0 | CI5: 0 | CJ5: 0 | CK5: 0 | CL5: 0 | CM5: 0 | CN5: 0 | CO5: 0 | CP5: 0 | CQ5: 0 | CR5: 0 | CS5: 0 | CT5: 0 | CU5: 0 | CV5: 0 | CW5: 0 | CX5: 0 | CY5: 0 | CZ5: 0 | DA5: 0 | DB5: 0 | DC5: 0 | DD5: 0 | DE5: 0 | DF5: 0 | DG5: 0 | DH5: 0 | DI5: 0 | DJ5: 0 | DK5: 0 | DL5: 0 | DM5: 0 | DN5: 0 | DO5: 0 | DP5: 0 | DQ5: 0 | DR5: 0 | DS5: 0 | DT5: 0 | DU5: 0 | DV5: 0 | DW5: 0 | DX5: 0 | DY5: 0 | DZ5: 0 | EA5: 0 | EB5: 0 | EC5: 0 | ED5: 0 | EE5: 0 | EF5: 0 | EG5: 0 | EH5: 0 | EI5: 0 | EJ5: 0 | EK5: 0 | EL5: 0 | EM5: 0 | EN5: 0 | EO5: 0 | EP5: 0 | EQ5: 0 | ER5: 0 | ES5: 0 | ET5: 0 | EU5: 0 | EV5: 0 | EW5: 0 | EX5: 0 | EY5: 0 | EZ5: 0 | FA5: 0 | FB5: 0 | FC5: 0 | FD5: 0 | FE5: 0 | FF5: 0 | FG5: 0 | FH5: 0 | FI5: 0 | FJ5: 0 | FK5: 0 | FL5: 0 | FM5: 0 | FN5: 0 | FO5: 0 | FP5: 0 | FQ5: 0 | FR5: 0 | FS5: 0 | FT5: 0 | FU5: 0 | FV5: 0 | FW5: 0 | FX5: 0 | FY5: 0 | FZ5: 0 | GA5: 0 | GB5: 0 | GC5: 0 | GD5: 0 | GE5: 0 | GF5: 0 | GG5: 0 | GH5: 0 | GI5: 136446
A6: 135667 | B6: =_xlfn.XLOOKUP(A6,[9]Planilha1!$L:$L,[9]Planilha1!$B:$B,,0) -> 6402 | C6: Michael Molina | D6: 222.832.808-18 | E6: 0.1003 | F6: SWISS PARK ANAPOLIS | G6: Swiss Park Zurich - Anápolis | H6: =VLOOKUP(B6,Elegibilidade!A:I,9,0) -> Elegível | I6: 149 | J6: 0 | K6: =NPV(0.8%,T6:GH6) -> 350463.31 | L6: =J6+K6 -> 350463.31 | M6: Adimplente | N6: =VLOOKUP(M6,Base!A:B,2,0)*L6 -> 350463.31 | O6: =NPV((1+12%)^(1/12)-1,T6:GH6) -> 321079.99 | P6: =Vendas!$J$1 -> 880.37366 | Q6: =VLOOKUP(A6,[10]FluxoFuturo!$A:$Q,17,0) -> 460.99 | R6: =P6*Q6 -> 405843.46 | S6: =O6/R6 -> 0.79114247 | T6: 4034.44 | U6: 4034.44 | V6: 4034.44 | W6: 4034.44 | X6: 4034.44 | Y6: 4034.44 | Z6: 4034.44 | AA6: 4034.44 | AB6: 4034.44 | AC6: 4034.44 | AD6: 4034.44 | AE6: 4034.44 | AF6: 4034.44 | AG6: 4034.44 | AH6: 4034.44 | AI6: 4034.44 | AJ6: 4034.44 | AK6: 4034.44 | AL6: 4034.44 | AM6: 4034.44 | AN6: 4034.44 | AO6: 4034.44 | AP6: 4034.44 | AQ6: 4034.44 | AR6: 4034.44 | AS6: 4034.44 | AT6: 4034.44 | AU6: 4034.44 | AV6: 4034.44 | AW6: 4034.44 | AX6: 4034.44 | AY6: 4034.44 | AZ6: 4034.44 | BA6: 4034.44 | BB6: 4034.44 | BC6: 4034.44 | BD6: 4034.44 | BE6: 4034.44 | BF6: 4034.44 | BG6: 4034.44 | BH6: 4034.44 | BI6: 4034.44 | BJ6: 4034.44 | BK6: 4034.44 | BL6: 4034.44 | BM6: 4034.44 | BN6: 4034.44 | BO6: 4034.44 | BP6: 4034.44 | BQ6: 4034.44 | BR6: 4034.44 | BS6: 4034.44 | BT6: 4034.44 | BU6: 4034.44 | BV6: 4034.44 | BW6: 4034.44 | BX6: 4034.44 | BY6: 4034.44 | BZ6: 4034.44 | CA6: 4034.44 | CB6: 4034.44 | CC6: 4034.44 | CD6: 4034.44 | CE6: 4034.44 | CF6: 4034.44 | CG6: 4034.44 | CH6: 4034.44 | CI6: 4034.44 | CJ6: 4034.44 | CK6: 4034.44 | CL6: 4034.44 | CM6: 4034.44 | CN6: 4034.44 | CO6: 4034.44 | CP6: 4034.44 | CQ6: 4034.44 | CR6: 4034.44 | CS6: 4034.44 | CT6: 4034.44 | CU6: 4034.44 | CV6: 4034.44 | CW6: 4034.44 | CX6: 4034.44 | CY6: 4034.44 | CZ6: 4034.44 | DA6: 4034.44 | DB6: 4034.44 | DC6: 4034.44 | DD6: 4034.44 | DE6: 4034.44 | DF6: 4034.44 | DG6: 4034.44 | DH6: 4034.44 | DI6: 4034.44 | DJ6: 4034.44 | DK6: 4034.44 | DL6: 4034.44 | DM6: 4034.44 | DN6: 4034.44 | DO6: 4034.44 | DP6: 4034.44 | DQ6: 4034.44 | DR6: 4034.44 | DS6: 4034.44 | DT6: 4034.44 | DU6: 4034.44 | DV6: 4034.44 | DW6: 4034.44 | DX6: 4034.44 | DY6: 4034.44 | DZ6: 4034.44 | EA6: 4034.44 | EB6: 4034.44 | EC6: 4034.44 | ED6: 4034.44 | EE6: 4034.44 | EF6: 4034.44 | EG6: 4034.44 | EH6: 4034.44 | EI6: 4034.44 | EJ6: 4034.44 | EK6: 4034.44 | EL6: 4034.44 | EM6: 4034.44 | EN6: 4034.44 | EO6: 4034.44 | EP6: 4034.44 | EQ6: 4034.44 | ER6: 4034.44 | ES6: 4034.44 | ET6: 4034.44 | EU6: 4034.44 | EV6: 4034.44 | EW6: 4034.44 | EX6: 4034.44 | EY6: 4034.44 | EZ6: 4034.44 | FA6: 4034.44 | FB6: 4034.44 | FC6: 4034.44 | FD6: 4034.44 | FE6: 4034.44 | FF6: 4034.44 | FG6: 4034.44 | FH6: 4034.44 | FI6: 4034.44 | FJ6: 4034.44 | FK6: 4034.44 | FL6: 4034.38 | FM6: 0 | FN6: 0 | FO6: 0 | FP6: 0 | FQ6: 0 | FR6: 0 | FS6: 0 | FT6: 0 | FU6: 0 | FV6: 0 | FW6: 0 | FX6: 0 | FY6: 0 | FZ6: 0 | GA6: 0 | GB6: 0 | GC6: 0 | GD6: 0 | GE6: 0 | GF6: 0 | GG6: 0 | GH6: 0 | GI6: 135667
A7: 136054 | B7: 6501 | C7: João Miguel Ridal Frutuoso | D7: 119.467.038-50 | E7: 0.100339 | F7: SWISS PARK ANAPOLIS | G7: Swiss Park Zurich - Anápolis | H7: =VLOOKUP(B7,Elegibilidade!A:I,9,0) -> Inelegível | I7: 171 | J7: 0 | K7: =NPV(0.8%,T7:GH7) -> 336310.4 | L7: =J7+K7 -> 336310.4 | M7: Adimplente | N7: =VLOOKUP(M7,Base!A:B,2,0)*L7 -> 336310.4 | O7: =NPV((1+12%)^(1/12)-1,T7:GH7) -> 305980.08 | P7: =Vendas!$J$1 -> 880.37366 | Q7: =VLOOKUP(A7,[10]FluxoFuturo!$A:$Q,17,0) -> 360 | R7: =P7*Q7 -> 316934.52 | S7: =O7/R7 -> 0.96543628 | T7: 9139.64 | U7: 9139.64 | V7: 2336.21 | W7: 2336.21 | X7: 2336.21 | Y7: 2336.21 | Z7: 2336.21 | AA7: 2336.21 | AB7: 2336.21 | AC7: 2336.21 | AD7: 16583.4 | AE7: 2336.21 | AF7: 2336.21 | AG7: 2336.21 | AH7: 2336.21 | AI7: 2336.21 | AJ7: 2336.21 | AK7: 2336.21 | AL7: 2336.21 | AM7: 2336.21 | AN7: 2336.21 | AO7: 2336.21 | AP7: 16583.4 | AQ7: 2336.21 | AR7: 2336.21 | AS7: 2336.21 | AT7: 2336.21 | AU7: 2336.21 | AV7: 2336.21 | AW7: 2336.21 | AX7: 2336.21 | AY7: 2336.21 | AZ7: 2336.21 | BA7: 2336.21 | BB7: 16583.4 | BC7: 2336.21 | BD7: 2336.21 | BE7: 2336.21 | BF7: 2336.21 | BG7: 2336.21 | BH7: 2336.21 | BI7: 2336.21 | BJ7: 2336.21 | BK7: 2336.21 | BL7: 2336.21 | BM7: 2336.21 | BN7: 16583.4 | BO7: 2336.21 | BP7: 2336.21 | BQ7: 2336.21 | BR7: 2336.21 | BS7: 2336.21 | BT7: 2336.21 | BU7: 2336.21 | BV7: 2336.21 | BW7: 2336.21 | BX7: 2336.21 | BY7: 2336.21 | BZ7: 16583.4 | CA7: 2336.21 | CB7: 2336.21 | CC7: 2336.21 | CD7: 2336.21 | CE7: 2336.21 | CF7: 2336.21 | CG7: 2336.21 | CH7: 2336.21 | CI7: 2336.21 | CJ7: 2336.21 | CK7: 2336.21 | CL7: 16583.4 | CM7: 2336.21 | CN7: 2336.21 | CO7: 2336.21 | CP7: 2336.21 | CQ7: 2336.21 | CR7: 2336.21 | CS7: 2336.21 | CT7: 2336.21 | CU7: 2336.21 | CV7: 2336.21 | CW7: 2336.21 | CX7: 16583.4 | CY7: 2336.21 | CZ7: 2336.21 | DA7: 2336.21 | DB7: 2336.21 | DC7: 2336.21 | DD7: 2336.21 | DE7: 2336.21 | DF7: 2336.21 | DG7: 2336.21 | DH7: 2336.21 | DI7: 2336.21 | DJ7: 16583.4 | DK7: 2336.21 | DL7: 2336.21 | DM7: 2336.21 | DN7: 2336.21 | DO7: 2336.21 | DP7: 2336.21 | DQ7: 2336.21 | DR7: 2336.21 | DS7: 2336.21 | DT7: 2336.21 | DU7: 2336.21 | DV7: 16583.4 | DW7: 2336.21 | DX7: 2336.21 | DY7: 2336.21 | DZ7: 2336.21 | EA7: 2336.21 | EB7: 2336.21 | EC7: 2336.21 | ED7: 2336.21 | EE7: 2336.21 | EF7: 2336.21 | EG7: 2336.21 | EH7: 16583.4 | EI7: 2336.21 | EJ7: 2336.21 | EK7: 2336.21 | EL7: 2336.21 | EM7: 2336.21 | EN7: 2336.21 | EO7: 2336.21 | EP7: 2336.21 | EQ7: 2336.21 | ER7: 2336.21 | ES7: 2336.21 | ET7: 16583.4 | EU7: 2336.21 | EV7: 2336.21 | EW7: 2336.21 | EX7: 2336.21 | EY7: 2336.21 | EZ7: 2336.21 | FA7: 2336.21 | FB7: 2336.21 | FC7: 2336.21 | FD7: 2336.21 | FE7: 2336.21 | FF7: 16583.4 | FG7: 2336.21 | FH7: 2336.21 | FI7: 2336.21 | FJ7: 2336.21 | FK7: 2336.21 | FL7: 2336.21 | FM7: 2336.21 | FN7: 2336.21 | FO7: 2336.21 | FP7: 2336.21 | FQ7: 2336.21 | FR7: 16583.4 | FS7: 2336.21 | FT7: 2336.21 | FU7: 2336.21 | FV7: 2336.21 | FW7: 2336.21 | FX7: 2336.21 | FY7: 2336.21 | FZ7: 2336.21 | GA7: 2336.21 | GB7: 2336.21 | GC7: 2336.21 | GD7: 16583.39 | GE7: 2336.21 | GF7: 2336.21 | GG7: 2336.21 | GH7: 2335.88 | GI7: 136054
A8: 135654 | B8: =_xlfn.XLOOKUP(A8,[9]Planilha1!$L:$L,[9]Planilha1!$B:$B,,0) -> 6379 | C8: Jorge Miguel Gonzales Dutra | D8: 011.205.931-74 | E8: 0.1003 | F8: SWISS PARK ANAPOLIS | G8: Swiss Park Zurich - Anápolis | H8: =VLOOKUP(B8,Elegibilidade!A:I,9,0) -> Elegível | I8: 144 | J8: 0 | K8: =NPV(0.8%,T8:GH8) -> 335978.93 | L8: =J8+K8 -> 335978.93 | M8: Adimplente | N8: =VLOOKUP(M8,Base!A:B,2,0)*L8 -> 335978.93 | O8: =NPV((1+12%)^(1/12)-1,T8:GH8) -> 308488.53 | P8: =Vendas!$J$1 -> 880.37366 | Q8: =VLOOKUP(A8,[10]FluxoFuturo!$A:$Q,17,0) -> 453.7 | R8: =P8*Q8 -> 399425.53 | S8: =O8/R8 -> 0.77233052 | T8: 3937.96 | U8: 3937.96 | V8: 3937.96 | W8: 3937.96 | X8: 3937.96 | Y8: 3937.96 | Z8: 3937.96 | AA8: 3937.96 | AB8: 3937.96 | AC8: 3937.96 | AD8: 3937.96 | AE8: 3937.96 | AF8: 3937.96 | AG8: 3937.96 | AH8: 3937.96 | AI8: 3937.96 | AJ8: 3937.96 | AK8: 3937.96 | AL8: 3937.96 | AM8: 3937.96 | AN8: 3937.96 | AO8: 3937.96 | AP8: 3937.96 | AQ8: 3937.96 | AR8: 3937.96 | AS8: 3937.96 | AT8: 3937.96 | AU8: 3937.96 | AV8: 3937.96 | AW8: 3937.96 | AX8: 3937.96 | AY8: 3937.96 | AZ8: 3937.96 | BA8: 3937.96 | BB8: 3937.96 | BC8: 3937.96 | BD8: 3937.96 | BE8: 3937.96 | BF8: 3937.96 | BG8: 3937.96 | BH8: 3937.96 | BI8: 3937.96 | BJ8: 3937.96 | BK8: 3937.96 | BL8: 3937.96 | BM8: 3937.96 | BN8: 3937.96 | BO8: 3937.96 | BP8: 3937.96 | BQ8: 3937.96 | BR8: 3937.96 | BS8: 3937.96 | BT8: 3937.96 | BU8: 3937.96 | BV8: 3937.96 | BW8: 3937.96 | BX8: 3937.96 | BY8: 3937.96 | BZ8: 3937.96 | CA8: 3937.96 | CB8: 3937.96 | CC8: 3937.96 | CD8: 3937.96 | CE8: 3937.96 | CF8: 3937.96 | CG8: 3937.96 | CH8: 3937.96 | CI8: 3937.96 | CJ8: 3937.96 | CK8: 3937.96 | CL8: 3937.96 | CM8: 3937.96 | CN8: 3937.96 | CO8: 3937.96 | CP8: 3937.96 | CQ8: 3937.96 | CR8: 3937.96 | CS8: 3937.96 | CT8: 3937.96 | CU8: 3937.96 | CV8: 3937.96 | CW8: 3937.96 | CX8: 3937.96 | CY8: 3937.96 | CZ8: 3937.96 | DA8: 3937.96 | DB8: 3937.96 | DC8: 3937.96 | DD8: 3937.96 | DE8: 3937.96 | DF8: 3937.96 | DG8: 3937.96 | DH8: 3937.96 | DI8: 3937.96 | DJ8: 3937.96 | DK8: 3937.96 | DL8: 3937.96 | DM8: 3937.96 | DN8: 3937.96 | DO8: 3937.96 | DP8: 3937.96 | DQ8: 3937.96 | DR8: 3937.96 | DS8: 3937.96 | DT8: 3937.96 | DU8: 3937.96 | DV8: 3937.96 | DW8: 3937.96 | DX8: 3937.96 | DY8: 3937.96 | DZ8: 3937.96 | EA8: 3937.96 | EB8: 3937.96 | EC8: 3937.96 | ED8: 3937.96 | EE8: 3937.96 | EF8: 3937.96 | EG8: 3937.96 | EH8: 3937.96 | EI8: 3937.96 | EJ8: 3937.96 | EK8: 3937.96 | EL8: 3937.96 | EM8: 3937.96 | EN8: 3937.96 | EO8: 3937.96 | EP8: 3937.96 | EQ8: 3937.96 | ER8: 3937.96 | ES8: 3937.96 | ET8: 3937.96 | EU8: 3937.96 | EV8: 3937.96 | EW8: 3937.96 | EX8: 3937.96 | EY8: 3937.96 | EZ8: 3937.96 | FA8: 3937.96 | FB8: 3937.96 | FC8: 3937.96 | FD8: 3937.96 | FE8: 3937.96 | FF8: 3937.96 | FG8: 3937.96 | FH8: 0 | FI8: 0 | FJ8: 0 | FK8: 0 | FL8: 0 | FM8: 0 | FN8: 0 | FO8: 0 | FP8: 0 | FQ8: 0 | FR8: 0 | FS8: 0 | FT8: 0 | FU8: 0 | FV8: 0 | FW8: 0 | FX8: 0 | FY8: 0 | FZ8: 0 | GA8: 0 | GB8: 0 | GC8: 0 | GD8: 0 | GE8: 0 | GF8: 0 | GG8: 0 | GH8: 0 | GI8: 135654
A9: 135924 | B9: =_xlfn.XLOOKUP(A9,[9]Planilha1!$L:$L,[9]Planilha1!$B:$B,,0) -> 6498 | C9: Camila Moreira De Queiroz Alencar | D9: 054.505.581-47 | E9: 0.100339 | F9: SWISS PARK ANAPOLIS | G9: Swiss Park Zurich - Anápolis | H9: =VLOOKUP(B9,Elegibilidade!A:I,9,0) -> Elegível | I9: 160 | J9: 0 | K9: =NPV(0.8%,T9:GH9) -> 335837.85 | L9: =J9+K9 -> 335837.85 | M9: Adimplente | N9: =VLOOKUP(M9,Base!A:B,2,0)*L9 -> 335837.85 | O9: =NPV((1+12%)^(1/12)-1,T9:GH9) -> 306513.31 | P9: =Vendas!$J$1 -> 880.37366 | Q9: =VLOOKUP(A9,[10]FluxoFuturo!$A:$Q,17,0) -> 360.39 | R9: =P9*Q9 -> 317277.86 | S9: =O9/R9 -> 0.96607215 | T9: 2647.37 | U9: 2647.37 | V9: 2647.37 | W9: 2647.37 | X9: 2647.37 | Y9: 2647.37 | Z9: 2647.37 | AA9: 2647.37 | AB9: 16626.89 | AC9: 2647.37 | AD9: 2647.37 | AE9: 2647.37 | AF9: 2647.37 | AG9: 2647.37 | AH9: 2647.37 | AI9: 2647.37 | AJ9: 2647.37 | AK9: 2647.37 | AL9: 2647.37 | AM9: 2647.37 | AN9: 16626.89 | AO9: 2647.37 | AP9: 2647.37 | AQ9: 2647.37 | AR9: 2647.37 | AS9: 2647.37 | AT9: 2647.37 | AU9: 2647.37 | AV9: 2647.37 | AW9: 2647.37 | AX9: 2647.37 | AY9: 2647.37 | AZ9: 16626.89 | BA9: 2647.37 | BB9: 2647.37 | BC9: 2647.37 | BD9: 2647.37 | BE9: 2647.37 | BF9: 2647.37 | BG9: 2647.37 | BH9: 2647.37 | BI9: 2647.37 | BJ9: 2647.37 | BK9: 2647.37 | BL9: 16626.89 | BM9: 2647.37 | BN9: 2647.37 | BO9: 2647.37 | BP9: 2647.37 | BQ9: 2647.37 | BR9: 2647.37 | BS9: 2647.37 | BT9: 2647.37 | BU9: 2647.37 | BV9: 2647.37 | BW9: 2647.37 | BX9: 16626.89 | BY9: 2647.37 | BZ9: 2647.37 | CA9: 2647.37 | CB9: 2647.37 | CC9: 2647.37 | CD9: 2647.37 | CE9: 2647.37 | CF9: 2647.37 | CG9: 2647.37 | CH9: 2647.37 | CI9: 2647.37 | CJ9: 16626.89 | CK9: 2647.37 | CL9: 2647.37 | CM9: 2647.37 | CN9: 2647.37 | CO9: 2647.37 | CP9: 2647.37 | CQ9: 2647.37 | CR9: 2647.37 | CS9: 2647.37 | CT9: 2647.37 | CU9: 2647.37 | CV9: 16626.89 | CW9: 2647.37 | CX9: 2647.37 | CY9: 2647.37 | CZ9: 2647.37 | DA9: 2647.37 | DB9: 2647.37 | DC9: 2647.37 | DD9: 2647.37 | DE9: 2647.37 | DF9: 2647.37 | DG9: 2647.37 | DH9: 16626.89 | DI9: 2647.37 | DJ9: 2647.37 | DK9: 2647.37 | DL9: 2647.37 | DM9: 2647.37 | DN9: 2647.37 | DO9: 2647.37 | DP9: 2647.37 | DQ9: 2647.37 | DR9: 2647.37 | DS9: 2647.37 | DT9: 16626.89 | DU9: 2647.37 | DV9: 2647.37 | DW9: 2647.37 | DX9: 2647.37 | DY9: 2647.37 | DZ9: 2647.37 | EA9: 2647.37 | EB9: 2647.37 | EC9: 2647.37 | ED9: 2647.37 | EE9: 2647.37 | EF9: 16626.89 | EG9: 2647.37 | EH9: 2647.37 | EI9: 2647.37 | EJ9: 2647.37 | EK9: 2647.37 | EL9: 2647.37 | EM9: 2647.37 | EN9: 2647.37 | EO9: 2647.37 | EP9: 2647.37 | EQ9: 2647.37 | ER9: 16626.89 | ES9: 2647.37 | ET9: 2647.37 | EU9: 2647.37 | EV9: 2647.37 | EW9: 2647.37 | EX9: 2647.37 | EY9: 2647.37 | EZ9: 2647.37 | FA9: 2647.37 | FB9: 2647.37 | FC9: 2647.37 | FD9: 16626.85 | FE9: 2647.37 | FF9: 2647.37 | FG9: 2647.37 | FH9: 2647.37 | FI9: 2647.37 | FJ9: 2647.37 | FK9: 2647.37 | FL9: 2647.37 | FM9: 2647.37 | FN9: 2647.37 | FO9: 2647.37 | FP9: 2647.37 | FQ9: 2647.37 | FR9: 2647.37 | FS9: 2647.37 | FT9: 2647.37 | FU9: 2647.37 | FV9: 2647.37 | FW9: 2647.23 | FX9: 0 | FY9: 0 | FZ9: 0 | GA9: 0 | GB9: 0 | GC9: 0 | GD9: 0 | GE9: 0 | GF9: 0 | GG9: 0 | GH9: 0 | GI9: 135924
A10: 135652 | B10: =_xlfn.XLOOKUP(A10,[9]Planilha1!$L:$L,[9]Planilha1!$B:$B,,0) -> 6414 | C10: Joao Vitor Florian | D10: 753.943.751-00 | E10: 0.1003 | F10: SWISS PARK ANAPOLIS | G10: Swiss Park Zurich - Anápolis | H10: =VLOOKUP(B10,Elegibilidade!A:I,9,0) -> Elegível | I10: 152 | J10: 0 | K10: =NPV(0.8%,T10:GH10) -> 333730.53 | L10: =J10+K10 -> 333730.53 | M10: Adimplente | N10: =VLOOKUP(M10,Base!A:B,2,0)*L10 -> 333730.53 | O10: =NPV((1+12%)^(1/12)-1,T10:GH10) -> 305353.08 | P10: =Vendas!$J$1 -> 880.37366 | Q10: =VLOOKUP(A10,[10]FluxoFuturo!$A:$Q,17,0) -> 385.77 | R10: =P10*Q10 -> 339621.75 | S10: =O10/R10 -> 0.89909755 | T10: 3802.39 | U10: 3802.39 | V10: 3802.39 | W10: 3802.39 | X10: 3802.39 | Y10: 3802.39 | Z10: 3802.39 | AA10: 3802.39 | AB10: 3802.39 | AC10: 3802.39 | AD10: 3802.39 | AE10: 3802.39 | AF10: 3802.39 | AG10: 3802.39 | AH10: 3802.39 | AI10: 3802.39 | AJ10: 3802.39 | AK10: 3802.39 | AL10: 3802.39 | AM10: 3802.39 | AN10: 3802.39 | AO10: 3802.39 | AP10: 3802.39 | AQ10: 3802.39 | AR10: 3802.39 | AS10: 3802.39 | AT10: 3802.39 | AU10: 3802.39 | AV10: 3802.39 | AW10: 3802.39 | AX10: 3802.39 | AY10: 3802.39 | AZ10: 3802.39 | BA10: 3802.39 | BB10: 3802.39 | BC10: 3802.39 | BD10: 3802.39 | BE10: 3802.39 | BF10: 3802.39 | BG10: 3802.39 | BH10: 3802.39 | BI10: 3802.39 | BJ10: 3802.39 | BK10: 3802.39 | BL10: 3802.39 | BM10: 3802.39 | BN10: 3802.39 | BO10: 3802.39 | BP10: 3802.39 | BQ10: 3802.39 | BR10: 3802.39 | BS10: 3802.39 | BT10: 3802.39 | BU10: 3802.39 | BV10: 3802.39 | BW10: 3802.39 | BX10: 3802.39 | BY10: 3802.39 | BZ10: 3802.39 | CA10: 3802.39 | CB10: 3802.39 | CC10: 3802.39 | CD10: 3802.39 | CE10: 3802.39 | CF10: 3802.39 | CG10: 3802.39 | CH10: 3802.39 | CI10: 3802.39 | CJ10: 3802.39 | CK10: 3802.39 | CL10: 3802.39 | CM10: 3802.39 | CN10: 3802.39 | CO10: 3802.39 | CP10: 3802.39 | CQ10: 3802.39 | CR10: 3802.39 | CS10: 3802.39 | CT10: 3802.39 | CU10: 3802.39 | CV10: 3802.39 | CW10: 3802.39 | CX10: 3802.39 | CY10: 3802.39 | CZ10: 3802.39 | DA10: 3802.39 | DB10: 3802.39 | DC10: 3802.39 | DD10: 3802.39 | DE10: 3802.39 | DF10: 3802.39 | DG10: 3802.39 | DH10: 3802.39 | DI10: 3802.39 | DJ10: 3802.39 | DK10: 3802.39 | DL10: 3802.39 | DM10: 3802.39 | DN10: 3802.39 | DO10: 3802.39 | DP10: 3802.39 | DQ10: 3802.39 | DR10: 3802.39 | DS10: 3802.39 | DT10: 3802.39 | DU10: 3802.39 | DV10: 3802.39 | DW10: 3802.39 | DX10: 3802.39 | DY10: 3802.39 | DZ10: 3802.39 | EA10: 3802.39 | EB10: 3802.39 | EC10: 3802.39 | ED10: 3802.39 | EE10: 3802.39 | EF10: 3802.39 | EG10: 3802.39 | EH10: 3802.39 | EI10: 3802.39 | EJ10: 3802.39 | EK10: 3802.39 | EL10: 3802.39 | EM10: 3802.39 | EN10: 3802.39 | EO10: 3802.39 | EP10: 3802.39 | EQ10: 3802.39 | ER10: 3802.39 | ES10: 3802.39 | ET10: 3802.39 | EU10: 3802.39 | EV10: 3802.39 | EW10: 3802.39 | EX10: 3802.39 | EY10: 3802.39 | EZ10: 3802.39 | FA10: 3802.39 | FB10: 3802.39 | FC10: 3802.39 | FD10: 3802.39 | FE10: 3802.39 | FF10: 3802.39 | FG10: 3802.39 | FH10: 3802.39 | FI10: 3802.39 | FJ10: 3802.39 | FK10: 3802.39 | FL10: 3802.39 | FM10: 3802.39 | FN10: 3802.39 | FO10: 3802.42 | FP10: 0 | FQ10: 0 | FR10: 0 | FS10: 0 | FT10: 0 | FU10: 0 | FV10: 0 | FW10: 0 | FX10: 0 | FY10: 0 | FZ10: 0 | GA10: 0 | GB10: 0 | GC10: 0 | GD10: 0 | GE10: 0 | GF10: 0 | GG10: 0 | GH10: 0 | GI10: 135652
